BEGIN:VCALENDAR
VERSION:2.0
PRODID:-//KlassikAuto.pl - ECPv6.7.0//NONSGML v1.0//EN
CALSCALE:GREGORIAN
METHOD:PUBLISH
X-WR-CALNAME:KlassikAuto.pl
X-ORIGINAL-URL:https://klassikauto.pl
X-WR-CALDESC:Wydarzenia dla KlassikAuto.pl
REFRESH-INTERVAL;VALUE=DURATION:PT1H
X-Robots-Tag:noindex
X-PUBLISHED-TTL:PT1H
BEGIN:VTIMEZONE
TZID:Europe/Helsinki
BEGIN:DAYLIGHT
TZOFFSETFROM:+0200
TZOFFSETTO:+0300
TZNAME:EEST
DTSTART:20260329T010000
END:DAYLIGHT
BEGIN:STANDARD
TZOFFSETFROM:+0300
TZOFFSETTO:+0200
TZNAME:EET
DTSTART:20261025T010000
END:STANDARD
END:VTIMEZONE
BEGIN:VEVENT
DTSTART;TZID=Europe/Helsinki:20260429T073000
DTEND;TZID=Europe/Helsinki:20260830T180000
DTSTAMP:20260421T173925
CREATED:20251227T161023Z
LAST-MODIFIED:20251227T161023Z
UID:113884-1777447800-1788112800@klassikauto.pl
SUMMARY:Ducati Day Assen 2026
DESCRIPTION:
URL:https://klassikauto.pl/impreza/ducati-day-assen-2026/
LOCATION:Assen\, Holandia
CATEGORIES:Zlot
END:VEVENT
BEGIN:VEVENT
DTSTART;VALUE=DATE:20260702
DTEND;VALUE=DATE:20260705
DTSTAMP:20260421T173925
CREATED:20260325T172910Z
LAST-MODIFIED:20260325T172910Z
UID:115574-1782950400-1783209599@klassikauto.pl
SUMMARY:Valvoline Rajd Małopolski
DESCRIPTION:
URL:https://klassikauto.pl/impreza/valvoline-rajd-malopolski/
LOCATION:Wadowice
CATEGORIES:Rajd
END:VEVENT
BEGIN:VEVENT
DTSTART;VALUE=DATE:20260704
DTEND;VALUE=DATE:20260705
DTSTAMP:20260421T173925
CREATED:20251214T194411Z
LAST-MODIFIED:20251214T195129Z
UID:113630-1783123200-1783209599@klassikauto.pl
SUMMARY:JDM & Exoten\, Century Meet
DESCRIPTION:
URL:https://klassikauto.pl/impreza/jdm-exoten-century-meet/
LOCATION:Kolonia\, Niemcy
CATEGORIES:Zlot
END:VEVENT
BEGIN:VEVENT
DTSTART;VALUE=DATE:20260705
DTEND;VALUE=DATE:20260706
DTSTAMP:20260421T173925
CREATED:20260207T165213Z
LAST-MODIFIED:20260207T165213Z
UID:114325-1783209600-1783295999@klassikauto.pl
SUMMARY:V Runda Classicauto Cup 2026\, Motopark Ułęż
DESCRIPTION:
URL:https://klassikauto.pl/impreza/v-runda-classicauto-cup-2026-motopark-ulez/
LOCATION:Nowodwór
CATEGORIES:Rajd
END:VEVENT
BEGIN:VEVENT
DTSTART;VALUE=DATE:20260710
DTEND;VALUE=DATE:20260716
DTSTAMP:20260421T173925
CREATED:20260208T104358Z
LAST-MODIFIED:20260208T104358Z
UID:114447-1783641600-1784159999@klassikauto.pl
SUMMARY:IV Gruz Rally Wschodnie Rubieże PL
DESCRIPTION:
URL:https://klassikauto.pl/impreza/iv-gruz-rally-wschodnie-rubieze-pl/
CATEGORIES:Rajd
END:VEVENT
BEGIN:VEVENT
DTSTART;TZID=Europe/Helsinki:20260716T160000
DTEND;TZID=Europe/Helsinki:20260719T120000
DTSTAMP:20260421T173925
CREATED:20260308T092625Z
LAST-MODIFIED:20260308T092625Z
UID:115215-1784217600-1784462400@klassikauto.pl
SUMMARY:XVIII Ogólnopolski Zlot Zabytkowych Citroenów
DESCRIPTION:
URL:https://klassikauto.pl/impreza/xviii-ogolnopolski-zlot-zabytkowych-citroenow/
LOCATION:Łódź
CATEGORIES:Zlot
END:VEVENT
BEGIN:VEVENT
DTSTART;VALUE=DATE:20260717
DTEND;VALUE=DATE:20260719
DTSTAMP:20260421T173925
CREATED:20260325T175026Z
LAST-MODIFIED:20260325T175026Z
UID:115591-1784246400-1784419199@klassikauto.pl
SUMMARY:XVI Zlot Weteranów Szos – Historia na Kołach
DESCRIPTION:
URL:https://klassikauto.pl/impreza/xvi-zlot-weteranow-szos-historia-na-kolach/
LOCATION:Starogard Gdański
CATEGORIES:Zlot
END:VEVENT
BEGIN:VEVENT
DTSTART;TZID=Europe/Helsinki:20260718T130000
DTEND;TZID=Europe/Helsinki:20260718T130000
DTSTAMP:20260421T173925
CREATED:20260329T104728Z
LAST-MODIFIED:20260329T104728Z
UID:115779-1784379600-1784379600@klassikauto.pl
SUMMARY:3 Zlot Pojazdów Klasycznych
DESCRIPTION:
URL:https://klassikauto.pl/impreza/3-zlot-pojazdow-klasycznych/
LOCATION:Przecza
CATEGORIES:Zlot
END:VEVENT
BEGIN:VEVENT
DTSTART;TZID=Europe/Helsinki:20260719T110000
DTEND;TZID=Europe/Helsinki:20260719T160000
DTSTAMP:20260421T173925
CREATED:20260208T100340Z
LAST-MODIFIED:20260208T100340Z
UID:114409-1784458800-1784476800@klassikauto.pl
SUMMARY:Oldtimermarkt Dortmund – Gallopprennbahn
DESCRIPTION:
URL:https://klassikauto.pl/impreza/oldtimermarkt-dortmund-gallopprennbahn/
LOCATION:Dortmund\, Niemcy
CATEGORIES:Giełda
END:VEVENT
BEGIN:VEVENT
DTSTART;VALUE=DATE:20260722
DTEND;VALUE=DATE:20260726
DTSTAMP:20260421T173925
CREATED:20251214T203534Z
LAST-MODIFIED:20251214T203534Z
UID:113665-1784678400-1785023999@klassikauto.pl
SUMMARY:Ennstal-Classic 2026
DESCRIPTION:
URL:https://klassikauto.pl/impreza/ennstal-classic-2026/
LOCATION:Gröbming Austria
CATEGORIES:Rajd
END:VEVENT
BEGIN:VEVENT
DTSTART;VALUE=DATE:20260724
DTEND;VALUE=DATE:20260727
DTSTAMP:20260421T173925
CREATED:20260325T173041Z
LAST-MODIFIED:20260325T173041Z
UID:115577-1784851200-1785110399@klassikauto.pl
SUMMARY:82. Rajd Polski
DESCRIPTION:
URL:https://klassikauto.pl/impreza/82-rajd-polski/
LOCATION:Katowice
CATEGORIES:Rajd
END:VEVENT
BEGIN:VEVENT
DTSTART;VALUE=DATE:20260730
DTEND;VALUE=DATE:20260803
DTSTAMP:20260421T173925
CREATED:20260307T090017Z
LAST-MODIFIED:20260307T090017Z
UID:115135-1785369600-1785715199@klassikauto.pl
SUMMARY:24. Karlovarská Veteran Rallye
DESCRIPTION:
URL:https://klassikauto.pl/impreza/24-karlovarska-veteran-rallye/
LOCATION:Karlove Vary\, Czechy
CATEGORIES:Rajd
END:VEVENT
BEGIN:VEVENT
DTSTART;TZID=Europe/Helsinki:20260731T150000
DTEND;TZID=Europe/Helsinki:20260802T150000
DTSTAMP:20260421T173925
CREATED:20260307T072906Z
LAST-MODIFIED:20260307T072906Z
UID:115090-1785510000-1785682800@klassikauto.pl
SUMMARY:Fanatic Summer Car Show 2026
DESCRIPTION:
URL:https://klassikauto.pl/impreza/fanatic-summer-car-show-2026/
LOCATION:Żędowice
CATEGORIES:Zlot
END:VEVENT
END:VCALENDAR
<!-- RunCloud Hub 2026-04-21 16:39:25 -->