BEGIN:VCALENDAR
VERSION:2.0
PRODID:-//KlassikAuto.pl - ECPv6.7.0//NONSGML v1.0//EN
CALSCALE:GREGORIAN
METHOD:PUBLISH
X-WR-CALNAME:KlassikAuto.pl
X-ORIGINAL-URL:https://klassikauto.pl
X-WR-CALDESC:Wydarzenia dla KlassikAuto.pl
REFRESH-INTERVAL;VALUE=DURATION:PT1H
X-Robots-Tag:noindex
X-PUBLISHED-TTL:PT1H
BEGIN:VTIMEZONE
TZID:Europe/Helsinki
BEGIN:DAYLIGHT
TZOFFSETFROM:+0200
TZOFFSETTO:+0300
TZNAME:EEST
DTSTART:20240331T010000
END:DAYLIGHT
BEGIN:STANDARD
TZOFFSETFROM:+0300
TZOFFSETTO:+0200
TZNAME:EET
DTSTART:20241027T010000
END:STANDARD
BEGIN:DAYLIGHT
TZOFFSETFROM:+0200
TZOFFSETTO:+0300
TZNAME:EEST
DTSTART:20250330T010000
END:DAYLIGHT
BEGIN:STANDARD
TZOFFSETFROM:+0300
TZOFFSETTO:+0200
TZNAME:EET
DTSTART:20251026T010000
END:STANDARD
END:VTIMEZONE
BEGIN:VEVENT
DTSTART;VALUE=DATE:20241212
DTEND;VALUE=DATE:20250227
DTSTAMP:20260422T121843
CREATED:20241222T125721Z
LAST-MODIFIED:20241222T125721Z
UID:107172-1733961600-1740614399@klassikauto.pl
SUMMARY:Wystawa Ikony Motoryzacji\, 4. Edycja
DESCRIPTION:
URL:https://klassikauto.pl/impreza/wystawa-ikony-motoryzacji-4-edycja/
LOCATION:Warszawa
CATEGORIES:Wystawa
END:VEVENT
BEGIN:VEVENT
DTSTART;TZID=Europe/Helsinki:20241219T080000
DTEND;TZID=Europe/Helsinki:20250223T170000
DTSTAMP:20260422T121843
CREATED:20240328T181233Z
LAST-MODIFIED:20240328T181233Z
UID:101118-1734595200-1740330000@klassikauto.pl
SUMMARY:Maserati 110 Years
DESCRIPTION:
URL:https://klassikauto.pl/impreza/maserati-110-years/
LOCATION:Muzeum Autoworld\, Bruksela\, Belgia
CATEGORIES:Wystawa
END:VEVENT
BEGIN:VEVENT
DTSTART;TZID=Europe/Helsinki:20250125T080000
DTEND;TZID=Europe/Helsinki:20250301T170000
DTSTAMP:20260422T121843
CREATED:20241226T110523Z
LAST-MODIFIED:20241226T110523Z
UID:107397-1737792000-1740848400@klassikauto.pl
SUMMARY:Viking Snow 2025
DESCRIPTION:Start: Hamburg\, Niemcy \nMeta: Kristiansand\, Norwegia
URL:https://klassikauto.pl/impreza/viking-snow-2025/
LOCATION:Hamburg\, Niemcy
CATEGORIES:Rajd
END:VEVENT
BEGIN:VEVENT
DTSTART;VALUE=DATE:20250130
DTEND;VALUE=DATE:20250203
DTSTAMP:20260422T121843
CREATED:20241225T102528Z
LAST-MODIFIED:20241225T102528Z
UID:107329-1738195200-1738540799@klassikauto.pl
SUMMARY:67. Elefantentreffen 2025 - Zimowy Zlot Słoni
DESCRIPTION:
URL:https://klassikauto.pl/impreza/67-elefantentreffen-2025-zimowy-zlot-sloni/
LOCATION:Loh\, Niemcy
CATEGORIES:Zlot
END:VEVENT
BEGIN:VEVENT
DTSTART;VALUE=DATE:20250131
DTEND;VALUE=DATE:20250203
DTSTAMP:20260422T121843
CREATED:20241222T135943Z
LAST-MODIFIED:20241222T135943Z
UID:107211-1738281600-1738540799@klassikauto.pl
SUMMARY:Bremen Classic Motorshow
DESCRIPTION:
URL:https://klassikauto.pl/impreza/bremen-classic-motorshow-3/
LOCATION:Bremen\, Niemcy
CATEGORIES:Targi
END:VEVENT
BEGIN:VEVENT
DTSTART;VALUE=DATE:20250131
DTEND;VALUE=DATE:20250203
DTSTAMP:20260422T121843
CREATED:20250204T193308Z
LAST-MODIFIED:20250204T193308Z
UID:108341-1738281600-1738540799@klassikauto.pl
SUMMARY:MP 25 Motorcycle Show
DESCRIPTION:
URL:https://klassikauto.pl/impreza/mp-25-motorcycle-show/
LOCATION:Helsinki\, Finlandia
CATEGORIES:Targi
END:VEVENT
BEGIN:VEVENT
DTSTART;VALUE=DATE:20250131
DTEND;VALUE=DATE:20250203
DTSTAMP:20260422T121843
CREATED:20250204T193510Z
LAST-MODIFIED:20250204T193510Z
UID:108344-1738281600-1738540799@klassikauto.pl
SUMMARY:Automesse Ried
DESCRIPTION:
URL:https://klassikauto.pl/impreza/automesse-ried-2/
LOCATION:Ried im Innkreis\, Austria
CATEGORIES:Targi
END:VEVENT
BEGIN:VEVENT
DTSTART;VALUE=DATE:20250131
DTEND;VALUE=DATE:20250210
DTSTAMP:20260422T121843
CREATED:20241229T120625Z
LAST-MODIFIED:20241229T120625Z
UID:107668-1738281600-1739145599@klassikauto.pl
SUMMARY:Washington Auto Show - Salon Samochodowy w Waszyngtonie 2025
DESCRIPTION:
URL:https://klassikauto.pl/impreza/washington-auto-show-salon-samochodowy-w-waszyngtonie-2025/
LOCATION:Waszyngton\, USA
CATEGORIES:Targi
END:VEVENT
BEGIN:VEVENT
DTSTART;TZID=Europe/Helsinki:20250131T160000
DTEND;TZID=Europe/Helsinki:20250202T120000
DTSTAMP:20260422T121843
CREATED:20241225T102830Z
LAST-MODIFIED:20241225T102830Z
UID:107332-1738339200-1738497600@klassikauto.pl
SUMMARY:V Zlot Zimowy "Lewizna 2025"
DESCRIPTION:
URL:https://klassikauto.pl/impreza/v-zlot-zimowy-lewizna-2025/
LOCATION:Borne Sulinowo
CATEGORIES:Zlot
END:VEVENT
BEGIN:VEVENT
DTSTART;TZID=Europe/Helsinki:20250131T160000
DTEND;TZID=Europe/Helsinki:20250202T120000
DTSTAMP:20260422T121843
CREATED:20241225T111239Z
LAST-MODIFIED:20241225T111239Z
UID:107342-1738339200-1738497600@klassikauto.pl
SUMMARY:III Międzynarodowy Zlot Pojazdów KrAz
DESCRIPTION:
URL:https://klassikauto.pl/impreza/iii-miedzynarodowy-zlot-pojazdow-kraz/
LOCATION:Borne Sulinowo
CATEGORIES:Zlot
END:VEVENT
BEGIN:VEVENT
DTSTART;VALUE=DATE:20250201
DTEND;VALUE=DATE:20250202
DTSTAMP:20260422T121843
CREATED:20250204T174542Z
LAST-MODIFIED:20250204T174634Z
UID:108250-1738368000-1738454399@klassikauto.pl
SUMMARY:Zimowy Moto Weteran Bazar
DESCRIPTION:
URL:https://klassikauto.pl/impreza/zimowy-moto-weteran-bazar/
LOCATION:Łódź
CATEGORIES:Aukcja
END:VEVENT
BEGIN:VEVENT
DTSTART;VALUE=DATE:20250201
DTEND;VALUE=DATE:20250208
DTSTAMP:20260422T121843
CREATED:20241225T112208Z
LAST-MODIFIED:20241225T112208Z
UID:107346-1738368000-1738972799@klassikauto.pl
SUMMARY:Snow Gruz Rally Romania! Zimowa wyprawa naukowo-badawcza
DESCRIPTION:
URL:https://klassikauto.pl/impreza/snow-gruz-rally-romania-zimowa-wyprawa-naukowo-badawcza/
CATEGORIES:Rajd
END:VEVENT
BEGIN:VEVENT
DTSTART;TZID=Europe/Helsinki:20250201T100000
DTEND;TZID=Europe/Helsinki:20250201T143000
DTSTAMP:20260422T121843
CREATED:20241222T133053Z
LAST-MODIFIED:20241222T133053Z
UID:107178-1738404000-1738420200@klassikauto.pl
SUMMARY:Toyota Mobility Day
DESCRIPTION:
URL:https://klassikauto.pl/impreza/toyota-mobility-day/
LOCATION:Kolonia\, Niemcy
CATEGORIES:Wystawa
END:VEVENT
BEGIN:VEVENT
DTSTART;VALUE=DATE:20250202
DTEND;VALUE=DATE:20250203
DTSTAMP:20260422T121843
CREATED:20241228T073737Z
LAST-MODIFIED:20241228T073737Z
UID:107414-1738454400-1738540799@klassikauto.pl
SUMMARY:8 Urodziny Opel Klub Łódzkie
DESCRIPTION:
URL:https://klassikauto.pl/impreza/8-urodziny-opel-klub-lodzkie/
LOCATION:Łódź
CATEGORIES:Zlot
END:VEVENT
BEGIN:VEVENT
DTSTART;TZID=Europe/Helsinki:20250205T080000
DTEND;TZID=Europe/Helsinki:20250209T170000
DTSTAMP:20260422T121843
CREATED:20241225T081434Z
LAST-MODIFIED:20241225T081434Z
UID:107282-1738742400-1739120400@klassikauto.pl
SUMMARY:49. RétroMobile Paris Expo Porte de Versailles
DESCRIPTION:
URL:https://klassikauto.pl/impreza/49-retromobile-paris-expo-porte-de-versailles/
LOCATION:Paryż
CATEGORIES:Targi
END:VEVENT
BEGIN:VEVENT
DTSTART;VALUE=DATE:20250207
DTEND;VALUE=DATE:20250210
DTSTAMP:20260422T121843
CREATED:20241229T120816Z
LAST-MODIFIED:20241229T120816Z
UID:107671-1738886400-1739145599@klassikauto.pl
SUMMARY:Die Motorrad Messe Leipzig
DESCRIPTION:
URL:https://klassikauto.pl/impreza/die-motorrad-messe-leipzig/
LOCATION:Lipsk\, Niemcy
CATEGORIES:Targi
END:VEVENT
BEGIN:VEVENT
DTSTART;TZID=Europe/Helsinki:20250207T080000
DTEND;TZID=Europe/Helsinki:20250209T170000
DTSTAMP:20260422T121843
CREATED:20250204T172932Z
LAST-MODIFIED:20250204T173103Z
UID:108237-1738915200-1739120400@klassikauto.pl
SUMMARY:XVII Zimowy Zlot Motocyklowy Eintopftreffen
DESCRIPTION:
URL:https://klassikauto.pl/impreza/xvii-zimowy-zlot-motocyklowy-eintopftreffen/
LOCATION:Żeleźnica
CATEGORIES:Zlot
END:VEVENT
BEGIN:VEVENT
DTSTART;VALUE=DATE:20250208
DTEND;VALUE=DATE:20250209
DTSTAMP:20260422T121843
CREATED:20241223T091908Z
LAST-MODIFIED:20241223T091908Z
UID:107254-1738972800-1739059199@klassikauto.pl
SUMMARY:SUPEROES 2025\, II Runda
DESCRIPTION:
URL:https://klassikauto.pl/impreza/superoes-2025-ii-runda/
LOCATION:Poznań
CATEGORIES:Rajd
END:VEVENT
BEGIN:VEVENT
DTSTART;TZID=Europe/Helsinki:20250208T093000
DTEND;TZID=Europe/Helsinki:20250209T173000
DTSTAMP:20260422T121843
CREATED:20241225T111726Z
LAST-MODIFIED:20241225T111808Z
UID:107344-1739007000-1739122200@klassikauto.pl
SUMMARY:42. Moto Retro Wieze
DESCRIPTION:
URL:https://klassikauto.pl/impreza/42-moto-retro-wieze/
LOCATION:Lebbeke\, Belgia
CATEGORIES:Zlot
END:VEVENT
BEGIN:VEVENT
DTSTART;TZID=Europe/Helsinki:20250208T120000
DTEND;TZID=Europe/Helsinki:20250209T170000
DTSTAMP:20260422T121843
CREATED:20241225T105752Z
LAST-MODIFIED:20241225T105752Z
UID:107336-1739016000-1739120400@klassikauto.pl
SUMMARY:KUSTOMHEAD 2025 - wystawa zabytkowych aut amerykańskich\, motocykli i rowerów custom
DESCRIPTION:
URL:https://klassikauto.pl/impreza/kustomhead-2025-wystawa-zabytkowych-aut-amerykanskich-motocykli-i-rowerow-custom/
LOCATION:Wrocław\, Wrocław\, Poland
CATEGORIES:Wystawa
END:VEVENT
BEGIN:VEVENT
DTSTART;VALUE=DATE:20250209
DTEND;VALUE=DATE:20250210
DTSTAMP:20260422T121843
CREATED:20241226T084425Z
LAST-MODIFIED:20241226T084425Z
UID:107363-1739059200-1739145599@klassikauto.pl
SUMMARY:Ogólnopolska Giełda Modeli Samochodów im. Sławoja Gwiazdowskiego
DESCRIPTION:
URL:https://klassikauto.pl/impreza/ogolnopolska-gielda-modeli-samochodow-im-slawoja-gwiazdowskiego-17/
LOCATION:Warszawa
CATEGORIES:Giełda
END:VEVENT
BEGIN:VEVENT
DTSTART;VALUE=DATE:20250214
DTEND;VALUE=DATE:20250217
DTSTAMP:20260422T121843
CREATED:20241226T085051Z
LAST-MODIFIED:20241226T085051Z
UID:107373-1739491200-1739750399@klassikauto.pl
SUMMARY:54. Winterrallye „Rund um Schotten”
DESCRIPTION:
URL:https://klassikauto.pl/impreza/54-winterrallye-rund-um-schotten/
LOCATION:Schotten\, Niemcy
CATEGORIES:Rajd
END:VEVENT
BEGIN:VEVENT
DTSTART;VALUE=DATE:20250214
DTEND;VALUE=DATE:20250217
DTSTAMP:20260422T121843
CREATED:20241226T085851Z
LAST-MODIFIED:20241226T085851Z
UID:107380-1739491200-1739750399@klassikauto.pl
SUMMARY:VI Bieszczadzki Zimowy Zlot Motocyklowy
DESCRIPTION:
URL:https://klassikauto.pl/impreza/vi-bieszczadzki-zimowy-zlot-motocyklowy/
LOCATION:Liszna
CATEGORIES:Zlot
END:VEVENT
BEGIN:VEVENT
DTSTART;VALUE=DATE:20250214
DTEND;VALUE=DATE:20250217
DTSTAMP:20260422T121843
CREATED:20241229T111456Z
LAST-MODIFIED:20241229T111456Z
UID:107640-1739491200-1739750399@klassikauto.pl
SUMMARY:35th edition of classic salon Ghent Collection Cars 2025
DESCRIPTION:
URL:https://klassikauto.pl/impreza/35th-edition-of-classic-salon-ghent-collection-cars-2025/
LOCATION:Gandawa\, Belgia
CATEGORIES:Targi
END:VEVENT
BEGIN:VEVENT
DTSTART;TZID=Europe/Helsinki:20250215T090000
DTEND;TZID=Europe/Helsinki:20250215T160000
DTSTAMP:20260422T121843
CREATED:20241229T101139Z
LAST-MODIFIED:20241229T101139Z
UID:107597-1739610000-1739635200@klassikauto.pl
SUMMARY:Der Riesaer Winterteilemarkt für Kraftfahrzeug-Veteranen
DESCRIPTION:
URL:https://klassikauto.pl/impreza/der-riesaer-winterteilemarkt-fur-kraftfahrzeug-veteranen/
LOCATION:Riesa\, Niemcy
CATEGORIES:Giełda
END:VEVENT
BEGIN:VEVENT
DTSTART;VALUE=DATE:20250220
DTEND;VALUE=DATE:20250224
DTSTAMP:20260422T121843
CREATED:20241226T085558Z
LAST-MODIFIED:20241226T085558Z
UID:107378-1740009600-1740355199@klassikauto.pl
SUMMARY:MOTORbeurs Utrecht 2025
DESCRIPTION:
URL:https://klassikauto.pl/impreza/motorbeurs-utrecht-2025/
LOCATION:Utrecht\, Holandia
CATEGORIES:Targi
END:VEVENT
BEGIN:VEVENT
DTSTART;VALUE=DATE:20250221
DTEND;VALUE=DATE:20250224
DTSTAMP:20260422T121843
CREATED:20250204T195606Z
LAST-MODIFIED:20250204T195606Z
UID:108352-1740096000-1740355199@klassikauto.pl
SUMMARY:Motorclassico
DESCRIPTION:
URL:https://klassikauto.pl/impreza/motorclassico-2/
LOCATION:Lizbona\, Portugalia
CATEGORIES:Targi
END:VEVENT
BEGIN:VEVENT
DTSTART;VALUE=DATE:20250221
DTEND;VALUE=DATE:20250224
DTSTAMP:20260422T121843
CREATED:20250204T195727Z
LAST-MODIFIED:20250204T195824Z
UID:108354-1740096000-1740355199@klassikauto.pl
SUMMARY:Race Retro - historic motorsport show
DESCRIPTION:
URL:https://klassikauto.pl/impreza/race-retro-historic-motorsport-show/
LOCATION:Stoneleigh Park Kenilworth
CATEGORIES:Rajd
END:VEVENT
BEGIN:VEVENT
DTSTART;VALUE=DATE:20250221
DTEND;VALUE=DATE:20250224
DTSTAMP:20260422T121843
CREATED:20250204T200231Z
LAST-MODIFIED:20250204T200231Z
UID:108356-1740096000-1740355199@klassikauto.pl
SUMMARY:Zimowe spotkanie miłośników klasycznych VW Mazowsze
DESCRIPTION:
URL:https://klassikauto.pl/impreza/zimowe-spotkanie-milosnikow-klasycznych-vw-mazowsze/
LOCATION:Andrychów
CATEGORIES:Zlot
END:VEVENT
BEGIN:VEVENT
DTSTART;TZID=Europe/Helsinki:20250221T100000
DTEND;TZID=Europe/Helsinki:20250223T170000
DTSTAMP:20260422T121843
CREATED:20250204T195350Z
LAST-MODIFIED:20250204T195350Z
UID:108350-1740132000-1740330000@klassikauto.pl
SUMMARY:Salón ClassicMadrid
DESCRIPTION:
URL:https://klassikauto.pl/impreza/salon-classicmadrid/
LOCATION:Madryd\, Hiszpania
CATEGORIES:Targi
END:VEVENT
END:VCALENDAR
<!-- RunCloud Hub 2026-04-22 11:18:43 -->