BEGIN:VCALENDAR
VERSION:2.0
PRODID:-//KlassikAuto.pl - ECPv6.7.0//NONSGML v1.0//EN
CALSCALE:GREGORIAN
METHOD:PUBLISH
X-ORIGINAL-URL:https://klassikauto.pl
X-WR-CALDESC:Wydarzenia dla KlassikAuto.pl
REFRESH-INTERVAL;VALUE=DURATION:PT1H
X-Robots-Tag:noindex
X-PUBLISHED-TTL:PT1H
BEGIN:VTIMEZONE
TZID:Europe/Helsinki
BEGIN:DAYLIGHT
TZOFFSETFROM:+0200
TZOFFSETTO:+0300
TZNAME:EEST
DTSTART:20220327T010000
END:DAYLIGHT
BEGIN:STANDARD
TZOFFSETFROM:+0300
TZOFFSETTO:+0200
TZNAME:EET
DTSTART:20221030T010000
END:STANDARD
BEGIN:DAYLIGHT
TZOFFSETFROM:+0200
TZOFFSETTO:+0300
TZNAME:EEST
DTSTART:20230326T010000
END:DAYLIGHT
BEGIN:STANDARD
TZOFFSETFROM:+0300
TZOFFSETTO:+0200
TZNAME:EET
DTSTART:20231029T010000
END:STANDARD
END:VTIMEZONE
BEGIN:VEVENT
DTSTART;TZID=Europe/Helsinki:20221023T080000
DTEND;TZID=Europe/Helsinki:20221204T170000
DTSTAMP:20260420T121100
CREATED:20220313T120652Z
LAST-MODIFIED:20220313T120652Z
UID:82002-1666512000-1670173200@klassikauto.pl
SUMMARY:75 anni di Ferrari
DESCRIPTION:
URL:https://klassikauto.pl/impreza/75-anni-di-ferrari/
LOCATION:Museum Autoworld\, Bruksela\, Belgia
CATEGORIES:Wystawa
END:VEVENT
BEGIN:VEVENT
DTSTART;TZID=Europe/Helsinki:20221201T080000
DTEND;TZID=Europe/Helsinki:20221204T170000
DTSTAMP:20260420T121100
CREATED:20221108T172248Z
LAST-MODIFIED:20221108T172248Z
UID:86262-1669881600-1670173200@klassikauto.pl
SUMMARY:Retro Classic Bavaria
DESCRIPTION:
URL:https://klassikauto.pl/impreza/retro-classic-bavaria/
LOCATION:Nürnberg\, Niemcy
CATEGORIES:Targi
END:VEVENT
BEGIN:VEVENT
DTSTART;TZID=Europe/Helsinki:20221203T080000
DTEND;TZID=Europe/Helsinki:20221211T170000
DTSTAMP:20260420T121100
CREATED:20220410T111527Z
LAST-MODIFIED:20220416T140100Z
UID:82654-1670054400-1670778000@klassikauto.pl
SUMMARY:Essen Motor Show
DESCRIPTION:
URL:https://klassikauto.pl/impreza/essen-motor-show-2/
LOCATION:Essen\, Niemcy
CATEGORIES:Targi
END:VEVENT
BEGIN:VEVENT
DTSTART;TZID=Europe/Helsinki:20221203T170000
DTEND;TZID=Europe/Helsinki:20221203T210000
DTSTAMP:20260420T121100
CREATED:20221108T171259Z
LAST-MODIFIED:20221108T171259Z
UID:86258-1670086800-1670101200@klassikauto.pl
SUMMARY:Mikołajkowy Zlot Charytatywny z ISB
DESCRIPTION:
URL:https://klassikauto.pl/impreza/mikolajkowy-zlot-charytatywny-z-isb/
LOCATION:Bytom
CATEGORIES:Zlot
END:VEVENT
BEGIN:VEVENT
DTSTART;TZID=Europe/Helsinki:20221203T170000
DTEND;TZID=Europe/Helsinki:20221203T213000
DTSTAMP:20260420T121100
CREATED:20221108T171119Z
LAST-MODIFIED:20221108T171119Z
UID:86256-1670086800-1670103000@klassikauto.pl
SUMMARY:Charytatywny Zlot Mikołajkowy z TurboFamily
DESCRIPTION:
URL:https://klassikauto.pl/impreza/charytatywny-zlot-mikolajkowy-z-turbofamily/
LOCATION:Wrocław\, Wrocław\, Poland
CATEGORIES:Zlot
END:VEVENT
BEGIN:VEVENT
DTSTART;TZID=Europe/Helsinki:20221209T080000
DTEND;TZID=Europe/Helsinki:20230129T170000
DTSTAMP:20260420T121100
CREATED:20221222T135738Z
LAST-MODIFIED:20221222T135738Z
UID:86893-1670572800-1675011600@klassikauto.pl
SUMMARY:Supercars 2 - Road vs Race Edition
DESCRIPTION:
URL:https://klassikauto.pl/impreza/supercars-2-road-vs-race-edition/
LOCATION:Muzeum Autoworld\, Bruksela\, Belgia
CATEGORIES:Wystawa
END:VEVENT
BEGIN:VEVENT
DTSTART;TZID=Europe/Helsinki:20221210T080000
DTEND;TZID=Europe/Helsinki:20221210T170000
DTSTAMP:20260420T121100
CREATED:20221108T165832Z
LAST-MODIFIED:20221108T165832Z
UID:86250-1670659200-1670691600@klassikauto.pl
SUMMARY:Burza historických vozidel a dílů Chotusice
DESCRIPTION:
URL:https://klassikauto.pl/impreza/burza-historickych-vozidel-a-dilu-chotusice/
LOCATION:Chotusice u Čáslavi\, Czechy
CATEGORIES:Aukcja
END:VEVENT
BEGIN:VEVENT
DTSTART;TZID=Europe/Helsinki:20221211T080000
DTEND;TZID=Europe/Helsinki:20221211T170000
DTSTAMP:20260420T121100
CREATED:20221108T170012Z
LAST-MODIFIED:20221108T170012Z
UID:86252-1670745600-1670778000@klassikauto.pl
SUMMARY:Auto-Moto-burza Valy
DESCRIPTION:
URL:https://klassikauto.pl/impreza/auto-moto-burza-valy-9/
LOCATION:Valy u Přelouče\, Czechy
CATEGORIES:Aukcja
END:VEVENT
BEGIN:VEVENT
DTSTART;TZID=Europe/Helsinki:20221211T080000
DTEND;TZID=Europe/Helsinki:20221211T170000
DTSTAMP:20260420T121100
CREATED:20221108T183229Z
LAST-MODIFIED:20221108T183229Z
UID:86280-1670745600-1670778000@klassikauto.pl
SUMMARY:Ogólnopolska Giełda Modeli Samochodów im. Sławoja Gwiazdowskiego
DESCRIPTION:
URL:https://klassikauto.pl/impreza/ogolnopolska-gielda-modeli-samochodow-im-slawoja-gwiazdowskiego-8/
CATEGORIES:Aukcja
END:VEVENT
BEGIN:VEVENT
DTSTART;TZID=Europe/Helsinki:20221216T080000
DTEND;TZID=Europe/Helsinki:20221216T170000
DTSTAMP:20260420T121100
CREATED:20221108T173307Z
LAST-MODIFIED:20221108T173307Z
UID:86267-1671177600-1671210000@klassikauto.pl
SUMMARY:The Bond Street Sale
DESCRIPTION:Important Collectors’ Motor Cars
URL:https://klassikauto.pl/impreza/the-bond-street-sale/
LOCATION:Londyn\, Wielka Brytania
CATEGORIES:Aukcja
END:VEVENT
BEGIN:VEVENT
DTSTART;TZID=Europe/Helsinki:20221229T080000
DTEND;TZID=Europe/Helsinki:20221229T170000
DTSTAMP:20260420T121100
CREATED:20221108T173543Z
LAST-MODIFIED:20221108T173543Z
UID:86270-1672300800-1672333200@klassikauto.pl
SUMMARY:Classic Car Auction
DESCRIPTION:Oldtimer Galerie Gstaad
URL:https://klassikauto.pl/impreza/classic-car-auction-3/
LOCATION:Gstaad\, Szwajcaria
CATEGORIES:Aukcja
END:VEVENT
BEGIN:VEVENT
DTSTART;TZID=Europe/Helsinki:20221230T000000
DTEND;TZID=Europe/Helsinki:20221230T000000
DTSTAMP:20260420T121100
CREATED:20221230T110633Z
LAST-MODIFIED:20221230T110633Z
UID:87003-1672358400-1672358400@klassikauto.pl
SUMMARY:Wystawa Ikony Motoryzacji na PGE Narodowym
DESCRIPTION:
URL:https://klassikauto.pl/impreza/wystawa-ikony-motoryzacji-na-pge-narodowym/
END:VEVENT
END:VCALENDAR
<!-- RunCloud Hub 2026-04-20 11:11:00 -->