BEGIN:VCALENDAR
VERSION:2.0
PRODID:-//KlassikAuto.pl - ECPv6.7.0//NONSGML v1.0//EN
CALSCALE:GREGORIAN
METHOD:PUBLISH
X-WR-CALNAME:KlassikAuto.pl
X-ORIGINAL-URL:https://klassikauto.pl
X-WR-CALDESC:Wydarzenia dla KlassikAuto.pl
REFRESH-INTERVAL;VALUE=DURATION:PT1H
X-Robots-Tag:noindex
X-PUBLISHED-TTL:PT1H
BEGIN:VTIMEZONE
TZID:Europe/Helsinki
BEGIN:DAYLIGHT
TZOFFSETFROM:+0200
TZOFFSETTO:+0300
TZNAME:EEST
DTSTART:20200329T010000
END:DAYLIGHT
BEGIN:STANDARD
TZOFFSETFROM:+0300
TZOFFSETTO:+0200
TZNAME:EET
DTSTART:20201025T010000
END:STANDARD
BEGIN:DAYLIGHT
TZOFFSETFROM:+0200
TZOFFSETTO:+0300
TZNAME:EEST
DTSTART:20210328T010000
END:DAYLIGHT
BEGIN:STANDARD
TZOFFSETFROM:+0300
TZOFFSETTO:+0200
TZNAME:EET
DTSTART:20211031T010000
END:STANDARD
END:VTIMEZONE
BEGIN:VEVENT
DTSTART;VALUE=DATE:20201218
DTEND;VALUE=DATE:20210315
DTSTAMP:20260420T171358
CREATED:20210209T170252Z
LAST-MODIFIED:20210209T170252Z
UID:76371-1608249600-1615766399@klassikauto.pl
SUMMARY:Skoda 125 Years - wystawa
DESCRIPTION:
URL:https://klassikauto.pl/impreza/skoda-125-years-wystawa/
LOCATION:Muzeum Autoworld\, Bruksela\, Belgia
CATEGORIES:Wystawa
END:VEVENT
BEGIN:VEVENT
DTSTART;TZID=Europe/Helsinki:20210129T080000
DTEND;TZID=Europe/Helsinki:20210328T170000
DTSTAMP:20260420T171358
CREATED:20210209T170608Z
LAST-MODIFIED:20210209T170608Z
UID:76377-1611907200-1616950800@klassikauto.pl
SUMMARY:In the spotlight: Volkswagen Milestones - wystawa
DESCRIPTION:
URL:https://klassikauto.pl/impreza/in-the-spotlight-volkswagen-milestones-wystawa/
LOCATION:Muzeum Autoworld\, Bruksela\, Belgia
CATEGORIES:Wystawa
END:VEVENT
BEGIN:VEVENT
DTSTART;TZID=Europe/Helsinki:20210130T080000
DTEND;TZID=Europe/Helsinki:20210203T170000
DTSTAMP:20260420T171358
CREATED:20210209T170513Z
LAST-MODIFIED:20210209T172425Z
UID:76375-1611993600-1612371600@klassikauto.pl
SUMMARY:24th Rallye Monte-Carlo Historique
DESCRIPTION:
URL:https://klassikauto.pl/impreza/24th-rallye-monte-carlo-historique/
LOCATION:Monte Carlo\, Monaco
CATEGORIES:Rajd
END:VEVENT
BEGIN:VEVENT
DTSTART;TZID=Europe/Helsinki:20210201T080000
DTEND;TZID=Europe/Helsinki:20210203T170000
DTSTAMP:20260420T171358
CREATED:20210209T170701Z
LAST-MODIFIED:20210209T172119Z
UID:76379-1612166400-1612371600@klassikauto.pl
SUMMARY:5th Rallye Monte-Carlo Classique
DESCRIPTION:
URL:https://klassikauto.pl/impreza/5th-rallye-monte-carlo-classique/
LOCATION:Monte Carlo\, Monaco
CATEGORIES:Rajd
END:VEVENT
BEGIN:VEVENT
DTSTART;VALUE=DATE:20210206
DTEND;VALUE=DATE:20210207
DTSTAMP:20260420T171358
CREATED:20210209T170812Z
LAST-MODIFIED:20210209T170812Z
UID:76381-1612569600-1612655999@klassikauto.pl
SUMMARY:Bremen Classic Motorshow - ONLINE
DESCRIPTION:
URL:https://klassikauto.pl/impreza/bremen-classic-motorshow-online/
LOCATION:Bremen\, Niemcy
CATEGORIES:Targi
END:VEVENT
BEGIN:VEVENT
DTSTART;TZID=Europe/Helsinki:20210212T080000
DTEND;TZID=Europe/Helsinki:20210214T170000
DTSTAMP:20260420T171358
CREATED:20210209T171010Z
LAST-MODIFIED:20210209T172704Z
UID:76383-1613116800-1613322000@klassikauto.pl
SUMMARY:II Bieszczadzki Zimowy Zlot Motocyklowy
DESCRIPTION:
URL:https://klassikauto.pl/impreza/ii-bieszczadzki-zimowy-zlot-motocyklowy/
LOCATION:Dołżyca
CATEGORIES:Zlot
END:VEVENT
BEGIN:VEVENT
DTSTART;VALUE=DATE:20210213
DTEND;VALUE=DATE:20210214
DTSTAMP:20260420T171358
CREATED:20210209T171125Z
LAST-MODIFIED:20210209T172845Z
UID:76385-1613174400-1613260799@klassikauto.pl
SUMMARY:RM/Sotheby\, AUKCJA
DESCRIPTION:
URL:https://klassikauto.pl/impreza/rm-sotheby-aukcja/
LOCATION:Paryż
CATEGORIES:Aukcja
END:VEVENT
BEGIN:VEVENT
DTSTART;TZID=Europe/Helsinki:20210213T080000
DTEND;TZID=Europe/Helsinki:20210213T170000
DTSTAMP:20260420T171358
CREATED:20210213T093343Z
LAST-MODIFIED:20210213T093343Z
UID:76628-1613203200-1613235600@klassikauto.pl
SUMMARY:Oldtimerbazar
DESCRIPTION:
URL:https://klassikauto.pl/impreza/oldtimerbazar-29/
LOCATION:Wrocław\, Wrocław\, Poland
CATEGORIES:Aukcja
END:VEVENT
BEGIN:VEVENT
DTSTART;TZID=Europe/Helsinki:20210219T080000
DTEND;TZID=Europe/Helsinki:20210228T170000
DTSTAMP:20260420T171358
CREATED:20210209T171218Z
LAST-MODIFIED:20210209T171439Z
UID:76387-1613721600-1614531600@klassikauto.pl
SUMMARY:RM Sotheby Open Roads\, AUKCJA\, ONLINE
DESCRIPTION:
URL:https://klassikauto.pl/impreza/rm-sotheby-open-roads-aukcja-online/
CATEGORIES:Aukcja
END:VEVENT
BEGIN:VEVENT
DTSTART;TZID=Europe/Helsinki:20210221T080000
DTEND;TZID=Europe/Helsinki:20210221T170000
DTSTAMP:20260420T171358
CREATED:20210212T163422Z
LAST-MODIFIED:20210212T163422Z
UID:76473-1613894400-1613926800@klassikauto.pl
SUMMARY:XVII RAJD WALENTYNKOWY
DESCRIPTION:
URL:https://klassikauto.pl/impreza/xvii-rajd-walentynkowy/
LOCATION:Mosina
CATEGORIES:Rajd
END:VEVENT
END:VCALENDAR
<!-- RunCloud Hub 2026-04-20 16:13:58 -->