BEGIN:VCALENDAR
VERSION:2.0
PRODID:-//KlassikAuto.pl - ECPv6.7.0//NONSGML v1.0//EN
CALSCALE:GREGORIAN
METHOD:PUBLISH
X-WR-CALNAME:KlassikAuto.pl
X-ORIGINAL-URL:https://klassikauto.pl
X-WR-CALDESC:Wydarzenia dla KlassikAuto.pl
REFRESH-INTERVAL;VALUE=DURATION:PT1H
X-Robots-Tag:noindex
X-PUBLISHED-TTL:PT1H
BEGIN:VTIMEZONE
TZID:Europe/Helsinki
BEGIN:DAYLIGHT
TZOFFSETFROM:+0200
TZOFFSETTO:+0300
TZNAME:EEST
DTSTART:20200329T010000
END:DAYLIGHT
BEGIN:STANDARD
TZOFFSETFROM:+0300
TZOFFSETTO:+0200
TZNAME:EET
DTSTART:20201025T010000
END:STANDARD
BEGIN:DAYLIGHT
TZOFFSETFROM:+0200
TZOFFSETTO:+0300
TZNAME:EEST
DTSTART:20210328T010000
END:DAYLIGHT
BEGIN:STANDARD
TZOFFSETFROM:+0300
TZOFFSETTO:+0200
TZNAME:EET
DTSTART:20211031T010000
END:STANDARD
END:VTIMEZONE
BEGIN:VEVENT
DTSTART;TZID=Europe/Helsinki:20201128T080000
DTEND;TZID=Europe/Helsinki:20201206T170000
DTSTAMP:20260423T053918
CREATED:20200210T184319Z
LAST-MODIFIED:20200210T184319Z
UID:71798-1606550400-1607274000@klassikauto.pl
SUMMARY:53 Essen Motor Show
DESCRIPTION:
URL:https://klassikauto.pl/impreza/53-essen-motor-show/
LOCATION:Essen\, Niemcy
CATEGORIES:Targi
END:VEVENT
BEGIN:VEVENT
DTSTART;TZID=Europe/Helsinki:20201206T080000
DTEND;TZID=Europe/Helsinki:20201206T170000
DTSTAMP:20260423T053918
CREATED:20200108T214019Z
LAST-MODIFIED:20200108T214019Z
UID:71163-1607241600-1607274000@klassikauto.pl
SUMMARY:Oldtimerbazar
DESCRIPTION:
URL:https://klassikauto.pl/impreza/oldtimerbazar-26/
LOCATION:Sosnowiec
CATEGORIES:Aukcja
END:VEVENT
BEGIN:VEVENT
DTSTART;TZID=Europe/Helsinki:20201213T080000
DTEND;TZID=Europe/Helsinki:20201213T170000
DTSTAMP:20260423T053918
CREATED:20200407T173128Z
LAST-MODIFIED:20200407T173128Z
UID:72648-1607846400-1607878800@klassikauto.pl
SUMMARY:Auto-moto-burza Valy
DESCRIPTION:
URL:https://klassikauto.pl/impreza/auto-moto-burza-valy-8/
LOCATION:Valy u Přelouče\, Czechy
CATEGORIES:Aukcja
END:VEVENT
BEGIN:VEVENT
DTSTART;VALUE=DATE:20201218
DTEND;VALUE=DATE:20210315
DTSTAMP:20260423T053918
CREATED:20210209T170252Z
LAST-MODIFIED:20210209T170252Z
UID:76371-1608249600-1615766399@klassikauto.pl
SUMMARY:Skoda 125 Years - wystawa
DESCRIPTION:
URL:https://klassikauto.pl/impreza/skoda-125-years-wystawa/
LOCATION:Muzeum Autoworld\, Bruksela\, Belgia
CATEGORIES:Wystawa
END:VEVENT
BEGIN:VEVENT
DTSTART;TZID=Europe/Helsinki:20201220T100000
DTEND;TZID=Europe/Helsinki:20201220T140000
DTSTAMP:20260423T053918
CREATED:20200110T153013Z
LAST-MODIFIED:20200110T153013Z
UID:71204-1608458400-1608472800@klassikauto.pl
SUMMARY:Giełda Modeli Samochodowych
DESCRIPTION:
URL:https://klassikauto.pl/impreza/gielda-modeli-samochodowych-4/
LOCATION:Warszawa
CATEGORIES:Aukcja
END:VEVENT
BEGIN:VEVENT
DTSTART;TZID=Europe/Helsinki:20201231T080000
DTEND;TZID=Europe/Helsinki:20201231T170000
DTSTAMP:20260423T053918
CREATED:20200818T093005Z
LAST-MODIFIED:20200818T093005Z
UID:74235-1609401600-1609434000@klassikauto.pl
SUMMARY:Auto Moto Show Skaryszew
DESCRIPTION:
URL:https://klassikauto.pl/impreza/auto-moto-show-skaryszew-3/
LOCATION:Skaryszew
CATEGORIES:Zlot
END:VEVENT
END:VCALENDAR
<!-- RunCloud Hub 2026-04-23 04:39:18 -->