BEGIN:VCALENDAR
VERSION:2.0
PRODID:-//KlassikAuto.pl - ECPv6.7.0//NONSGML v1.0//EN
CALSCALE:GREGORIAN
METHOD:PUBLISH
X-WR-CALNAME:KlassikAuto.pl
X-ORIGINAL-URL:https://klassikauto.pl
X-WR-CALDESC:Wydarzenia dla KlassikAuto.pl
REFRESH-INTERVAL;VALUE=DURATION:PT1H
X-Robots-Tag:noindex
X-PUBLISHED-TTL:PT1H
BEGIN:VTIMEZONE
TZID:Europe/Helsinki
BEGIN:DAYLIGHT
TZOFFSETFROM:+0200
TZOFFSETTO:+0300
TZNAME:EEST
DTSTART:20190331T010000
END:DAYLIGHT
BEGIN:STANDARD
TZOFFSETFROM:+0300
TZOFFSETTO:+0200
TZNAME:EET
DTSTART:20191027T010000
END:STANDARD
BEGIN:DAYLIGHT
TZOFFSETFROM:+0200
TZOFFSETTO:+0300
TZNAME:EEST
DTSTART:20200329T010000
END:DAYLIGHT
BEGIN:STANDARD
TZOFFSETFROM:+0300
TZOFFSETTO:+0200
TZNAME:EET
DTSTART:20201025T010000
END:STANDARD
END:VTIMEZONE
BEGIN:VEVENT
DTSTART;TZID=Europe/Helsinki:20191206T080000
DTEND;TZID=Europe/Helsinki:20200126T170000
DTSTAMP:20260424T013327
CREATED:20181113T161301Z
LAST-MODIFIED:20181113T161301Z
UID:63214-1575619200-1580058000@klassikauto.pl
SUMMARY:Major exposition: So British! - wystawa
DESCRIPTION:
URL:https://klassikauto.pl/impreza/major-exposition-so-british-wystawa/
LOCATION:Muzeum Autoworld\, Bruksela\, Belgia
CATEGORIES:Wystawa
END:VEVENT
BEGIN:VEVENT
DTSTART;TZID=Europe/Helsinki:20200103T080000
DTEND;TZID=Europe/Helsinki:20200105T170000
DTSTAMP:20260424T013327
CREATED:20200108T173717Z
LAST-MODIFIED:20200108T173717Z
UID:71093-1578038400-1578243600@klassikauto.pl
SUMMARY:Plannai Classic 2020
DESCRIPTION:
URL:https://klassikauto.pl/impreza/plannai-classic-2020/
LOCATION:Grobming\, Austria
CATEGORIES:Rajd
END:VEVENT
BEGIN:VEVENT
DTSTART;TZID=Europe/Helsinki:20200106T090000
DTEND;TZID=Europe/Helsinki:20200106T150000
DTSTAMP:20260424T013327
CREATED:20191117T073144Z
LAST-MODIFIED:20191117T073144Z
UID:70480-1578301200-1578322800@klassikauto.pl
SUMMARY:IV Rajd motoWOŚP
DESCRIPTION:
URL:https://klassikauto.pl/impreza/iv-rajd-motowosp/
LOCATION:Trójmiasto
CATEGORIES:Zlot
END:VEVENT
BEGIN:VEVENT
DTSTART;TZID=Europe/Helsinki:20200111T080000
DTEND;TZID=Europe/Helsinki:20200112T170000
DTSTAMP:20260424T013327
CREATED:20200108T171745Z
LAST-MODIFIED:20200108T171745Z
UID:71076-1578729600-1578848400@klassikauto.pl
SUMMARY:12. VW Käfer und VW Veteranen Wintertreffen
DESCRIPTION:
URL:https://klassikauto.pl/impreza/12-vw-kafer-und-vw-veteranen-wintertreffen/
LOCATION:Herford\, Niemcy
CATEGORIES:Zlot
END:VEVENT
BEGIN:VEVENT
DTSTART;TZID=Europe/Helsinki:20200116T110000
DTEND;TZID=Europe/Helsinki:20200116T170000
DTSTAMP:20260424T013327
CREATED:20200108T210447Z
LAST-MODIFIED:20200108T210555Z
UID:71123-1579172400-1579194000@klassikauto.pl
SUMMARY:The Scottsdale Auction
DESCRIPTION:
URL:https://klassikauto.pl/impreza/the-scottsdale-auction/
LOCATION:Scottsdale\, USA
CATEGORIES:Aukcja
END:VEVENT
BEGIN:VEVENT
DTSTART;TZID=Europe/Helsinki:20200117T080000
DTEND;TZID=Europe/Helsinki:20200118T170000
DTSTAMP:20260424T013327
CREATED:20200108T205316Z
LAST-MODIFIED:20200108T205316Z
UID:71117-1579248000-1579366800@klassikauto.pl
SUMMARY:Grandes Marques\, Maastricht
DESCRIPTION:
URL:https://klassikauto.pl/impreza/grandes-marques-maastricht/
LOCATION:Maastricht
CATEGORIES:Aukcja
END:VEVENT
BEGIN:VEVENT
DTSTART;TZID=Europe/Helsinki:20200117T080000
DTEND;TZID=Europe/Helsinki:20200119T170000
DTSTAMP:20260424T013327
CREATED:20200108T212458Z
LAST-MODIFIED:20200108T212458Z
UID:71141-1579248000-1579453200@klassikauto.pl
SUMMARY:I Bieszczadzki Zimowy Zlot Motocyklowy
DESCRIPTION:
URL:https://klassikauto.pl/impreza/i-bieszczadzki-zimowy-zlot-motocyklowy/
LOCATION:Dołżyca
CATEGORIES:Zlot
END:VEVENT
BEGIN:VEVENT
DTSTART;TZID=Europe/Helsinki:20200119T100000
DTEND;TZID=Europe/Helsinki:20200119T180000
DTSTAMP:20260424T013327
CREATED:20200108T215234Z
LAST-MODIFIED:20200108T215234Z
UID:71172-1579428000-1579456800@klassikauto.pl
SUMMARY:Charytatywna wystawa pojazdów zabytkowych "dla Martyny"
DESCRIPTION:
URL:https://klassikauto.pl/impreza/charytatywna-wystawa-pojazdow-zabytkowych-dla-martyny/
LOCATION:Lubaczów
CATEGORIES:Wystawa
END:VEVENT
BEGIN:VEVENT
DTSTART;TZID=Europe/Helsinki:20200120T080000
DTEND;TZID=Europe/Helsinki:20200126T170000
DTSTAMP:20260424T013327
CREATED:20200108T203957Z
LAST-MODIFIED:20200108T203957Z
UID:71105-1579507200-1580058000@klassikauto.pl
SUMMARY:88th Rallye Monte-Carlo
DESCRIPTION:
URL:https://klassikauto.pl/impreza/88th-rallye-monte-carlo/
LOCATION:Monte Carlo\, Monaco
CATEGORIES:Rajd
END:VEVENT
BEGIN:VEVENT
DTSTART;TZID=Europe/Helsinki:20200123T080000
DTEND;TZID=Europe/Helsinki:20200123T170000
DTSTAMP:20260424T013327
CREATED:20200108T210800Z
LAST-MODIFIED:20200108T210800Z
UID:71127-1579766400-1579798800@klassikauto.pl
SUMMARY:The Las Vegas Motorcycle Auction
DESCRIPTION:
URL:https://klassikauto.pl/impreza/the-las-vegas-motorcycle-auction/
LOCATION:Las Vegas\, USA
CATEGORIES:Aukcja
END:VEVENT
BEGIN:VEVENT
DTSTART;TZID=Europe/Helsinki:20200125T080000
DTEND;TZID=Europe/Helsinki:20200125T170000
DTSTAMP:20260424T013327
CREATED:20200108T205823Z
LAST-MODIFIED:20200108T205823Z
UID:71119-1579939200-1579971600@klassikauto.pl
SUMMARY:Moto Weteran Bazar
DESCRIPTION:
URL:https://klassikauto.pl/impreza/moto-weteran-bazar-2/
LOCATION:Łódź
CATEGORIES:Aukcja
END:VEVENT
BEGIN:VEVENT
DTSTART;TZID=Europe/Helsinki:20200129T080000
DTEND;TZID=Europe/Helsinki:20200201T170000
DTSTAMP:20260424T013327
CREATED:20200108T204343Z
LAST-MODIFIED:20200108T204343Z
UID:71109-1580284800-1580576400@klassikauto.pl
SUMMARY:4 Rallye Monte-Carlo Classique
DESCRIPTION:
URL:https://klassikauto.pl/impreza/4-rallye-monte-carlo-classique/
LOCATION:Monte Carlo\, Monaco
CATEGORIES:Rajd
END:VEVENT
BEGIN:VEVENT
DTSTART;TZID=Europe/Helsinki:20200129T080000
DTEND;TZID=Europe/Helsinki:20200205T170000
DTSTAMP:20260424T013327
CREATED:20200108T204155Z
LAST-MODIFIED:20200108T204155Z
UID:71107-1580284800-1580922000@klassikauto.pl
SUMMARY:23 Rallye Monte-Carlo Historique
DESCRIPTION:
URL:https://klassikauto.pl/impreza/23-rallye-monte-carlo-historique/
LOCATION:Monte Carlo\, Monaco
CATEGORIES:Rajd
END:VEVENT
BEGIN:VEVENT
DTSTART;TZID=Europe/Helsinki:20200131T080000
DTEND;TZID=Europe/Helsinki:20200202T170000
DTSTAMP:20260424T013327
CREATED:20200108T171421Z
LAST-MODIFIED:20200108T171421Z
UID:71071-1580457600-1580662800@klassikauto.pl
SUMMARY:Bremen Classic Motorshow
DESCRIPTION:
URL:https://klassikauto.pl/impreza/bremen-classic-motorshow-2/
LOCATION:Bremen\, Niemcy
CATEGORIES:Targi
END:VEVENT
END:VCALENDAR
<!-- RunCloud Hub 2026-04-24 00:33:27 -->