BEGIN:VCALENDAR
VERSION:2.0
PRODID:-//KlassikAuto.pl - ECPv6.7.0//NONSGML v1.0//EN
CALSCALE:GREGORIAN
METHOD:PUBLISH
X-ORIGINAL-URL:https://klassikauto.pl
X-WR-CALDESC:Wydarzenia dla KlassikAuto.pl
REFRESH-INTERVAL;VALUE=DURATION:PT1H
X-Robots-Tag:noindex
X-PUBLISHED-TTL:PT1H
BEGIN:VTIMEZONE
TZID:Europe/Helsinki
BEGIN:DAYLIGHT
TZOFFSETFROM:+0200
TZOFFSETTO:+0300
TZNAME:EEST
DTSTART:20180325T010000
END:DAYLIGHT
BEGIN:STANDARD
TZOFFSETFROM:+0300
TZOFFSETTO:+0200
TZNAME:EET
DTSTART:20181028T010000
END:STANDARD
END:VTIMEZONE
BEGIN:VEVENT
DTSTART;VALUE=DATE:20180101
DTEND;VALUE=DATE:20180701
DTSTAMP:20260425T141642
CREATED:20180415T112652Z
LAST-MODIFIED:20180415T112652Z
UID:59320-1514764800-1530403199@klassikauto.pl
SUMMARY:Samochodem na wycieczkę i inne rozrywki lat 60-tych - wystawa
DESCRIPTION:Słoweńskie Muzeum Techniki\,  Bratysława
URL:https://klassikauto.pl/impreza/samochodem-na-wycieczke-i-inne-rozrywki-lat-60-tych-wystawa/
LOCATION:Bratysława\, Słowacja
END:VEVENT
BEGIN:VEVENT
DTSTART;TZID=Europe/Helsinki:20180505T080000
DTEND;TZID=Europe/Helsinki:20180701T170000
DTSTAMP:20260425T141642
CREATED:20180308T090424Z
LAST-MODIFIED:20180308T090446Z
UID:56296-1525507200-1530464400@klassikauto.pl
SUMMARY:Wystawa – The Belgians at Le Mans\, Muzeum Autoworld
DESCRIPTION:
URL:https://klassikauto.pl/impreza/wystawa-the-belgians-at-le-mans-muzeum-autoworld/
LOCATION:Belgia
END:VEVENT
BEGIN:VEVENT
DTSTART;TZID=Europe/Helsinki:20180531T080000
DTEND;TZID=Europe/Helsinki:20180602T170000
DTSTAMP:20260425T141642
CREATED:20180308T094358Z
LAST-MODIFIED:20180308T094358Z
UID:56412-1527753600-1527958800@klassikauto.pl
SUMMARY:ADAC Bavaria Historic
DESCRIPTION:
URL:https://klassikauto.pl/impreza/adac-bavaria-historic/
END:VEVENT
BEGIN:VEVENT
DTSTART;TZID=Europe/Helsinki:20180531T080000
DTEND;TZID=Europe/Helsinki:20180603T170000
DTSTAMP:20260425T141642
CREATED:20180308T094451Z
LAST-MODIFIED:20180601T181631Z
UID:56414-1527753600-1528045200@klassikauto.pl
SUMMARY:1 Wodzisławski zlot Fiata 126p\, N126 i gościnnie klasyków PRLu
DESCRIPTION:
URL:https://klassikauto.pl/impreza/1-wodzislawski-zlot-fiata-126p-n126-i-goscinnie-klasykow-prlu/
LOCATION:Wodzisław
END:VEVENT
BEGIN:VEVENT
DTSTART;TZID=Europe/Helsinki:20180531T080000
DTEND;TZID=Europe/Helsinki:20180603T170000
DTSTAMP:20260425T141642
CREATED:20180308T094546Z
LAST-MODIFIED:20180308T094546Z
UID:56416-1527753600-1528045200@klassikauto.pl
SUMMARY:IV Ogólnopolski Zlot Automobilklubu Volkswagena Transportera T3
DESCRIPTION:
URL:https://klassikauto.pl/impreza/iv-ogolnopolski-zlot-automobilklubu-volkswagena-transportera-t3/
LOCATION:Pęczniew
END:VEVENT
BEGIN:VEVENT
DTSTART;TZID=Europe/Helsinki:20180531T080000
DTEND;TZID=Europe/Helsinki:20180603T170000
DTSTAMP:20260425T141642
CREATED:20180308T094620Z
LAST-MODIFIED:20180308T094620Z
UID:56419-1527753600-1528045200@klassikauto.pl
SUMMARY:XIV Białostocki Rajd Moto–Retro
DESCRIPTION:
URL:https://klassikauto.pl/impreza/xiv-bialostocki-rajd-moto-retro/
LOCATION:Białystok
END:VEVENT
BEGIN:VEVENT
DTSTART;TZID=Europe/Helsinki:20180531T080000
DTEND;TZID=Europe/Helsinki:20180603T170000
DTSTAMP:20260425T141642
CREATED:20180308T094708Z
LAST-MODIFIED:20180308T094708Z
UID:56422-1527753600-1528045200@klassikauto.pl
SUMMARY:Zlot zabytkowych Mercedesów\,  StarDrive Poland 2018
DESCRIPTION:
URL:https://klassikauto.pl/impreza/zlot-zabytkowych-mercedesow-stardrive-poland-2018/
LOCATION:Lublin
END:VEVENT
BEGIN:VEVENT
DTSTART;TZID=Europe/Helsinki:20180531T080000
DTEND;TZID=Europe/Helsinki:20180603T170000
DTSTAMP:20260425T141642
CREATED:20180308T094750Z
LAST-MODIFIED:20180308T094750Z
UID:56425-1527753600-1528045200@klassikauto.pl
SUMMARY:II Oławski Charytatywny Rajd Koguta
DESCRIPTION:
URL:https://klassikauto.pl/impreza/ii-olawski-charytatywny-rajd-koguta/
LOCATION:Oława
END:VEVENT
BEGIN:VEVENT
DTSTART;TZID=Europe/Helsinki:20180601T080000
DTEND;TZID=Europe/Helsinki:20180602T170000
DTSTAMP:20260425T141642
CREATED:20180308T094907Z
LAST-MODIFIED:20180308T094907Z
UID:56428-1527840000-1527958800@klassikauto.pl
SUMMARY:II Rajd Trzech Koron. Szwedzi i przyjaciele
DESCRIPTION:
URL:https://klassikauto.pl/impreza/ii-rajd-trzech-koron-szwedzi-i-przyjaciele/
LOCATION:Warszawa
END:VEVENT
BEGIN:VEVENT
DTSTART;TZID=Europe/Helsinki:20180601T080000
DTEND;TZID=Europe/Helsinki:20180603T170000
DTSTAMP:20260425T141642
CREATED:20180308T094959Z
LAST-MODIFIED:20180308T094959Z
UID:56430-1527840000-1528045200@klassikauto.pl
SUMMARY:ClassicMania Trip edycja 6
DESCRIPTION:Lwów\, Leopolis Grand Prix\, tel. 512 69 60 69
URL:https://klassikauto.pl/impreza/classicmania-trip-edycja-6/
END:VEVENT
BEGIN:VEVENT
DTSTART;TZID=Europe/Helsinki:20180601T080000
DTEND;TZID=Europe/Helsinki:20180603T170000
DTSTAMP:20260425T141642
CREATED:20180308T095051Z
LAST-MODIFIED:20180308T095051Z
UID:56432-1527840000-1528045200@klassikauto.pl
SUMMARY:Leopolis Grand Prix
DESCRIPTION:
URL:https://klassikauto.pl/impreza/leopolis-grand-prix/
LOCATION:Lwów\, Ukraina
END:VEVENT
BEGIN:VEVENT
DTSTART;TZID=Europe/Helsinki:20180601T080000
DTEND;TZID=Europe/Helsinki:20180603T170000
DTSTAMP:20260425T141642
CREATED:20180308T095140Z
LAST-MODIFIED:20180308T095140Z
UID:56435-1527840000-1528045200@klassikauto.pl
SUMMARY:XVII Zlot Klubu Fiata X/9
DESCRIPTION:
URL:https://klassikauto.pl/impreza/xvii-zlot-klubu-fiata-x-9/
LOCATION:Okolice Andrychowa
END:VEVENT
BEGIN:VEVENT
DTSTART;TZID=Europe/Helsinki:20180601T080000
DTEND;TZID=Europe/Helsinki:20180603T170000
DTSTAMP:20260425T141642
CREATED:20180308T095240Z
LAST-MODIFIED:20180308T095240Z
UID:56438-1527840000-1528045200@klassikauto.pl
SUMMARY:8 Bielski Rajd Syren
DESCRIPTION:
URL:https://klassikauto.pl/impreza/8-bielski-rajd-syren/
LOCATION:Bielsko-Biała
END:VEVENT
BEGIN:VEVENT
DTSTART;TZID=Europe/Helsinki:20180601T080000
DTEND;TZID=Europe/Helsinki:20180617T170000
DTSTAMP:20260425T141642
CREATED:20180308T095313Z
LAST-MODIFIED:20180308T095313Z
UID:56441-1527840000-1529254800@klassikauto.pl
SUMMARY:Rumunia 2018-Wyprawa pojazdów zabytkowych
DESCRIPTION:
URL:https://klassikauto.pl/impreza/rumunia-2018-wyprawa-pojazdow-zabytkowych/
END:VEVENT
BEGIN:VEVENT
DTSTART;VALUE=DATE:20180602
DTEND;VALUE=DATE:20180603
DTSTAMP:20260425T141642
CREATED:20180308T095350Z
LAST-MODIFIED:20180308T095350Z
UID:56443-1527897600-1527983999@klassikauto.pl
SUMMARY:Wczasy pod gruszą – zlot klasycznych samochodów i motocykli
DESCRIPTION:
URL:https://klassikauto.pl/impreza/wczasy-pod-grusza-zlot-klasycznych-samochodow-i-motocykli/
LOCATION:Stegny
END:VEVENT
BEGIN:VEVENT
DTSTART;VALUE=DATE:20180602
DTEND;VALUE=DATE:20180603
DTSTAMP:20260425T141642
CREATED:20180308T095416Z
LAST-MODIFIED:20180308T095416Z
UID:56446-1527897600-1527983999@klassikauto.pl
SUMMARY:Youngtimer’s Festival Wałbrzych 2018
DESCRIPTION:
URL:https://klassikauto.pl/impreza/youngtimers-festival-walbrzych-2018/
END:VEVENT
BEGIN:VEVENT
DTSTART;VALUE=DATE:20180602
DTEND;VALUE=DATE:20180603
DTSTAMP:20260425T141642
CREATED:20180308T095456Z
LAST-MODIFIED:20180308T095512Z
UID:56448-1527897600-1527983999@klassikauto.pl
SUMMARY:II Rumski Rajd „w Drodze po Szpik” 2 czerwiec 2018
DESCRIPTION:
URL:https://klassikauto.pl/impreza/ii-rumski-rajd-w-drodze-po-szpik-2-czerwiec-2018/
LOCATION:Rumia
END:VEVENT
BEGIN:VEVENT
DTSTART;VALUE=DATE:20180602
DTEND;VALUE=DATE:20180603
DTSTAMP:20260425T141642
CREATED:20180308T095545Z
LAST-MODIFIED:20180308T095545Z
UID:56451-1527897600-1527983999@klassikauto.pl
SUMMARY:Rajd Ziemi Mińskiej
DESCRIPTION:
URL:https://klassikauto.pl/impreza/rajd-ziemi-minskiej/
END:VEVENT
BEGIN:VEVENT
DTSTART;VALUE=DATE:20180602
DTEND;VALUE=DATE:20180603
DTSTAMP:20260425T141642
CREATED:20180308T095639Z
LAST-MODIFIED:20180309T182758Z
UID:56453-1527897600-1527983999@klassikauto.pl
SUMMARY:Aukcja\, The Aston Martin Sale
DESCRIPTION:
URL:https://klassikauto.pl/impreza/aukcja-the-aston-martin-sale/
LOCATION:Reading\, Wielka Brytania
CATEGORIES:Aukcja
END:VEVENT
BEGIN:VEVENT
DTSTART;VALUE=DATE:20180602
DTEND;VALUE=DATE:20180603
DTSTAMP:20260425T141642
CREATED:20180415T091144Z
LAST-MODIFIED:20180415T091144Z
UID:59269-1527897600-1527983999@klassikauto.pl
SUMMARY:Classic Auto Cup - Puchar dla Samochodów Klasycznych - Sezon 2018
DESCRIPTION:Tor Bednary
URL:https://klassikauto.pl/impreza/classic-auto-cup-puchar-dla-samochodow-klasycznych-sezon-2018/
LOCATION:Poznań
END:VEVENT
BEGIN:VEVENT
DTSTART;VALUE=DATE:20180602
DTEND;VALUE=DATE:20180604
DTSTAMP:20260425T141642
CREATED:20180424T192503Z
LAST-MODIFIED:20180424T192527Z
UID:59566-1527897600-1528070399@klassikauto.pl
SUMMARY:VI Spotkanie Miłośników Zabytkowej Motoryzacji "W Cieniu Pałacu"
DESCRIPTION:
URL:https://klassikauto.pl/impreza/vi-spotkanie-milosnikow-zabytkowej-motoryzacji-w-cieniu-palacu/
LOCATION:Żabno
END:VEVENT
BEGIN:VEVENT
DTSTART;TZID=Europe/Helsinki:20180602T120000
DTEND;TZID=Europe/Helsinki:20180602T150000
DTSTAMP:20260425T141642
CREATED:20180601T180611Z
LAST-MODIFIED:20180601T180611Z
UID:60318-1527940800-1527951600@klassikauto.pl
SUMMARY:3 Spot - Tyski Ruch Klasyków dla Dzieci
DESCRIPTION:
URL:https://klassikauto.pl/impreza/3-spot-tyski-ruch-klasykow-dla-dzieci/
LOCATION:Tychy
END:VEVENT
BEGIN:VEVENT
DTSTART;VALUE=DATE:20180603
DTEND;VALUE=DATE:20180604
DTSTAMP:20260425T141642
CREATED:20180308T095730Z
LAST-MODIFIED:20180308T095730Z
UID:56456-1527984000-1528070399@klassikauto.pl
SUMMARY:45. urodziny Fiata 125p – V Spot Okolicznościowy
DESCRIPTION:
URL:https://klassikauto.pl/impreza/45-urodziny-fiata-125p-v-spot-okolicznosciowy/
LOCATION:Warszawa
END:VEVENT
BEGIN:VEVENT
DTSTART;VALUE=DATE:20180603
DTEND;VALUE=DATE:20180604
DTSTAMP:20260425T141642
CREATED:20180308T095813Z
LAST-MODIFIED:20180309T182758Z
UID:56458-1527984000-1528070399@klassikauto.pl
SUMMARY:Aukcja\, Greenwich Concours d’Elegance Auction
DESCRIPTION:
URL:https://klassikauto.pl/impreza/aukcja-greenwich-concours-delegance-auction/
LOCATION:Wielka Brytania
CATEGORIES:Aukcja
END:VEVENT
BEGIN:VEVENT
DTSTART;TZID=Europe/Helsinki:20180603T070000
DTEND;TZID=Europe/Helsinki:20180603T200000
DTSTAMP:20260425T141642
CREATED:20180509T180834Z
LAST-MODIFIED:20180509T180834Z
UID:60011-1528009200-1528056000@klassikauto.pl
SUMMARY:Auto Moto Show Skaryszew
DESCRIPTION:
URL:https://klassikauto.pl/impreza/auto-moto-show-skaryszew/
LOCATION:Skaryszew
END:VEVENT
BEGIN:VEVENT
DTSTART;TZID=Europe/Helsinki:20180607T080000
DTEND;TZID=Europe/Helsinki:20180609T170000
DTSTAMP:20260425T141642
CREATED:20180308T095934Z
LAST-MODIFIED:20180308T095934Z
UID:56462-1528358400-1528563600@klassikauto.pl
SUMMARY:Oldtimer Bohemia Rally 2018\, FIVA International
DESCRIPTION:
URL:https://klassikauto.pl/impreza/oldtimer-bohemia-rally-2018-fiva-international/
LOCATION:Mlada Boleslav\, Czechy
END:VEVENT
BEGIN:VEVENT
DTSTART;TZID=Europe/Helsinki:20180607T080000
DTEND;TZID=Europe/Helsinki:20180610T170000
DTSTAMP:20260425T141642
CREATED:20180308T095852Z
LAST-MODIFIED:20180308T095852Z
UID:56460-1528358400-1528650000@klassikauto.pl
SUMMARY:Classica Mierzęcin
DESCRIPTION:
URL:https://klassikauto.pl/impreza/classica-mierzecin/
END:VEVENT
BEGIN:VEVENT
DTSTART;VALUE=DATE:20180608
DTEND;VALUE=DATE:20180609
DTSTAMP:20260425T141642
CREATED:20180308T100042Z
LAST-MODIFIED:20180308T110510Z
UID:56465-1528416000-1528502399@klassikauto.pl
SUMMARY:Jubilejní XV. Mezinárodní sraz Fiatů 126p
DESCRIPTION:
URL:https://klassikauto.pl/impreza/jubilejni-xv-mezinarodni-sraz-fiatu-126p/
LOCATION:Chotievice\, Trutnov\, Czechy
END:VEVENT
BEGIN:VEVENT
DTSTART;TZID=Europe/Helsinki:20180608T080000
DTEND;TZID=Europe/Helsinki:20180608T170000
DTSTAMP:20260425T141642
CREATED:20180308T100132Z
LAST-MODIFIED:20180308T100132Z
UID:56468-1528444800-1528477200@klassikauto.pl
SUMMARY:XVII Zlot Klasycznego Volkswagena
DESCRIPTION:
URL:https://klassikauto.pl/impreza/xvii-zlot-klasycznego-volkswagena/
LOCATION:Lisie Kąty
END:VEVENT
BEGIN:VEVENT
DTSTART;TZID=Europe/Helsinki:20180608T080000
DTEND;TZID=Europe/Helsinki:20180609T170000
DTSTAMP:20260425T141642
CREATED:20180308T100209Z
LAST-MODIFIED:20180308T100209Z
UID:56471-1528444800-1528563600@klassikauto.pl
SUMMARY:Paul Pietsch Classic
DESCRIPTION:
URL:https://klassikauto.pl/impreza/paul-pietsch-classic/
LOCATION:Stuttgart\, Niemcy
END:VEVENT
END:VCALENDAR
<!-- RunCloud Hub 2026-04-25 13:16:42 -->