BEGIN:VCALENDAR
VERSION:2.0
PRODID:-//KlassikAuto.pl - ECPv6.7.0//NONSGML v1.0//EN
CALSCALE:GREGORIAN
METHOD:PUBLISH
X-ORIGINAL-URL:https://klassikauto.pl
X-WR-CALDESC:Wydarzenia dla KlassikAuto.pl
REFRESH-INTERVAL;VALUE=DURATION:PT1H
X-Robots-Tag:noindex
X-PUBLISHED-TTL:PT1H
BEGIN:VTIMEZONE
TZID:Europe/Helsinki
BEGIN:DAYLIGHT
TZOFFSETFROM:+0200
TZOFFSETTO:+0300
TZNAME:EEST
DTSTART:20260329T010000
END:DAYLIGHT
BEGIN:STANDARD
TZOFFSETFROM:+0300
TZOFFSETTO:+0200
TZNAME:EET
DTSTART:20261025T010000
END:STANDARD
END:VTIMEZONE
BEGIN:VEVENT
DTSTART;TZID=Europe/Helsinki:20260227T080000
DTEND;TZID=Europe/Helsinki:20260419T170000
DTSTAMP:20260421T180737
CREATED:20260208T131325Z
LAST-MODIFIED:20260208T131325Z
UID:114519-1772179200-1776618000@klassikauto.pl
SUMMARY:Lancia 120 years - innovation through italian design
DESCRIPTION:
URL:https://klassikauto.pl/impreza/lancia-120-years-innovation-through-italian-design/
LOCATION:Muzeum Autoworld\, Bruksela\, Belgia
CATEGORIES:Wystawa
END:VEVENT
BEGIN:VEVENT
DTSTART;VALUE=DATE:20260320
DTEND;VALUE=DATE:20260323
DTSTAMP:20260421T180737
CREATED:20260208T144820Z
LAST-MODIFIED:20260208T144820Z
UID:114548-1773964800-1774223999@klassikauto.pl
SUMMARY:Salão Motorclássico
DESCRIPTION:
URL:https://klassikauto.pl/impreza/salao-motorclassico/
LOCATION:Lizbona\, Portugalia
CATEGORIES:Targi
END:VEVENT
BEGIN:VEVENT
DTSTART;VALUE=DATE:20260320
DTEND;VALUE=DATE:20260323
DTSTAMP:20260421T180737
CREATED:20260308T072750Z
LAST-MODIFIED:20260308T072750Z
UID:115149-1773964800-1774223999@klassikauto.pl
SUMMARY:Classic Car & Restoration Show 2026
DESCRIPTION:
URL:https://klassikauto.pl/impreza/classic-car-restoration-show-2026/
LOCATION:Birmingham
CATEGORIES:Targi
END:VEVENT
BEGIN:VEVENT
DTSTART;VALUE=DATE:20260321
DTEND;VALUE=DATE:20260322
DTSTAMP:20260421T180737
CREATED:20251227T163614Z
LAST-MODIFIED:20251227T163614Z
UID:113898-1774051200-1774137599@klassikauto.pl
SUMMARY:4. Kryterium SuperOES 2026
DESCRIPTION:
URL:https://klassikauto.pl/impreza/4-kryterium-superoes-2026/
LOCATION:Przeźmierowo
CATEGORIES:Rajd
END:VEVENT
BEGIN:VEVENT
DTSTART;VALUE=DATE:20260321
DTEND;VALUE=DATE:20260323
DTSTAMP:20260421T180737
CREATED:20251227T162014Z
LAST-MODIFIED:20251227T162014Z
UID:113890-1774051200-1774223999@klassikauto.pl
SUMMARY:Belgium Auto Show
DESCRIPTION:
URL:https://klassikauto.pl/impreza/belgium-auto-show-2/
LOCATION:Gandawa\, Belgia
CATEGORIES:Targi
END:VEVENT
BEGIN:VEVENT
DTSTART;VALUE=DATE:20260321
DTEND;VALUE=DATE:20260323
DTSTAMP:20260421T180737
CREATED:20260208T111423Z
LAST-MODIFIED:20260208T111423Z
UID:114465-1774051200-1774223999@klassikauto.pl
SUMMARY:Technorama
DESCRIPTION:
URL:https://klassikauto.pl/impreza/technorama-9/
LOCATION:Kassel\, Germany
CATEGORIES:Aukcja
END:VEVENT
BEGIN:VEVENT
DTSTART;TZID=Europe/Helsinki:20260321T090000
DTEND;TZID=Europe/Helsinki:20260321T090000
DTSTAMP:20260421T180737
CREATED:20260308T073431Z
LAST-MODIFIED:20260308T073431Z
UID:115153-1774083600-1774083600@klassikauto.pl
SUMMARY:Wiosenny Rozruch Retro Grupy 2026
DESCRIPTION:
URL:https://klassikauto.pl/impreza/wiosenny-rozruch-retro-grupy-2026/
LOCATION:Kęty
CATEGORIES:Zlot
END:VEVENT
BEGIN:VEVENT
DTSTART;TZID=Europe/Helsinki:20260321T110000
DTEND;TZID=Europe/Helsinki:20260321T110000
DTSTAMP:20260421T180737
CREATED:20260308T084555Z
LAST-MODIFIED:20260308T084555Z
UID:115193-1774090800-1774090800@klassikauto.pl
SUMMARY:#12 Mini Cooper Spot Silesia – star Ligii Gokartowej MCSS
DESCRIPTION:
URL:https://klassikauto.pl/impreza/12-mini-cooper-spot-silesia-star-ligii-gokartowej-mcss/
LOCATION:Katowice
CATEGORIES:Rajd
END:VEVENT
BEGIN:VEVENT
DTSTART;TZID=Europe/Helsinki:20260321T133000
DTEND;TZID=Europe/Helsinki:20260321T133000
DTSTAMP:20260421T180737
CREATED:20260208T111031Z
LAST-MODIFIED:20260208T111031Z
UID:114461-1774099800-1774099800@klassikauto.pl
SUMMARY:Auktion klassischer Automobile & Motorräder
DESCRIPTION:
URL:https://klassikauto.pl/impreza/auktion-klassischer-automobile-motorrader/
LOCATION:Toffen\, Szwajcaria
CATEGORIES:Aukcja
END:VEVENT
BEGIN:VEVENT
DTSTART;TZID=Europe/Helsinki:20260322T090000
DTEND;TZID=Europe/Helsinki:20260322T160000
DTSTAMP:20260421T180737
CREATED:20260208T151545Z
LAST-MODIFIED:20260208T151545Z
UID:114590-1774170000-1774195200@klassikauto.pl
SUMMARY:Jelenie Wraki Wiosenne Natarcie
DESCRIPTION:
URL:https://klassikauto.pl/impreza/jelenie-wraki-wiosenne-natarcie/
LOCATION:Jelenia Góra
CATEGORIES:Zlot
END:VEVENT
BEGIN:VEVENT
DTSTART;TZID=Europe/Helsinki:20260322T100000
DTEND;TZID=Europe/Helsinki:20260322T140000
DTSTAMP:20260421T180737
CREATED:20260308T073948Z
LAST-MODIFIED:20260325T192830Z
UID:115157-1774173600-1774188000@klassikauto.pl
SUMMARY:Retro Zlot na Pchlim Targu - rozpoczęcie sezonu
DESCRIPTION:
URL:https://klassikauto.pl/impreza/retro-zlot-na-pchlim-targu-rozpoczecie-sezonu/
LOCATION:Kęty
CATEGORIES:Zlot
END:VEVENT
BEGIN:VEVENT
DTSTART;TZID=Europe/Helsinki:20260322T100000
DTEND;TZID=Europe/Helsinki:20260322T150000
DTSTAMP:20260421T180737
CREATED:20260308T075945Z
LAST-MODIFIED:20260308T075945Z
UID:115171-1774173600-1774191600@klassikauto.pl
SUMMARY:Youngtimer Giełda w NEO Garage – Wiosna 2026
DESCRIPTION:
URL:https://klassikauto.pl/impreza/youngtimer-gielda-w-neo-garage-wiosna-2026/
LOCATION:Ursus
CATEGORIES:Giełda
END:VEVENT
BEGIN:VEVENT
DTSTART;TZID=Europe/Helsinki:20260322T103000
DTEND;TZID=Europe/Helsinki:20260322T200000
DTSTAMP:20260421T180737
CREATED:20260307T084244Z
LAST-MODIFIED:20260307T084244Z
UID:115118-1774175400-1774209600@klassikauto.pl
SUMMARY:Motomarzanna
DESCRIPTION:
URL:https://klassikauto.pl/impreza/motomarzanna/
LOCATION:Pabianice
CATEGORIES:Zlot
END:VEVENT
BEGIN:VEVENT
DTSTART;TZID=Europe/Helsinki:20260322T110000
DTEND;TZID=Europe/Helsinki:20260322T110000
DTSTAMP:20260421T180737
CREATED:20260307T070026Z
LAST-MODIFIED:20260307T070026Z
UID:115065-1774177200-1774177200@klassikauto.pl
SUMMARY:Charytatywny Piknik Motoryzacyjny
DESCRIPTION:
URL:https://klassikauto.pl/impreza/charytatywny-piknik-motoryzacyjny/
LOCATION:Sokółka
CATEGORIES:Zlot
END:VEVENT
BEGIN:VEVENT
DTSTART;TZID=Europe/Helsinki:20260322T110000
DTEND;TZID=Europe/Helsinki:20260322T180000
DTSTAMP:20260421T180737
CREATED:20260208T103050Z
LAST-MODIFIED:20260208T103050Z
UID:114431-1774177200-1774202400@klassikauto.pl
SUMMARY:Oldtimer und Youngtimer Treffen
DESCRIPTION:
URL:https://klassikauto.pl/impreza/oldtimer-und-youngtimer-treffen/
LOCATION:Gevelsberg\, Niemcy
CATEGORIES:Zlot
END:VEVENT
BEGIN:VEVENT
DTSTART;TZID=Europe/Helsinki:20260322T120000
DTEND;TZID=Europe/Helsinki:20260322T120000
DTSTAMP:20260421T180737
CREATED:20260207T174921Z
LAST-MODIFIED:20260207T174921Z
UID:114366-1774180800-1774180800@klassikauto.pl
SUMMARY:V Rozpoczęcie Sezonu Motocyklowego 2026 z Mototrasą
DESCRIPTION:
URL:https://klassikauto.pl/impreza/v-rozpoczecie-sezonu-motocyklowego-2026-z-mototrasa/
LOCATION:Jarosław
CATEGORIES:Zlot
END:VEVENT
BEGIN:VEVENT
DTSTART;TZID=Europe/Helsinki:20260322T150000
DTEND;TZID=Europe/Helsinki:20260322T150000
DTSTAMP:20260421T180737
CREATED:20260308T074241Z
LAST-MODIFIED:20260308T074241Z
UID:115159-1774191600-1774191600@klassikauto.pl
SUMMARY:Wielkopolskie Spotkania Motoryzacyjne #6 – rozpoczęcie sezonu
DESCRIPTION:
URL:https://klassikauto.pl/impreza/wielkopolskie-spotkania-motoryzacyjne-6-rozpoczecie-sezonu/
LOCATION:Grodzisk Wielkopolski
CATEGORIES:Zlot
END:VEVENT
BEGIN:VEVENT
DTSTART;TZID=Europe/Helsinki:20260322T150000
DTEND;TZID=Europe/Helsinki:20260322T180000
DTSTAMP:20260421T180737
CREATED:20260322T131047Z
LAST-MODIFIED:20260322T131047Z
UID:115487-1774191600-1774202400@klassikauto.pl
SUMMARY:Budzenie Klasyków
DESCRIPTION:
URL:https://klassikauto.pl/impreza/budzenie-klasykow/
LOCATION:Szczecin
CATEGORIES:Zlot
END:VEVENT
BEGIN:VEVENT
DTSTART;VALUE=DATE:20260326
DTEND;VALUE=DATE:20260330
DTSTAMP:20260421T180737
CREATED:20260208T111932Z
LAST-MODIFIED:20260208T111932Z
UID:114471-1774483200-1774828799@klassikauto.pl
SUMMARY:20. Coppa d'Europa 2026
DESCRIPTION:
URL:https://klassikauto.pl/impreza/20-coppa-deuropa-2026/
LOCATION:Maastricht
CATEGORIES:Rajd
END:VEVENT
BEGIN:VEVENT
DTSTART;VALUE=DATE:20260327
DTEND;VALUE=DATE:20260330
DTSTAMP:20260421T180737
CREATED:20260207T170840Z
LAST-MODIFIED:20260207T170840Z
UID:114337-1774569600-1774828799@klassikauto.pl
SUMMARY:Warsaw Motorcycle Show 2026
DESCRIPTION:
URL:https://klassikauto.pl/impreza/warsaw-motorcycle-show-2026/
LOCATION:Warszawa
CATEGORIES:Targi
END:VEVENT
BEGIN:VEVENT
DTSTART;VALUE=DATE:20260328
DTEND;VALUE=DATE:20260329
DTSTAMP:20260421T180737
CREATED:20260208T102049Z
LAST-MODIFIED:20260208T102049Z
UID:114423-1774656000-1774742399@klassikauto.pl
SUMMARY:Auto moto velo burza v Hobšovicích
DESCRIPTION:
URL:https://klassikauto.pl/impreza/auto-moto-velo-burza-v-hobsovicich-9/
LOCATION:Hobšovice\, Czechy
CATEGORIES:Giełda
END:VEVENT
BEGIN:VEVENT
DTSTART;VALUE=DATE:20260328
DTEND;VALUE=DATE:20260329
DTSTAMP:20260421T180737
CREATED:20260308T074854Z
LAST-MODIFIED:20260308T074854Z
UID:115165-1774656000-1774742399@klassikauto.pl
SUMMARY:Puchar Youngtimer Party vol.1 2026
DESCRIPTION:
URL:https://klassikauto.pl/impreza/puchar-youngtimer-party-vol-1-2026/
LOCATION:Poznań
CATEGORIES:Zlot
END:VEVENT
BEGIN:VEVENT
DTSTART;TZID=Europe/Helsinki:20260328T080000
DTEND;TZID=Europe/Helsinki:20260328T160000
DTSTAMP:20260421T180737
CREATED:20260308T075246Z
LAST-MODIFIED:20260308T075246Z
UID:115167-1774684800-1774713600@klassikauto.pl
SUMMARY:Jarni Retro Garaż – aukcja i giełda historycznych pojazdów
DESCRIPTION:
URL:https://klassikauto.pl/impreza/jarni-retro-garaz-aukcja-i-gielda-historycznych-pojazdow/
LOCATION:Lysa nad Labem\, Czechy
CATEGORIES:Aukcja,Giełda
END:VEVENT
BEGIN:VEVENT
DTSTART;TZID=Europe/Helsinki:20260328T103000
DTEND;TZID=Europe/Helsinki:20260328T140000
DTSTAMP:20260421T180737
CREATED:20260308T074726Z
LAST-MODIFIED:20260308T074726Z
UID:115163-1774693800-1774706400@klassikauto.pl
SUMMARY:Parada klasyków po nitce Toru Poznań – start sezonu Youngtimer Party
DESCRIPTION:
URL:https://klassikauto.pl/impreza/parada-klasykow-po-nitce-toru-poznan-start-sezonu-youngtimer-party/
LOCATION:Poznań
CATEGORIES:Zlot
END:VEVENT
BEGIN:VEVENT
DTSTART;TZID=Europe/Helsinki:20260328T110000
DTEND;TZID=Europe/Helsinki:20260328T150000
DTSTAMP:20260421T180737
CREATED:20260322T142849Z
LAST-MODIFIED:20260322T142849Z
UID:115515-1774695600-1774710000@klassikauto.pl
SUMMARY:Rozpoczęcie Sezonu Samochodowego
DESCRIPTION:
URL:https://klassikauto.pl/impreza/rozpoczecie-sezonu-samochodowego/
LOCATION:Rogoźno
CATEGORIES:Zlot
END:VEVENT
BEGIN:VEVENT
DTSTART;TZID=Europe/Helsinki:20260328T113000
DTEND;TZID=Europe/Helsinki:20260328T170000
DTSTAMP:20260421T180737
CREATED:20260208T123724Z
LAST-MODIFIED:20260208T123724Z
UID:114499-1774697400-1774717200@klassikauto.pl
SUMMARY:Classic cars and motorcycles auction
DESCRIPTION:
URL:https://klassikauto.pl/impreza/classic-cars-and-motorcycles-auction/
LOCATION:Goole\, Wielka Brytania
CATEGORIES:Aukcja
END:VEVENT
BEGIN:VEVENT
DTSTART;VALUE=DATE:20260329
DTEND;VALUE=DATE:20260330
DTSTAMP:20260421T180737
CREATED:20260208T115153Z
LAST-MODIFIED:20260208T115153Z
UID:114489-1774742400-1774828799@klassikauto.pl
SUMMARY:AutoMadness Assen
DESCRIPTION:
URL:https://klassikauto.pl/impreza/automadness-assen-3/
LOCATION:Assen\, Holandia
CATEGORIES:Zlot
END:VEVENT
BEGIN:VEVENT
DTSTART;TZID=Europe/Helsinki:20260329T090000
DTEND;TZID=Europe/Helsinki:20260329T150000
DTSTAMP:20260421T180737
CREATED:20251215T190634Z
LAST-MODIFIED:20251215T190634Z
UID:113680-1774774800-1774796400@klassikauto.pl
SUMMARY:Początek sezonu C. S. Klasyków 2026
DESCRIPTION:
URL:https://klassikauto.pl/impreza/poczatek-sezonu-c-s-klasykow-2026/
LOCATION:Mińsk Mazowiecki
CATEGORIES:Zlot
END:VEVENT
BEGIN:VEVENT
DTSTART;TZID=Europe/Helsinki:20260329T120000
DTEND;TZID=Europe/Helsinki:20260329T150000
DTSTAMP:20260421T180737
CREATED:20260322T140216Z
LAST-MODIFIED:20260322T140216Z
UID:115506-1774785600-1774796400@klassikauto.pl
SUMMARY:Klasyczne Rozpoczęcie Sezonu – Spotkanie Pojazdów Zabytkowych
DESCRIPTION:Polana Topacz
URL:https://klassikauto.pl/impreza/klasyczne-rozpoczecie-sezonu-spotkanie-pojazdow-zabytkowych/
LOCATION:Ślęza
CATEGORIES:Zlot
END:VEVENT
BEGIN:VEVENT
DTSTART;TZID=Europe/Helsinki:20260329T120000
DTEND;TZID=Europe/Helsinki:20260329T160000
DTSTAMP:20260421T180737
CREATED:20260207T183016Z
LAST-MODIFIED:20260207T183016Z
UID:114372-1774785600-1774800000@klassikauto.pl
SUMMARY:Rozpoczęcie Sezonu Klasycznie 2026
DESCRIPTION:
URL:https://klassikauto.pl/impreza/rozpoczecie-sezonu-klasycznie-2026/
LOCATION:Kosakowo
CATEGORIES:Zlot
END:VEVENT
END:VCALENDAR
<!-- RunCloud Hub 2026-04-21 17:07:37 -->