BEGIN:VCALENDAR
VERSION:2.0
PRODID:-//KlassikAuto.pl - ECPv6.7.0//NONSGML v1.0//EN
CALSCALE:GREGORIAN
METHOD:PUBLISH
X-ORIGINAL-URL:https://klassikauto.pl
X-WR-CALDESC:Wydarzenia dla KlassikAuto.pl
REFRESH-INTERVAL;VALUE=DURATION:PT1H
X-Robots-Tag:noindex
X-PUBLISHED-TTL:PT1H
BEGIN:VTIMEZONE
TZID:Europe/Helsinki
BEGIN:DAYLIGHT
TZOFFSETFROM:+0200
TZOFFSETTO:+0300
TZNAME:EEST
DTSTART:20250330T010000
END:DAYLIGHT
BEGIN:STANDARD
TZOFFSETFROM:+0300
TZOFFSETTO:+0200
TZNAME:EET
DTSTART:20251026T010000
END:STANDARD
BEGIN:DAYLIGHT
TZOFFSETFROM:+0200
TZOFFSETTO:+0300
TZNAME:EEST
DTSTART:20260329T010000
END:DAYLIGHT
BEGIN:STANDARD
TZOFFSETFROM:+0300
TZOFFSETTO:+0200
TZNAME:EET
DTSTART:20261025T010000
END:STANDARD
END:VTIMEZONE
BEGIN:VEVENT
DTSTART;VALUE=DATE:20251211
DTEND;VALUE=DATE:20260302
DTSTAMP:20260421T170727
CREATED:20251214T190859Z
LAST-MODIFIED:20251214T190859Z
UID:113604-1765411200-1772409599@klassikauto.pl
SUMMARY:Ikony Motoryzacji\, 5. Edycja\,
DESCRIPTION:
URL:https://klassikauto.pl/impreza/ikony-motoryzacji-5-edycja/
LOCATION:Warszawa
CATEGORIES:Wystawa
END:VEVENT
BEGIN:VEVENT
DTSTART;VALUE=DATE:20251219
DTEND;VALUE=DATE:20260223
DTSTAMP:20260421T170727
CREATED:20251214T191720Z
LAST-MODIFIED:20251214T191720Z
UID:113610-1766102400-1771804799@klassikauto.pl
SUMMARY:Mercedes\, The Story of the Star
DESCRIPTION:
URL:https://klassikauto.pl/impreza/mercedes-the-story-of-the-star/
LOCATION:Bruksela\, Belgia
CATEGORIES:Wystawa
END:VEVENT
BEGIN:VEVENT
DTSTART;VALUE=DATE:20260212
DTEND;VALUE=DATE:20260216
DTSTAMP:20260421T170727
CREATED:20260208T103844Z
LAST-MODIFIED:20260208T103844Z
UID:114438-1770854400-1771199999@klassikauto.pl
SUMMARY:GruzRally Bieszczady – Ostateczny Dowód Miłości
DESCRIPTION:
URL:https://klassikauto.pl/impreza/gruzrally-bieszczady-ostateczny-dowod-milosci/
LOCATION:Myczkowce
CATEGORIES:Zlot
END:VEVENT
BEGIN:VEVENT
DTSTART;VALUE=DATE:20260213
DTEND;VALUE=DATE:20260216
DTSTAMP:20260421T170727
CREATED:20251227T161741Z
LAST-MODIFIED:20251227T161741Z
UID:113888-1770940800-1771199999@klassikauto.pl
SUMMARY:36th edition of classic salon Ghent Collection Cars 2026
DESCRIPTION:
URL:https://klassikauto.pl/impreza/36th-edition-of-classic-salon-ghent-collection-cars-2026/
LOCATION:Gandawa\, Belgia
CATEGORIES:Targi
END:VEVENT
BEGIN:VEVENT
DTSTART;TZID=Europe/Helsinki:20260213T140000
DTEND;TZID=Europe/Helsinki:20260215T170000
DTSTAMP:20260421T170727
CREATED:20260207T174052Z
LAST-MODIFIED:20260207T174052Z
UID:114362-1770991200-1771174800@klassikauto.pl
SUMMARY:Catalpowe Love 206 – walentynkowy zlot caravaningowy
DESCRIPTION:
URL:https://klassikauto.pl/impreza/catalpowe-love-206-walentynkowy-zlot-caravaningowy/
LOCATION:Piotrków Kujawski
CATEGORIES:Zlot
END:VEVENT
BEGIN:VEVENT
DTSTART;VALUE=DATE:20260214
DTEND;VALUE=DATE:20260215
DTSTAMP:20260421T170727
CREATED:20251227T163326Z
LAST-MODIFIED:20251227T163326Z
UID:113894-1771027200-1771113599@klassikauto.pl
SUMMARY:2. Kryterium SuperOES 2026
DESCRIPTION:
URL:https://klassikauto.pl/impreza/2-kryterium-superoes-2026/
LOCATION:Przeźmierowo
CATEGORIES:Rajd
END:VEVENT
BEGIN:VEVENT
DTSTART;VALUE=DATE:20260214
DTEND;VALUE=DATE:20260215
DTSTAMP:20260421T170727
CREATED:20260208T132346Z
LAST-MODIFIED:20260208T132346Z
UID:114525-1771027200-1771113599@klassikauto.pl
SUMMARY:Walentynkowy Track Day Samochodowy
DESCRIPTION:
URL:https://klassikauto.pl/impreza/walentynkowy-track-day-samochodowy/
LOCATION:Biłgoraj
CATEGORIES:Zlot
END:VEVENT
BEGIN:VEVENT
DTSTART;VALUE=DATE:20260214
DTEND;VALUE=DATE:20260219
DTSTAMP:20260421T170727
CREATED:20251227T165659Z
LAST-MODIFIED:20251227T165659Z
UID:113914-1771027200-1771459199@klassikauto.pl
SUMMARY:Rallye Neige et Glace - Zoulou Racing Heritage
DESCRIPTION:
URL:https://klassikauto.pl/impreza/rallye-neige-et-glace-zoulou-racing-heritage/
LOCATION:Malbuisson\, Francja
CATEGORIES:Rajd
END:VEVENT
BEGIN:VEVENT
DTSTART;TZID=Europe/Helsinki:20260214T090000
DTEND;TZID=Europe/Helsinki:20260214T130000
DTSTAMP:20260421T170727
CREATED:20260207T190511Z
LAST-MODIFIED:20260207T190511Z
UID:114399-1771059600-1771074000@klassikauto.pl
SUMMARY:Wrocławska Giełda Modeli Samochodowych 3 – Edycja Walentynkowa
DESCRIPTION:
URL:https://klassikauto.pl/impreza/wroclawska-gielda-modeli-samochodowych-3-edycja-walentynkowa/
LOCATION:Wrocław\, Wrocław\, Poland
CATEGORIES:Giełda
END:VEVENT
BEGIN:VEVENT
DTSTART;VALUE=DATE:20260215
DTEND;VALUE=DATE:20260216
DTSTAMP:20260421T170727
CREATED:20260208T104832Z
LAST-MODIFIED:20260208T104832Z
UID:114451-1771113600-1771199999@klassikauto.pl
SUMMARY:Der Riesaer Winterteilemarkt für Kraftfahrzeug-Veteranen
DESCRIPTION:
URL:https://klassikauto.pl/impreza/der-riesaer-winterteilemarkt-fur-kraftfahrzeug-veteranen-2/
LOCATION:Riesa\, Niemcy
CATEGORIES:Aukcja
END:VEVENT
BEGIN:VEVENT
DTSTART;TZID=Europe/Helsinki:20260215T090000
DTEND;TZID=Europe/Helsinki:20260215T090000
DTSTAMP:20260421T170727
CREATED:20260208T143443Z
LAST-MODIFIED:20260208T143443Z
UID:114541-1771146000-1771146000@klassikauto.pl
SUMMARY:Rajd Walentynkowy
DESCRIPTION:Organizator: Automobilklub Wielkopolski\, Delegatura Gniezno\,
URL:https://klassikauto.pl/impreza/rajd-walentynkowy-3/
LOCATION:Trzemeszno
CATEGORIES:Rajd
END:VEVENT
BEGIN:VEVENT
DTSTART;TZID=Europe/Helsinki:20260215T100000
DTEND;TZID=Europe/Helsinki:20260215T140000
DTSTAMP:20260421T170727
CREATED:20251214T191907Z
LAST-MODIFIED:20251214T191907Z
UID:113612-1771149600-1771164000@klassikauto.pl
SUMMARY:The 17th Love Bugs Parade
DESCRIPTION:
URL:https://klassikauto.pl/impreza/the-17th-love-bugs-parade/
LOCATION:Bruksela\, Belgia
CATEGORIES:Zlot
END:VEVENT
BEGIN:VEVENT
DTSTART;VALUE=DATE:20260219
DTEND;VALUE=DATE:20260223
DTSTAMP:20260421T170727
CREATED:20251215T201804Z
LAST-MODIFIED:20251215T201804Z
UID:113723-1771459200-1771804799@klassikauto.pl
SUMMARY:MOTORbeurs Utrecht 2026
DESCRIPTION:
URL:https://klassikauto.pl/impreza/motorbeurs-utrecht-2026/
LOCATION:Utrecht\, Holandia
CATEGORIES:Targi
END:VEVENT
BEGIN:VEVENT
DTSTART;VALUE=DATE:20260219
DTEND;VALUE=DATE:20260223
DTSTAMP:20260421T170727
CREATED:20251227T170310Z
LAST-MODIFIED:20251227T170310Z
UID:113919-1771459200-1771804799@klassikauto.pl
SUMMARY:Retro Classics 2026
DESCRIPTION:
URL:https://klassikauto.pl/impreza/retro-classics-2026/
LOCATION:Stuttgart\, Germany
CATEGORIES:Targi
END:VEVENT
BEGIN:VEVENT
DTSTART;VALUE=DATE:20260220
DTEND;VALUE=DATE:20260223
DTSTAMP:20260421T170727
CREATED:20251227T163827Z
LAST-MODIFIED:20251227T163827Z
UID:113900-1771545600-1771804799@klassikauto.pl
SUMMARY:55. Winterrallye „Rund um Schotten”
DESCRIPTION:
URL:https://klassikauto.pl/impreza/55-winterrallye-rund-um-schotten/
LOCATION:Schotten\, Niemcy
CATEGORIES:Rajd
END:VEVENT
BEGIN:VEVENT
DTSTART;VALUE=DATE:20260220
DTEND;VALUE=DATE:20260223
DTSTAMP:20260421T170727
CREATED:20260208T143911Z
LAST-MODIFIED:20260208T143911Z
UID:114544-1771545600-1771804799@klassikauto.pl
SUMMARY:XV Nasze Wyprawy Motocyklowe
DESCRIPTION:
URL:https://klassikauto.pl/impreza/xv-nasze-wyprawy-motocyklowe/
LOCATION:Kowalówka
CATEGORIES:Rajd
END:VEVENT
BEGIN:VEVENT
DTSTART;VALUE=DATE:20260220
DTEND;VALUE=DATE:20260223
DTSTAMP:20260421T170727
CREATED:20260208T145055Z
LAST-MODIFIED:20260208T145055Z
UID:114550-1771545600-1771804799@klassikauto.pl
SUMMARY:Race Retro - historic motorsport show
DESCRIPTION:
URL:https://klassikauto.pl/impreza/race-retro-historic-motorsport-show-2/
LOCATION:Stoneleigh Park Kenilworth
CATEGORIES:Rajd
END:VEVENT
BEGIN:VEVENT
DTSTART;VALUE=DATE:20260220
DTEND;VALUE=DATE:20260224
DTSTAMP:20260421T170727
CREATED:20251227T170611Z
LAST-MODIFIED:20251227T170611Z
UID:113921-1771545600-1771891199@klassikauto.pl
SUMMARY:1000 Miglia Experience Usa Florida 2026
DESCRIPTION:
URL:https://klassikauto.pl/impreza/1000-miglia-experience-usa-florida-2026/
LOCATION:Miami\, USA
CATEGORIES:Rajd
END:VEVENT
BEGIN:VEVENT
DTSTART;VALUE=DATE:20260221
DTEND;VALUE=DATE:20260223
DTSTAMP:20260421T170727
CREATED:20251227T170116Z
LAST-MODIFIED:20251227T170116Z
UID:113917-1771632000-1771804799@klassikauto.pl
SUMMARY:Oldtimer Meeting Toruń
DESCRIPTION:
URL:https://klassikauto.pl/impreza/oldtimer-meeting-torun-4/
LOCATION:Toruń
CATEGORIES:Zlot
END:VEVENT
BEGIN:VEVENT
DTSTART;VALUE=DATE:20260221
DTEND;VALUE=DATE:20260223
DTSTAMP:20260421T170727
CREATED:20260208T105119Z
LAST-MODIFIED:20260208T105119Z
UID:114453-1771632000-1771804799@klassikauto.pl
SUMMARY:Camperbeurs Den Bosch
DESCRIPTION:
URL:https://klassikauto.pl/impreza/camperbeurs-den-bosch/
LOCATION:Hertogenbosch\, Holandia
CATEGORIES:Zlot
END:VEVENT
BEGIN:VEVENT
DTSTART;VALUE=DATE:20260221
DTEND;VALUE=DATE:20260309
DTSTAMP:20260421T170727
CREATED:20251227T083844Z
LAST-MODIFIED:20251227T083844Z
UID:113841-1771632000-1773014399@klassikauto.pl
SUMMARY:Baltic Sea Circle Winter Edition 2026
DESCRIPTION:
URL:https://klassikauto.pl/impreza/baltic-sea-circle-winter-edition-2026/
LOCATION:Hamburg\, Niemcy
CATEGORIES:Rajd
END:VEVENT
BEGIN:VEVENT
DTSTART;TZID=Europe/Helsinki:20260221T080000
DTEND;TZID=Europe/Helsinki:20260221T193000
DTSTAMP:20260421T170727
CREATED:20260208T145530Z
LAST-MODIFIED:20260208T145530Z
UID:114552-1771660800-1771702200@klassikauto.pl
SUMMARY:58. Rallye Monte-Calvaria 2026
DESCRIPTION:
URL:https://klassikauto.pl/impreza/58-rallye-monte-calvaria-2026/
LOCATION:Góra Kalwaria
CATEGORIES:Rajd
END:VEVENT
BEGIN:VEVENT
DTSTART;TZID=Europe/Helsinki:20260221T120000
DTEND;TZID=Europe/Helsinki:20260222T170000
DTSTAMP:20260421T170727
CREATED:20251215T190324Z
LAST-MODIFIED:20251215T190324Z
UID:113676-1771675200-1771779600@klassikauto.pl
SUMMARY:KUSTOMHEAD 2026 - wystawa zabytkowych aut amerykańskich\, motocykli i rowerów custom
DESCRIPTION:
URL:https://klassikauto.pl/impreza/kustomhead-2026-wystawa-zabytkowych-aut-amerykanskich-motocykli-i-rowerow-custom/
LOCATION:Wrocław\, Wrocław\, Poland
CATEGORIES:Wystawa
END:VEVENT
BEGIN:VEVENT
DTSTART;TZID=Europe/Helsinki:20260222T100000
DTEND;TZID=Europe/Helsinki:20260222T140000
DTSTAMP:20260421T170727
CREATED:20251214T192114Z
LAST-MODIFIED:20251214T192114Z
UID:113614-1771754400-1771768800@klassikauto.pl
SUMMARY:Cars & Coffee – Mercedes\, The Story of the Star\,
DESCRIPTION:
URL:https://klassikauto.pl/impreza/cars-coffee-mercedes-the-story-of-the-star/
LOCATION:Bruksela\, Belgia
CATEGORIES:Zlot
END:VEVENT
BEGIN:VEVENT
DTSTART;TZID=Europe/Helsinki:20260225T080000
DTEND;TZID=Europe/Helsinki:20260303T170000
DTSTAMP:20260421T170727
CREATED:20260207T172732Z
LAST-MODIFIED:20260207T172732Z
UID:114347-1772006400-1772557200@klassikauto.pl
SUMMARY:Geneva International Auto Show 2026
DESCRIPTION:
URL:https://klassikauto.pl/impreza/geneva-international-auto-show-2026/
LOCATION:Genewa\, Szwajcaria
CATEGORIES:Targi
END:VEVENT
BEGIN:VEVENT
DTSTART;VALUE=DATE:20260226
DTEND;VALUE=DATE:20260301
DTSTAMP:20260421T170727
CREATED:20260208T144201Z
LAST-MODIFIED:20260208T144201Z
UID:114546-1772064000-1772323199@klassikauto.pl
SUMMARY:Salón Classic Madrid
DESCRIPTION:
URL:https://klassikauto.pl/impreza/salon-classic-madrid/
LOCATION:Madryd\, Hiszpania
CATEGORIES:Targi
END:VEVENT
BEGIN:VEVENT
DTSTART;TZID=Europe/Helsinki:20260227T080000
DTEND;TZID=Europe/Helsinki:20260419T170000
DTSTAMP:20260421T170727
CREATED:20260208T131325Z
LAST-MODIFIED:20260208T131325Z
UID:114519-1772179200-1776618000@klassikauto.pl
SUMMARY:Lancia 120 years - innovation through italian design
DESCRIPTION:
URL:https://klassikauto.pl/impreza/lancia-120-years-innovation-through-italian-design/
LOCATION:Muzeum Autoworld\, Bruksela\, Belgia
CATEGORIES:Wystawa
END:VEVENT
BEGIN:VEVENT
DTSTART;VALUE=DATE:20260228
DTEND;VALUE=DATE:20260301
DTSTAMP:20260421T170727
CREATED:20251227T163442Z
LAST-MODIFIED:20251227T163442Z
UID:113896-1772236800-1772323199@klassikauto.pl
SUMMARY:3. Kryterium SuperOES 2026
DESCRIPTION:
URL:https://klassikauto.pl/impreza/3-kryterium-superoes-2026/
LOCATION:Przeźmierowo
CATEGORIES:Rajd
END:VEVENT
BEGIN:VEVENT
DTSTART;TZID=Europe/Helsinki:20260228T160000
DTEND;TZID=Europe/Helsinki:20260228T160000
DTSTAMP:20260421T170727
CREATED:20251227T155310Z
LAST-MODIFIED:20251227T155310Z
UID:113874-1772294400-1772294400@klassikauto.pl
SUMMARY:9. Urodziny Opel Klub Łódzkie
DESCRIPTION:
URL:https://klassikauto.pl/impreza/9-urodziny-opel-klub-lodzkie/
LOCATION:Łódź
CATEGORIES:Zlot
END:VEVENT
BEGIN:VEVENT
DTSTART;VALUE=DATE:20260301
DTEND;VALUE=DATE:20260302
DTSTAMP:20260421T170727
CREATED:20260207T175552Z
LAST-MODIFIED:20260326T181003Z
UID:114370-1772323200-1772409599@klassikauto.pl
SUMMARY:Oldtimerbazar
DESCRIPTION:
URL:https://klassikauto.pl/impreza/oldtimerbazar-38/
LOCATION:Wrocław\, Wrocław\, Poland
CATEGORIES:Giełda
END:VEVENT
END:VCALENDAR
<!-- RunCloud Hub 2026-04-21 16:07:27 -->