BEGIN:VCALENDAR
VERSION:2.0
PRODID:-//KlassikAuto.pl - ECPv6.7.0//NONSGML v1.0//EN
CALSCALE:GREGORIAN
METHOD:PUBLISH
X-ORIGINAL-URL:https://klassikauto.pl
X-WR-CALDESC:Wydarzenia dla KlassikAuto.pl
REFRESH-INTERVAL;VALUE=DURATION:PT1H
X-Robots-Tag:noindex
X-PUBLISHED-TTL:PT1H
BEGIN:VTIMEZONE
TZID:Europe/Helsinki
BEGIN:DAYLIGHT
TZOFFSETFROM:+0200
TZOFFSETTO:+0300
TZNAME:EEST
DTSTART:20250330T010000
END:DAYLIGHT
BEGIN:STANDARD
TZOFFSETFROM:+0300
TZOFFSETTO:+0200
TZNAME:EET
DTSTART:20251026T010000
END:STANDARD
BEGIN:DAYLIGHT
TZOFFSETFROM:+0200
TZOFFSETTO:+0300
TZNAME:EEST
DTSTART:20260329T010000
END:DAYLIGHT
BEGIN:STANDARD
TZOFFSETFROM:+0300
TZOFFSETTO:+0200
TZNAME:EET
DTSTART:20261025T010000
END:STANDARD
END:VTIMEZONE
BEGIN:VEVENT
DTSTART;VALUE=DATE:20250905
DTEND;VALUE=DATE:20251215
DTSTAMP:20260421T183541
CREATED:20250426T190329Z
LAST-MODIFIED:20250830T143849Z
UID:109962-1757030400-1765756799@klassikauto.pl
SUMMARY:German tuners from the '80s and the '90s
DESCRIPTION:
URL:https://klassikauto.pl/impreza/german-tuners-from-the-80s-and-the-90s/
LOCATION:Museum Autoworld\, Bruksela\, Belgia
CATEGORIES:Wystawa
END:VEVENT
BEGIN:VEVENT
DTSTART;TZID=Europe/Helsinki:20251023T080000
DTEND;TZID=Europe/Helsinki:20251214T170000
DTSTAMP:20260421T183541
CREATED:20241222T124927Z
LAST-MODIFIED:20241222T124927Z
UID:107167-1761206400-1765731600@klassikauto.pl
SUMMARY:Restomods – Reborn Legends
DESCRIPTION:
URL:https://klassikauto.pl/impreza/restomods-reborn-legends/
LOCATION:Museum Autoworld\, Bruksela\, Belgia
CATEGORIES:Wystawa
END:VEVENT
BEGIN:VEVENT
DTSTART;VALUE=DATE:20251205
DTEND;VALUE=DATE:20251208
DTSTAMP:20260421T183541
CREATED:20240929T125705Z
LAST-MODIFIED:20241222T120830Z
UID:105754-1764892800-1765151999@klassikauto.pl
SUMMARY:Retro Classic Bavaria
DESCRIPTION:
URL:https://klassikauto.pl/impreza/retro-classic-bavaria-2/
LOCATION:Norymberga\, Niemcy
CATEGORIES:Targi
END:VEVENT
BEGIN:VEVENT
DTSTART;VALUE=DATE:20251211
DTEND;VALUE=DATE:20260302
DTSTAMP:20260421T183541
CREATED:20251214T190859Z
LAST-MODIFIED:20251214T190859Z
UID:113604-1765411200-1772409599@klassikauto.pl
SUMMARY:Ikony Motoryzacji\, 5. Edycja\,
DESCRIPTION:
URL:https://klassikauto.pl/impreza/ikony-motoryzacji-5-edycja/
LOCATION:Warszawa
CATEGORIES:Wystawa
END:VEVENT
BEGIN:VEVENT
DTSTART;VALUE=DATE:20251214
DTEND;VALUE=DATE:20251215
DTSTAMP:20260421T183541
CREATED:20241226T084839Z
LAST-MODIFIED:20241226T084839Z
UID:107371-1765670400-1765756799@klassikauto.pl
SUMMARY:Ogólnopolska Giełda Modeli Samochodów im. Sławoja Gwiazdowskiego
DESCRIPTION:
URL:https://klassikauto.pl/impreza/ogolnopolska-gielda-modeli-samochodow-im-slawoja-gwiazdowskiego-21/
LOCATION:Warszawa
CATEGORIES:Giełda
END:VEVENT
BEGIN:VEVENT
DTSTART;VALUE=DATE:20251219
DTEND;VALUE=DATE:20260223
DTSTAMP:20260421T183541
CREATED:20251214T191720Z
LAST-MODIFIED:20251214T191720Z
UID:113610-1766102400-1771804799@klassikauto.pl
SUMMARY:Mercedes\, The Story of the Star
DESCRIPTION:
URL:https://klassikauto.pl/impreza/mercedes-the-story-of-the-star/
LOCATION:Bruksela\, Belgia
CATEGORIES:Wystawa
END:VEVENT
BEGIN:VEVENT
DTSTART;TZID=Europe/Helsinki:20251220T100000
DTEND;TZID=Europe/Helsinki:20251221T200000
DTSTAMP:20260421T183541
CREATED:20251215T191009Z
LAST-MODIFIED:20251215T191009Z
UID:113684-1766224800-1766347200@klassikauto.pl
SUMMARY:Wystawa modeli samochodów w mikroskali w Nowej Stacji
DESCRIPTION:
URL:https://klassikauto.pl/impreza/wystawa-modeli-samochodow-w-mikroskali-w-nowej-stacji/
LOCATION:Pruszków
CATEGORIES:Wystawa
END:VEVENT
BEGIN:VEVENT
DTSTART;TZID=Europe/Helsinki:20251221T090000
DTEND;TZID=Europe/Helsinki:20251221T090000
DTSTAMP:20260421T183541
CREATED:20241229T112731Z
LAST-MODIFIED:20251215T200921Z
UID:107644-1766307600-1766307600@klassikauto.pl
SUMMARY:Classic Car Show
DESCRIPTION:
URL:https://klassikauto.pl/impreza/classic-car-show-2/
LOCATION:Windlesham\, Wielka Brytania
CATEGORIES:Zlot
END:VEVENT
BEGIN:VEVENT
DTSTART;VALUE=DATE:20260101
DTEND;VALUE=DATE:20260102
DTSTAMP:20260421T183541
CREATED:20251214T190244Z
LAST-MODIFIED:20251214T190244Z
UID:113599-1767225600-1767311999@klassikauto.pl
SUMMARY:Wesołe Maluchy 126p i Przyjaciele – plan na rozpoczęcie sezonu
DESCRIPTION:
URL:https://klassikauto.pl/impreza/wesole-maluchy-126p-i-przyjaciele-plan-na-rozpoczecie-sezonu/
END:VEVENT
BEGIN:VEVENT
DTSTART;VALUE=DATE:20260103
DTEND;VALUE=DATE:20260105
DTSTAMP:20260421T183541
CREATED:20251214T200512Z
LAST-MODIFIED:20251214T200519Z
UID:113648-1767398400-1767571199@klassikauto.pl
SUMMARY:Kever Winter Festijn in de Autotron
DESCRIPTION:
URL:https://klassikauto.pl/impreza/kever-winter-festijn-in-de-autotron-2/
LOCATION:Hertogenbosch\, Holandia
CATEGORIES:Targi
END:VEVENT
BEGIN:VEVENT
DTSTART;VALUE=DATE:20260103
DTEND;VALUE=DATE:20260118
DTSTAMP:20260421T183541
CREATED:20251227T164108Z
LAST-MODIFIED:20251227T164108Z
UID:113902-1767398400-1768694399@klassikauto.pl
SUMMARY:Dakar Classic
DESCRIPTION:
URL:https://klassikauto.pl/impreza/dakar-classic/
LOCATION:Riad\, Arabia Saudyjska
CATEGORIES:Rajd
END:VEVENT
BEGIN:VEVENT
DTSTART;TZID=Europe/Helsinki:20260103T100000
DTEND;TZID=Europe/Helsinki:20260103T140000
DTSTAMP:20260421T183541
CREATED:20251214T193045Z
LAST-MODIFIED:20251214T193251Z
UID:113616-1767434400-1767448800@klassikauto.pl
SUMMARY:Jahresauftakt\, Toyota-Fanbörse\, 90 Jahre Serienproduktion bei Toyota
DESCRIPTION:
URL:https://klassikauto.pl/impreza/jahresauftakt-toyota-fanborse-90-jahre-serienproduktion-bei-toyota/
LOCATION:Kolonia\, Niemcy
CATEGORIES:Zlot
END:VEVENT
BEGIN:VEVENT
DTSTART;VALUE=DATE:20260107
DTEND;VALUE=DATE:20260108
DTSTAMP:20260421T183541
CREATED:20251227T154726Z
LAST-MODIFIED:20251227T154726Z
UID:113872-1767744000-1767830399@klassikauto.pl
SUMMARY:Classics & Sports Cars
DESCRIPTION:
URL:https://klassikauto.pl/impreza/classics-sports-cars/
LOCATION:Uithoorn\, Holandia
CATEGORIES:Aukcja
END:VEVENT
BEGIN:VEVENT
DTSTART;VALUE=DATE:20260108
DTEND;VALUE=DATE:20260111
DTSTAMP:20260421T183541
CREATED:20251214T203207Z
LAST-MODIFIED:20251214T203207Z
UID:113662-1767830400-1768089599@klassikauto.pl
SUMMARY:Planai Classic 2026
DESCRIPTION:
URL:https://klassikauto.pl/impreza/planai-classic-2026/
LOCATION:Planai\, Austria
CATEGORIES:Rajd
END:VEVENT
BEGIN:VEVENT
DTSTART;VALUE=DATE:20260109
DTEND;VALUE=DATE:20260112
DTSTAMP:20260421T183541
CREATED:20251214T203906Z
LAST-MODIFIED:20251214T203906Z
UID:113668-1767916800-1768175999@klassikauto.pl
SUMMARY:XX Zimowy Motocyklowy Zlot Pingwina w Bytomiu
DESCRIPTION:
URL:https://klassikauto.pl/impreza/xx-zimowy-motocyklowy-zlot-pingwina-w-bytomiu/
LOCATION:Bytom
CATEGORIES:Zlot
END:VEVENT
BEGIN:VEVENT
DTSTART;TZID=Europe/Helsinki:20260109T100000
DTEND;TZID=Europe/Helsinki:20260109T100000
DTSTAMP:20260421T183541
CREATED:20251215T192324Z
LAST-MODIFIED:20251215T192324Z
UID:113694-1767952800-1767952800@klassikauto.pl
SUMMARY:Brussels Motor Show
DESCRIPTION:
URL:https://klassikauto.pl/impreza/brussels-motor-show/
LOCATION:Bruksela\, Belgia
CATEGORIES:Targi
END:VEVENT
BEGIN:VEVENT
DTSTART;TZID=Europe/Helsinki:20260109T120000
DTEND;TZID=Europe/Helsinki:20260111T120000
DTSTAMP:20260421T183541
CREATED:20251215T185808Z
LAST-MODIFIED:20251215T185808Z
UID:113672-1767960000-1768132800@klassikauto.pl
SUMMARY:II Sowi Zimowy Zlot Motocyklowy
DESCRIPTION:
URL:https://klassikauto.pl/impreza/ii-sowi-zimowy-zlot-motocyklowy/
LOCATION:Walim
CATEGORIES:Zlot
END:VEVENT
BEGIN:VEVENT
DTSTART;TZID=Europe/Helsinki:20260109T190000
DTEND;TZID=Europe/Helsinki:20260118T190000
DTSTAMP:20260421T183541
CREATED:20251215T192521Z
LAST-MODIFIED:20251215T192521Z
UID:113696-1767985200-1768762800@klassikauto.pl
SUMMARY:Brussels Motor Show 2026 x CFMOTO
DESCRIPTION:
URL:https://klassikauto.pl/impreza/brussels-motor-show-2026-x-cfmoto/
LOCATION:Bruksela\, Belgia
CATEGORIES:Targi
END:VEVENT
BEGIN:VEVENT
DTSTART;VALUE=DATE:20260110
DTEND;VALUE=DATE:20260111
DTSTAMP:20260421T183541
CREATED:20251215T193103Z
LAST-MODIFIED:20251215T193103Z
UID:113700-1768003200-1768089599@klassikauto.pl
SUMMARY:Historic Rally Car Register Open Day
DESCRIPTION:
URL:https://klassikauto.pl/impreza/historic-rally-car-register-open-day-2/
LOCATION:Gaydon\, Wielka Brytania
CATEGORIES:Rajd
END:VEVENT
BEGIN:VEVENT
DTSTART;VALUE=DATE:20260110
DTEND;VALUE=DATE:20260112
DTSTAMP:20260421T183541
CREATED:20251215T194027Z
LAST-MODIFIED:20251215T194027Z
UID:113706-1768003200-1768175999@klassikauto.pl
SUMMARY:MotoVelo
DESCRIPTION:
URL:https://klassikauto.pl/impreza/motovelo-4/
LOCATION:Hertogenbosch\, Holandia
CATEGORIES:Targi
END:VEVENT
BEGIN:VEVENT
DTSTART;TZID=Europe/Helsinki:20260110T090000
DTEND;TZID=Europe/Helsinki:20260110T180000
DTSTAMP:20260421T183541
CREATED:20251215T192859Z
LAST-MODIFIED:20251215T192859Z
UID:113698-1768035600-1768068000@klassikauto.pl
SUMMARY:2nd Swap Meet Nürnberg
DESCRIPTION:
URL:https://klassikauto.pl/impreza/2nd-swap-meet-nurnberg/
LOCATION:Norymberga\, Niemcy
CATEGORIES:Zlot
END:VEVENT
BEGIN:VEVENT
DTSTART;TZID=Europe/Helsinki:20260110T100000
DTEND;TZID=Europe/Helsinki:20260111T170000
DTSTAMP:20260421T183541
CREATED:20251215T193402Z
LAST-MODIFIED:20251215T193402Z
UID:113702-1768039200-1768150800@klassikauto.pl
SUMMARY:17. VW Käfer und VW Veteranen Wintertreffen
DESCRIPTION:
URL:https://klassikauto.pl/impreza/17-vw-kafer-und-vw-veteranen-wintertreffen/
LOCATION:Herford\, Niemcy
CATEGORIES:Zlot
END:VEVENT
BEGIN:VEVENT
DTSTART;TZID=Europe/Helsinki:20260114T080000
DTEND;TZID=Europe/Helsinki:20260116T170000
DTSTAMP:20260421T183541
CREATED:20251227T164422Z
LAST-MODIFIED:20251227T164422Z
UID:113905-1768377600-1768582800@klassikauto.pl
SUMMARY:InterClassics Rally – Oldtimer Rallye
DESCRIPTION:
URL:https://klassikauto.pl/impreza/interclassics-rally-oldtimer-rallye/
LOCATION:Maastricht
CATEGORIES:Rajd
END:VEVENT
BEGIN:VEVENT
DTSTART;VALUE=DATE:20260115
DTEND;VALUE=DATE:20260118
DTSTAMP:20260421T183541
CREATED:20251215T194831Z
LAST-MODIFIED:20251215T194831Z
UID:113712-1768435200-1768694399@klassikauto.pl
SUMMARY:19. Winterrallye
DESCRIPTION:
URL:https://klassikauto.pl/impreza/19-winterrallye/
LOCATION:Steienmark\, Austria
CATEGORIES:Rajd
END:VEVENT
BEGIN:VEVENT
DTSTART;VALUE=DATE:20260115
DTEND;VALUE=DATE:20260119
DTSTAMP:20260421T183541
CREATED:20251215T194405Z
LAST-MODIFIED:20251215T194405Z
UID:113708-1768435200-1768780799@klassikauto.pl
SUMMARY:Interclassic Maastricht
DESCRIPTION:
URL:https://klassikauto.pl/impreza/interclassic-maastricht/
LOCATION:Maastricht
CATEGORIES:Targi
END:VEVENT
BEGIN:VEVENT
DTSTART;TZID=Europe/Helsinki:20260116T150000
DTEND;TZID=Europe/Helsinki:20260118T110000
DTSTAMP:20260421T183541
CREATED:20251214T201147Z
LAST-MODIFIED:20251214T201147Z
UID:113650-1768575600-1768734000@klassikauto.pl
SUMMARY:Zimowy Zlot Mini
DESCRIPTION:
URL:https://klassikauto.pl/impreza/zimowy-zlot-mini/
LOCATION:Szczyrk
CATEGORIES:Zlot
END:VEVENT
BEGIN:VEVENT
DTSTART;TZID=Europe/Helsinki:20260117T100000
DTEND;TZID=Europe/Helsinki:20260118T170000
DTSTAMP:20260421T183541
CREATED:20251215T190512Z
LAST-MODIFIED:20251215T190512Z
UID:113678-1768644000-1768755600@klassikauto.pl
SUMMARY:Pelikan Team 14. Walimska Zimówka
DESCRIPTION:
URL:https://klassikauto.pl/impreza/pelikan-team-14-walimska-zimowka/
LOCATION:Walim
CATEGORIES:Rajd
END:VEVENT
BEGIN:VEVENT
DTSTART;TZID=Europe/Helsinki:20260118T090000
DTEND;TZID=Europe/Helsinki:20260118T090000
DTSTAMP:20260421T183541
CREATED:20251215T201619Z
LAST-MODIFIED:20251215T201619Z
UID:113721-1768726800-1768726800@klassikauto.pl
SUMMARY:X Rajd Moto WOŚP
DESCRIPTION:
URL:https://klassikauto.pl/impreza/x-rajd-moto-wosp/
LOCATION:Trójmiasto
CATEGORIES:Rajd
END:VEVENT
BEGIN:VEVENT
DTSTART;TZID=Europe/Helsinki:20260118T120000
DTEND;TZID=Europe/Helsinki:20260118T120000
DTSTAMP:20260421T183541
CREATED:20251215T201412Z
LAST-MODIFIED:20251215T201412Z
UID:113719-1768737600-1768737600@klassikauto.pl
SUMMARY:IV Chojnicki Zlot dla WOSP
DESCRIPTION:
URL:https://klassikauto.pl/impreza/iv-chojnicki-zlot-dla-wosp/
LOCATION:Chojnice
CATEGORIES:Zlot
END:VEVENT
BEGIN:VEVENT
DTSTART;VALUE=DATE:20260122
DTEND;VALUE=DATE:20260126
DTSTAMP:20260421T183541
CREATED:20251227T165106Z
LAST-MODIFIED:20251227T165106Z
UID:113912-1769040000-1769385599@klassikauto.pl
SUMMARY:Rallye Automobile Monte-Carlo
DESCRIPTION:
URL:https://klassikauto.pl/impreza/rallye-automobile-monte-carlo/
LOCATION:Monte Carlo\, Monaco
CATEGORIES:Rajd
END:VEVENT
END:VCALENDAR
<!-- RunCloud Hub 2026-04-21 17:35:41 -->