BEGIN:VCALENDAR
VERSION:2.0
PRODID:-//KlassikAuto.pl - ECPv6.7.0//NONSGML v1.0//EN
CALSCALE:GREGORIAN
METHOD:PUBLISH
X-ORIGINAL-URL:https://klassikauto.pl
X-WR-CALDESC:Wydarzenia dla KlassikAuto.pl
REFRESH-INTERVAL;VALUE=DURATION:PT1H
X-Robots-Tag:noindex
X-PUBLISHED-TTL:PT1H
BEGIN:VTIMEZONE
TZID:Europe/Helsinki
BEGIN:DAYLIGHT
TZOFFSETFROM:+0200
TZOFFSETTO:+0300
TZNAME:EEST
DTSTART:20250330T010000
END:DAYLIGHT
BEGIN:STANDARD
TZOFFSETFROM:+0300
TZOFFSETTO:+0200
TZNAME:EET
DTSTART:20251026T010000
END:STANDARD
END:VTIMEZONE
BEGIN:VEVENT
DTSTART;VALUE=DATE:20250905
DTEND;VALUE=DATE:20251215
DTSTAMP:20260422T030805
CREATED:20250426T190329Z
LAST-MODIFIED:20250830T143849Z
UID:109962-1757030400-1765756799@klassikauto.pl
SUMMARY:German tuners from the '80s and the '90s
DESCRIPTION:
URL:https://klassikauto.pl/impreza/german-tuners-from-the-80s-and-the-90s/
LOCATION:Museum Autoworld\, Bruksela\, Belgia
CATEGORIES:Wystawa
END:VEVENT
BEGIN:VEVENT
DTSTART;TZID=Europe/Helsinki:20250911T080000
DTEND;TZID=Europe/Helsinki:20250913T170000
DTSTAMP:20260422T030805
CREATED:20250204T202948Z
LAST-MODIFIED:20250204T202948Z
UID:108365-1757577600-1757782800@klassikauto.pl
SUMMARY:XVI Oldtimer Bohemia 2025 / IV Youngtimer Bohemia Rally 2025 / FIVA – Poland
DESCRIPTION:
URL:https://klassikauto.pl/impreza/xvi-oldtimer-bohemia-2025-iv-youngtimer-bohemia-rally-2025-fiva-poland/
LOCATION:Mlada Boleslav\, Czechy
CATEGORIES:Rajd
END:VEVENT
BEGIN:VEVENT
DTSTART;TZID=Europe/Helsinki:20250911T150000
DTEND;TZID=Europe/Helsinki:20250914T100000
DTSTAMP:20260422T030805
CREATED:20250406T091204Z
LAST-MODIFIED:20250406T091204Z
UID:109559-1757602800-1757844000@klassikauto.pl
SUMMARY:VII Bałtycki Rajd Dębki „Playa”
DESCRIPTION:
URL:https://klassikauto.pl/impreza/vii-baltycki-rajd-debki-playa/
LOCATION:Dębki
CATEGORIES:Rajd
END:VEVENT
BEGIN:VEVENT
DTSTART;TZID=Europe/Helsinki:20250911T183000
DTEND;TZID=Europe/Helsinki:20250911T213000
DTSTAMP:20260422T030805
CREATED:20250830T131815Z
LAST-MODIFIED:20250830T131815Z
UID:112261-1757615400-1757626200@klassikauto.pl
SUMMARY:Graciarskie Obiadki Czwartkowe No77
DESCRIPTION:
URL:https://klassikauto.pl/impreza/graciarskie-obiadki-czwartkowe-no77/
LOCATION:Poznań
CATEGORIES:Spot
END:VEVENT
BEGIN:VEVENT
DTSTART;VALUE=DATE:20250912
DTEND;VALUE=DATE:20250914
DTSTAMP:20260422T030805
CREATED:20250830T142504Z
LAST-MODIFIED:20250830T142504Z
UID:112328-1757635200-1757807999@klassikauto.pl
SUMMARY:5 Luxembourg Classic
DESCRIPTION:5classic car rally through the Grand Duchy of Luxembourg
URL:https://klassikauto.pl/impreza/5-luxembourg-classic/
LOCATION:Luksemburg
CATEGORIES:Rajd
END:VEVENT
BEGIN:VEVENT
DTSTART;VALUE=DATE:20250912
DTEND;VALUE=DATE:20250915
DTSTAMP:20260422T030805
CREATED:20241228T075556Z
LAST-MODIFIED:20241228T075556Z
UID:107423-1757635200-1757894399@klassikauto.pl
SUMMARY:Hart voor Auto's SHOWTIME
DESCRIPTION:
URL:https://klassikauto.pl/impreza/hart-voor-autos-showtime-4/
LOCATION:Assen\, Holandia
CATEGORIES:Targi
END:VEVENT
BEGIN:VEVENT
DTSTART;VALUE=DATE:20250912
DTEND;VALUE=DATE:20250915
DTSTAMP:20260422T030805
CREATED:20250830T132207Z
LAST-MODIFIED:20250830T132207Z
UID:112265-1757635200-1757894399@klassikauto.pl
SUMMARY:2025 Goodwood Revival
DESCRIPTION:
URL:https://klassikauto.pl/impreza/2025-goodwood-revival/
LOCATION:Goodwood
CATEGORIES:Zlot
END:VEVENT
BEGIN:VEVENT
DTSTART;TZID=Europe/Helsinki:20250912T100000
DTEND;TZID=Europe/Helsinki:20250914T170000
DTSTAMP:20260422T030805
CREATED:20250830T132510Z
LAST-MODIFIED:20250830T132510Z
UID:112267-1757671200-1757869200@klassikauto.pl
SUMMARY:Slovak Car Festival 2025
DESCRIPTION:
URL:https://klassikauto.pl/impreza/slovak-car-festival-2025/
LOCATION:Brezno\, Słowacja
CATEGORIES:Targi
END:VEVENT
BEGIN:VEVENT
DTSTART;TZID=Europe/Helsinki:20250912T120000
DTEND;TZID=Europe/Helsinki:20250914T233000
DTSTAMP:20260422T030805
CREATED:20250830T132707Z
LAST-MODIFIED:20250830T132707Z
UID:112270-1757678400-1757892600@klassikauto.pl
SUMMARY:48. Rally sraz Skoda
DESCRIPTION:
URL:https://klassikauto.pl/impreza/48-rally-sraz-skoda/
LOCATION:Běšiny\, Czechy
CATEGORIES:Rajd,Zlot
END:VEVENT
BEGIN:VEVENT
DTSTART;TZID=Europe/Helsinki:20250912T150000
DTEND;TZID=Europe/Helsinki:20250914T150000
DTSTAMP:20260422T030805
CREATED:20250830T140805Z
LAST-MODIFIED:20250830T140805Z
UID:112314-1757689200-1757862000@klassikauto.pl
SUMMARY:Vespa Zlot Mazowsze 2025
DESCRIPTION:
URL:https://klassikauto.pl/impreza/vespa-zlot-mazowsze-2025/
LOCATION:Rynie
CATEGORIES:Zlot
END:VEVENT
BEGIN:VEVENT
DTSTART;TZID=Europe/Helsinki:20250912T160000
DTEND;TZID=Europe/Helsinki:20250914T140000
DTSTAMP:20260422T030805
CREATED:20250830T105959Z
LAST-MODIFIED:20250830T105959Z
UID:112192-1757692800-1757858400@klassikauto.pl
SUMMARY:Kaszëbë Low 2025
DESCRIPTION:
URL:https://klassikauto.pl/impreza/kaszebe-low-2025/
LOCATION:Tuchomka
CATEGORIES:Zlot
END:VEVENT
BEGIN:VEVENT
DTSTART;TZID=Europe/Helsinki:20250912T160000
DTEND;TZID=Europe/Helsinki:20250914T180000
DTSTAMP:20260422T030805
CREATED:20250426T163145Z
LAST-MODIFIED:20250426T163145Z
UID:109849-1757692800-1757872800@klassikauto.pl
SUMMARY:Moto Show Boguchwała – Zlot i 20. Rajd Klasyczny Hoffman Autorak
DESCRIPTION:
URL:https://klassikauto.pl/impreza/moto-show-boguchwala-zlot-i-20-rajd-klasyczny-hoffman-autorak/
LOCATION:Boguchwała
CATEGORIES:Rajd,Zlot
END:VEVENT
BEGIN:VEVENT
DTSTART;TZID=Europe/Helsinki:20250913T080000
DTEND;TZID=Europe/Helsinki:20250913T190000
DTSTAMP:20260422T030805
CREATED:20250531T112831Z
LAST-MODIFIED:20250531T112831Z
UID:110456-1757750400-1757790000@klassikauto.pl
SUMMARY:25 lat od zakończenia produkcji Fiata 126p
DESCRIPTION:
URL:https://klassikauto.pl/impreza/25-lat-od-zakonczenia-produkcji-fiata-126p/
LOCATION:Łódź
CATEGORIES:Zlot
END:VEVENT
BEGIN:VEVENT
DTSTART;TZID=Europe/Helsinki:20250913T080000
DTEND;TZID=Europe/Helsinki:20250914T170000
DTSTAMP:20260422T030805
CREATED:20250830T105046Z
LAST-MODIFIED:20250830T105046Z
UID:112185-1757750400-1757869200@klassikauto.pl
SUMMARY:Wrześniowy Moto Weteran Bazar 2025
DESCRIPTION:
URL:https://klassikauto.pl/impreza/wrzesniowy-moto-weteran-bazar-2025/
LOCATION:Łódź
CATEGORIES:Giełda
END:VEVENT
BEGIN:VEVENT
DTSTART;TZID=Europe/Helsinki:20250913T090000
DTEND;TZID=Europe/Helsinki:20250913T090000
DTSTAMP:20260422T030805
CREATED:20250830T141856Z
LAST-MODIFIED:20250830T141856Z
UID:112323-1757754000-1757754000@klassikauto.pl
SUMMARY:Retrorajd po Powiecie Bydgoskim o Puchar Starosty Bydgoskiego
DESCRIPTION:
URL:https://klassikauto.pl/impreza/retrorajd-po-powiecie-bydgoskim-o-puchar-starosty-bydgoskiego/
LOCATION:Dąbrowa Chełmińska
CATEGORIES:Rajd
END:VEVENT
BEGIN:VEVENT
DTSTART;TZID=Europe/Helsinki:20250913T090000
DTEND;TZID=Europe/Helsinki:20250913T160000
DTSTAMP:20260422T030805
CREATED:20250301T103523Z
LAST-MODIFIED:20250301T103538Z
UID:108877-1757754000-1757779200@klassikauto.pl
SUMMARY:Oldtimertreffen Laichinger Alb 2025
DESCRIPTION:
URL:https://klassikauto.pl/impreza/oldtimertreffen-laichinger-alb-2025/
LOCATION:Laichingen\, Niemcy
CATEGORIES:Zlot
END:VEVENT
BEGIN:VEVENT
DTSTART;TZID=Europe/Helsinki:20250913T093000
DTEND;TZID=Europe/Helsinki:20250913T183000
DTSTAMP:20260422T030805
CREATED:20250830T111900Z
LAST-MODIFIED:20250830T111900Z
UID:112214-1757755800-1757788200@klassikauto.pl
SUMMARY:Rajd Drwala 2025
DESCRIPTION:
URL:https://klassikauto.pl/impreza/rajd-drwala-2025/
LOCATION:Warszawa
CATEGORIES:Rajd
END:VEVENT
BEGIN:VEVENT
DTSTART;TZID=Europe/Helsinki:20250913T100000
DTEND;TZID=Europe/Helsinki:20250914T170000
DTSTAMP:20260422T030805
CREATED:20250830T132903Z
LAST-MODIFIED:20250830T132903Z
UID:112272-1757757600-1757869200@klassikauto.pl
SUMMARY:II Zlot Aut Amerykańskich na Lizawce
DESCRIPTION:
URL:https://klassikauto.pl/impreza/ii-zlot-aut-amerykanskich-na-lizawce/
LOCATION:Poznań
CATEGORIES:Zlot
END:VEVENT
BEGIN:VEVENT
DTSTART;TZID=Europe/Helsinki:20250913T110000
DTEND;TZID=Europe/Helsinki:20250913T110000
DTSTAMP:20260422T030805
CREATED:20250830T063924Z
LAST-MODIFIED:20250830T063924Z
UID:112111-1757761200-1757761200@klassikauto.pl
SUMMARY:8 Rajd turystyczny BKN
DESCRIPTION:
URL:https://klassikauto.pl/impreza/8-rajd-turystyczny-bkn/
LOCATION:Bielsko-Biała
CATEGORIES:Rajd
END:VEVENT
BEGIN:VEVENT
DTSTART;TZID=Europe/Helsinki:20250913T110000
DTEND;TZID=Europe/Helsinki:20250913T210000
DTSTAMP:20260422T030805
CREATED:20250830T064648Z
LAST-MODIFIED:20250830T064648Z
UID:112118-1757761200-1757797200@klassikauto.pl
SUMMARY:Motoserce Tychy 2025
DESCRIPTION:
URL:https://klassikauto.pl/impreza/motoserce-tychy-2025/
LOCATION:Tychy
CATEGORIES:Zlot
END:VEVENT
BEGIN:VEVENT
DTSTART;TZID=Europe/Helsinki:20250913T120000
DTEND;TZID=Europe/Helsinki:20250913T180000
DTSTAMP:20260422T030805
CREATED:20250830T133100Z
LAST-MODIFIED:20250830T133100Z
UID:112274-1757764800-1757786400@klassikauto.pl
SUMMARY:VW Fest vol. 3 wyjątkowy festyn klasyków Volkswagena
DESCRIPTION:
URL:https://klassikauto.pl/impreza/vw-fest-vol-3-wyjatkowy-festyn-klasykow-volkswagena/
LOCATION:Poznań
CATEGORIES:Zlot
END:VEVENT
BEGIN:VEVENT
DTSTART;TZID=Europe/Helsinki:20250913T130000
DTEND;TZID=Europe/Helsinki:20250913T130000
DTSTAMP:20260422T030805
CREATED:20250830T135535Z
LAST-MODIFIED:20250830T135535Z
UID:112300-1757768400-1757768400@klassikauto.pl
SUMMARY:Zjazd Gwiazd – zlot Mercedes-Benz w Krakowie
DESCRIPTION:
URL:https://klassikauto.pl/impreza/zjazd-gwiazd-zlot-mercedes-benz-w-krakowie/
LOCATION:Kraków
CATEGORIES:Zlot
END:VEVENT
BEGIN:VEVENT
DTSTART;TZID=Europe/Helsinki:20250913T140000
DTEND;TZID=Europe/Helsinki:20250913T140000
DTSTAMP:20260422T030805
CREATED:20250830T133246Z
LAST-MODIFIED:20250830T133246Z
UID:112276-1757772000-1757772000@klassikauto.pl
SUMMARY:4 Samochodowe Zakończenie Sezonu 2025
DESCRIPTION:
URL:https://klassikauto.pl/impreza/4-samochodowe-zakonczenie-sezonu-2025/
LOCATION:Kobylec
CATEGORIES:Zlot
END:VEVENT
BEGIN:VEVENT
DTSTART;TZID=Europe/Helsinki:20250913T210000
DTEND;TZID=Europe/Helsinki:20250914T170000
DTSTAMP:20260422T030805
CREATED:20250830T133435Z
LAST-MODIFIED:20250830T133435Z
UID:112279-1757797200-1757869200@klassikauto.pl
SUMMARY:XV Strumieński Rajd Pojazdów Zabytkowych
DESCRIPTION:
URL:https://klassikauto.pl/impreza/xv-strumienski-rajd-pojazdow-zabytkowych/
LOCATION:Strumień
CATEGORIES:Rajd
END:VEVENT
BEGIN:VEVENT
DTSTART;TZID=Europe/Helsinki:20250914T080000
DTEND;TZID=Europe/Helsinki:20250914T160000
DTSTAMP:20260422T030805
CREATED:20241229T101423Z
LAST-MODIFIED:20241229T101423Z
UID:107602-1757836800-1757865600@klassikauto.pl
SUMMARY:Die OLDTEMA
DESCRIPTION:
URL:https://klassikauto.pl/impreza/die-oldtema/
LOCATION:Lipsk\, Niemcy
CATEGORIES:Giełda
END:VEVENT
BEGIN:VEVENT
DTSTART;TZID=Europe/Helsinki:20250914T090000
DTEND;TZID=Europe/Helsinki:20250914T170000
DTSTAMP:20260422T030805
CREATED:20250830T111719Z
LAST-MODIFIED:20250830T111719Z
UID:112212-1757840400-1757869200@klassikauto.pl
SUMMARY:13.Miński Zlot Pojazdów Zabytkowych WARKOT
DESCRIPTION:
URL:https://klassikauto.pl/impreza/13-minski-zlot-pojazdow-zabytkowych-warkot/
LOCATION:Mińsk Mazowiecki
CATEGORIES:Zlot
END:VEVENT
BEGIN:VEVENT
DTSTART;TZID=Europe/Helsinki:20250914T100000
DTEND;TZID=Europe/Helsinki:20250914T150000
DTSTAMP:20260422T030805
CREATED:20250830T102648Z
LAST-MODIFIED:20250830T102648Z
UID:112173-1757844000-1757862000@klassikauto.pl
SUMMARY:2 Wielki Zlot Małego Fiata w Grodzisku Mazowieckim
DESCRIPTION:
URL:https://klassikauto.pl/impreza/2-wielki-zlot-malego-fiata-w-grodzisku-mazowieckim-2/
LOCATION:Grodzisk Mazowiecki
CATEGORIES:Zlot
END:VEVENT
BEGIN:VEVENT
DTSTART;TZID=Europe/Helsinki:20250914T110000
DTEND;TZID=Europe/Helsinki:20250914T170000
DTSTAMP:20260422T030805
CREATED:20250830T114002Z
LAST-MODIFIED:20250830T114002Z
UID:112235-1757847600-1757869200@klassikauto.pl
SUMMARY:Zlot Klasyków – Moto Show Boguchwała
DESCRIPTION:
URL:https://klassikauto.pl/impreza/zlot-klasykow-moto-show-boguchwala/
LOCATION:Boguchwała
CATEGORIES:Zlot
END:VEVENT
BEGIN:VEVENT
DTSTART;TZID=Europe/Helsinki:20250914T120000
DTEND;TZID=Europe/Helsinki:20250914T180000
DTSTAMP:20260422T030805
CREATED:20250830T110205Z
LAST-MODIFIED:20250830T110205Z
UID:112195-1757851200-1757872800@klassikauto.pl
SUMMARY:OLD GUARD - Motoryzacyjne Spotkanie Pokoleń
DESCRIPTION:
URL:https://klassikauto.pl/impreza/old-guard-motoryzacyjne-spotkanie-pokolen/
LOCATION:Wolin
CATEGORIES:Zlot
END:VEVENT
BEGIN:VEVENT
DTSTART;TZID=Europe/Helsinki:20250919T093000
DTEND;TZID=Europe/Helsinki:20250921T183000
DTSTAMP:20260422T030805
CREATED:20250830T065003Z
LAST-MODIFIED:20250830T065003Z
UID:112122-1758274200-1758479400@klassikauto.pl
SUMMARY:Rajd Śląska 2025
DESCRIPTION:
URL:https://klassikauto.pl/impreza/rajd-slaska-2025/
LOCATION:Chorzów
CATEGORIES:Rajd
END:VEVENT
END:VCALENDAR
<!-- RunCloud Hub 2026-04-22 02:08:05 -->