BEGIN:VCALENDAR
VERSION:2.0
PRODID:-//KlassikAuto.pl - ECPv6.7.0//NONSGML v1.0//EN
CALSCALE:GREGORIAN
METHOD:PUBLISH
X-ORIGINAL-URL:https://klassikauto.pl
X-WR-CALDESC:Wydarzenia dla KlassikAuto.pl
REFRESH-INTERVAL;VALUE=DURATION:PT1H
X-Robots-Tag:noindex
X-PUBLISHED-TTL:PT1H
BEGIN:VTIMEZONE
TZID:Europe/Helsinki
BEGIN:DAYLIGHT
TZOFFSETFROM:+0200
TZOFFSETTO:+0300
TZNAME:EEST
DTSTART:20250330T010000
END:DAYLIGHT
BEGIN:STANDARD
TZOFFSETFROM:+0300
TZOFFSETTO:+0200
TZNAME:EET
DTSTART:20251026T010000
END:STANDARD
END:VTIMEZONE
BEGIN:VEVENT
DTSTART;TZID=Europe/Helsinki:20250904T120000
DTEND;TZID=Europe/Helsinki:20250907T120000
DTSTAMP:20260422T030516
CREATED:20250830T112802Z
LAST-MODIFIED:20250830T112802Z
UID:112220-1756987200-1757246400@klassikauto.pl
SUMMARY:Dolnośląski Zlot Starych Fordów
DESCRIPTION:
URL:https://klassikauto.pl/impreza/dolnoslaski-zlot-starych-fordow/
LOCATION:Lubawka
CATEGORIES:Zlot
END:VEVENT
BEGIN:VEVENT
DTSTART;TZID=Europe/Helsinki:20250904T140000
DTEND;TZID=Europe/Helsinki:20250907T110000
DTSTAMP:20260422T030516
CREATED:20241225T095050Z
LAST-MODIFIED:20241225T095050Z
UID:107308-1756994400-1757242800@klassikauto.pl
SUMMARY:7 Turystyczny Rajd MINI
DESCRIPTION:
URL:https://klassikauto.pl/impreza/7-turystyczny-rajd-mini/
LOCATION:Ustronie Morskie
CATEGORIES:Rajd
END:VEVENT
BEGIN:VEVENT
DTSTART;TZID=Europe/Helsinki:20250904T183000
DTEND;TZID=Europe/Helsinki:20250904T213000
DTSTAMP:20260422T030516
CREATED:20250830T131943Z
LAST-MODIFIED:20250830T131943Z
UID:112263-1757010600-1757021400@klassikauto.pl
SUMMARY:Graciarskie Obiadki Czwartkowe No76
DESCRIPTION:
URL:https://klassikauto.pl/impreza/graciarskie-obiadki-czwartkowe-no76/
LOCATION:Poznań
CATEGORIES:Spot
END:VEVENT
BEGIN:VEVENT
DTSTART;VALUE=DATE:20250905
DTEND;VALUE=DATE:20250906
DTSTAMP:20260422T030516
CREATED:20250830T150511Z
LAST-MODIFIED:20250830T150511Z
UID:112334-1757030400-1757116799@klassikauto.pl
SUMMARY:P.A. Cars Fest – Pleszew American Cars Festiwal\, edycja IV
DESCRIPTION:
URL:https://klassikauto.pl/impreza/p-a-cars-fest-pleszew-american-cars-festiwal-edycja-iv/
LOCATION:Pleszew
CATEGORIES:Zlot
END:VEVENT
BEGIN:VEVENT
DTSTART;VALUE=DATE:20250905
DTEND;VALUE=DATE:20251215
DTSTAMP:20260422T030516
CREATED:20250426T190329Z
LAST-MODIFIED:20250830T143849Z
UID:109962-1757030400-1765756799@klassikauto.pl
SUMMARY:German tuners from the '80s and the '90s
DESCRIPTION:
URL:https://klassikauto.pl/impreza/german-tuners-from-the-80s-and-the-90s/
LOCATION:Museum Autoworld\, Bruksela\, Belgia
CATEGORIES:Wystawa
END:VEVENT
BEGIN:VEVENT
DTSTART;TZID=Europe/Helsinki:20250905T080000
DTEND;TZID=Europe/Helsinki:20250907T170000
DTSTAMP:20260422T030516
CREATED:20250608T073402Z
LAST-MODIFIED:20250608T073402Z
UID:110555-1757059200-1757264400@klassikauto.pl
SUMMARY:5. Europejski Zlot Forda Model T i A oraz Zlotu Pojazdów Historycznych „Stulatki"
DESCRIPTION:
URL:https://klassikauto.pl/impreza/5-europejski-zlot-forda-model-t-i-a-oraz-zlotu-pojazdow-historycznych-stulatki/
LOCATION:Jelenia Góra
CATEGORIES:Zlot
END:VEVENT
BEGIN:VEVENT
DTSTART;TZID=Europe/Helsinki:20250905T090000
DTEND;TZID=Europe/Helsinki:20250907T120000
DTSTAMP:20260422T030516
CREATED:20250830T102446Z
LAST-MODIFIED:20250830T102446Z
UID:112171-1757062800-1757246400@klassikauto.pl
SUMMARY:XIII Międzynarodowy Zlot Drum Bun 2025
DESCRIPTION:
URL:https://klassikauto.pl/impreza/xiii-miedzynarodowy-zlot-drum-bun-2025/
LOCATION:Podlesice
CATEGORIES:Zlot
END:VEVENT
BEGIN:VEVENT
DTSTART;TZID=Europe/Helsinki:20250905T120000
DTEND;TZID=Europe/Helsinki:20250907T120000
DTSTAMP:20260422T030516
CREATED:20250427T074731Z
LAST-MODIFIED:20250427T074731Z
UID:110037-1757073600-1757246400@klassikauto.pl
SUMMARY:7 zlot Passat 35i Family
DESCRIPTION:
URL:https://klassikauto.pl/impreza/7-zlot-passat-35i-family/
LOCATION:Żerków\, wielkopolskie
CATEGORIES:Zlot
END:VEVENT
BEGIN:VEVENT
DTSTART;TZID=Europe/Helsinki:20250905T140000
DTEND;TZID=Europe/Helsinki:20250907T100000
DTSTAMP:20260422T030516
CREATED:20250426T154312Z
LAST-MODIFIED:20250426T154312Z
UID:109819-1757080800-1757239200@klassikauto.pl
SUMMARY:Veteran Rallye Česky ráj
DESCRIPTION:
URL:https://klassikauto.pl/impreza/veteran-rallye-cesky-raj/
LOCATION:Branžež\, Czechy
CATEGORIES:Rajd
END:VEVENT
BEGIN:VEVENT
DTSTART;TZID=Europe/Helsinki:20250905T150000
DTEND;TZID=Europe/Helsinki:20250907T100000
DTSTAMP:20260422T030516
CREATED:20250830T142726Z
LAST-MODIFIED:20250830T142726Z
UID:112330-1757084400-1757239200@klassikauto.pl
SUMMARY:9. Ogólnopolski Zlot SKODOMANIA
DESCRIPTION:
URL:https://klassikauto.pl/impreza/9-ogolnopolski-zlot-skodomania/
LOCATION:Dobczyce
CATEGORIES:Zlot
END:VEVENT
BEGIN:VEVENT
DTSTART;TZID=Europe/Helsinki:20250905T160000
DTEND;TZID=Europe/Helsinki:20250907T090000
DTSTAMP:20260422T030516
CREATED:20250830T105526Z
LAST-MODIFIED:20250830T105526Z
UID:112187-1757088000-1757235600@klassikauto.pl
SUMMARY:Hippie Cars & Bike Show
DESCRIPTION:
URL:https://klassikauto.pl/impreza/hippie-cars-bike-show/
LOCATION:Topolna\, Czechy
CATEGORIES:Zlot
END:VEVENT
BEGIN:VEVENT
DTSTART;TZID=Europe/Helsinki:20250905T160000
DTEND;TZID=Europe/Helsinki:20250907T100000
DTSTAMP:20260422T030516
CREATED:20250830T105750Z
LAST-MODIFIED:20250830T105750Z
UID:112190-1757088000-1757239200@klassikauto.pl
SUMMARY:Baltic Meeting - out of the city 2025
DESCRIPTION:
URL:https://klassikauto.pl/impreza/baltic-meeting-out-of-the-city-2025/
LOCATION:Gowidlino
CATEGORIES:Zlot
END:VEVENT
BEGIN:VEVENT
DTSTART;TZID=Europe/Helsinki:20250905T160000
DTEND;TZID=Europe/Helsinki:20250907T120000
DTSTAMP:20260422T030516
CREATED:20250531T051300Z
LAST-MODIFIED:20250531T051300Z
UID:110378-1757088000-1757246400@klassikauto.pl
SUMMARY:7 Śląski Zlot Syren
DESCRIPTION:
URL:https://klassikauto.pl/impreza/7-slaski-zlot-syren/
LOCATION:Kroczyce
CATEGORIES:Zlot
END:VEVENT
BEGIN:VEVENT
DTSTART;TZID=Europe/Helsinki:20250905T160000
DTEND;TZID=Europe/Helsinki:20250907T120000
DTSTAMP:20260422T030516
CREATED:20250830T113816Z
LAST-MODIFIED:20250830T113816Z
UID:112232-1757088000-1757246400@klassikauto.pl
SUMMARY:6. Roztoczański Charytatywny Rajd Malucha
DESCRIPTION:
URL:https://klassikauto.pl/impreza/6-roztoczanski-charytatywny-rajd-malucha/
LOCATION:Zwierzyniec
CATEGORIES:Rajd
END:VEVENT
BEGIN:VEVENT
DTSTART;TZID=Europe/Helsinki:20250905T170000
DTEND;TZID=Europe/Helsinki:20250907T110000
DTSTAMP:20260422T030516
CREATED:20250426T151644Z
LAST-MODIFIED:20250426T151644Z
UID:109793-1757091600-1757242800@klassikauto.pl
SUMMARY:Sraz vozidel Ceskoslovenskych #3
DESCRIPTION:
URL:https://klassikauto.pl/impreza/sraz-vozidel-ceskoslovenskych-3/
LOCATION:Plumlov\, Czechy
CATEGORIES:Zlot
END:VEVENT
BEGIN:VEVENT
DTSTART;TZID=Europe/Helsinki:20250905T170000
DTEND;TZID=Europe/Helsinki:20250907T170000
DTSTAMP:20260422T030516
CREATED:20250830T113226Z
LAST-MODIFIED:20250830T113226Z
UID:112225-1757091600-1757264400@klassikauto.pl
SUMMARY:Citrogroupe i Przyjaciele On Tour #3.0\,
DESCRIPTION:
URL:https://klassikauto.pl/impreza/citrogroupe-i-przyjaciele-on-tour-3-0/
LOCATION:Pułtusk
CATEGORIES:Zlot
END:VEVENT
BEGIN:VEVENT
DTSTART;TZID=Europe/Helsinki:20250906T060000
DTEND;TZID=Europe/Helsinki:20250906T210000
DTSTAMP:20260422T030516
CREATED:20250830T115211Z
LAST-MODIFIED:20250830T115211Z
UID:112245-1757138400-1757192400@klassikauto.pl
SUMMARY:Charitativní táborský sraz Amerik 2025
DESCRIPTION:
URL:https://klassikauto.pl/impreza/charitativni-taborsky-sraz-amerik-2025/
LOCATION:Tabor\, Czechy
CATEGORIES:Zlot
END:VEVENT
BEGIN:VEVENT
DTSTART;TZID=Europe/Helsinki:20250906T080000
DTEND;TZID=Europe/Helsinki:20250906T080000
DTSTAMP:20260422T030516
CREATED:20250830T072308Z
LAST-MODIFIED:20250830T072308Z
UID:112145-1757145600-1757145600@klassikauto.pl
SUMMARY:IV. Veterán Tour 2025
DESCRIPTION:
URL:https://klassikauto.pl/impreza/iv-veteran-tour-2025/
LOCATION:Turnov\, Czechy
CATEGORIES:Zlot
END:VEVENT
BEGIN:VEVENT
DTSTART;TZID=Europe/Helsinki:20250906T080000
DTEND;TZID=Europe/Helsinki:20250906T080000
DTSTAMP:20260422T030516
CREATED:20250830T111353Z
LAST-MODIFIED:20250830T111353Z
UID:112207-1757145600-1757145600@klassikauto.pl
SUMMARY:XXI Wołomiński Zlot Pojazdów Zabytkowych
DESCRIPTION:
URL:https://klassikauto.pl/impreza/xxi-wolominski-zlot-pojazdow-zabytkowych/
LOCATION:Ossów
CATEGORIES:Zlot
END:VEVENT
BEGIN:VEVENT
DTSTART;TZID=Europe/Helsinki:20250906T080000
DTEND;TZID=Europe/Helsinki:20250906T080000
DTSTAMP:20260422T030516
CREATED:20250830T140611Z
LAST-MODIFIED:20250830T140611Z
UID:112311-1757145600-1757145600@klassikauto.pl
SUMMARY:VIA ITALIA
DESCRIPTION:spotkanie miłośników włoskiej kultury\, motoryzacji i designu
URL:https://klassikauto.pl/impreza/via-italia/
LOCATION:Białka Tatrzańska
CATEGORIES:Zlot
END:VEVENT
BEGIN:VEVENT
DTSTART;TZID=Europe/Helsinki:20250906T080000
DTEND;TZID=Europe/Helsinki:20250907T170000
DTSTAMP:20260422T030516
CREATED:20250830T111143Z
LAST-MODIFIED:20250830T111143Z
UID:112205-1757145600-1757264400@klassikauto.pl
SUMMARY:58. Rocnik Zbraslav–Jíloviště
DESCRIPTION:
URL:https://klassikauto.pl/impreza/58-rocnik-zbraslav-jiloviste/
LOCATION:Praga\, Czechy
CATEGORIES:Rajd
END:VEVENT
BEGIN:VEVENT
DTSTART;TZID=Europe/Helsinki:20250906T080000
DTEND;TZID=Europe/Helsinki:20250907T180000
DTSTAMP:20260422T030516
CREATED:20250204T182232Z
LAST-MODIFIED:20250204T182232Z
UID:108291-1757145600-1757268000@klassikauto.pl
SUMMARY:7. Turbojulita Rally 2025
DESCRIPTION:
URL:https://klassikauto.pl/impreza/7-turbojulita-rally-2025/
LOCATION:Jedlina Zdrój
CATEGORIES:Rajd
END:VEVENT
BEGIN:VEVENT
DTSTART;TZID=Europe/Helsinki:20250906T083000
DTEND;TZID=Europe/Helsinki:20250906T083000
DTSTAMP:20260422T030516
CREATED:20250830T140411Z
LAST-MODIFIED:20250830T140411Z
UID:112309-1757147400-1757147400@klassikauto.pl
SUMMARY:I Przemyski Rajd Śrutowników
DESCRIPTION:
URL:https://klassikauto.pl/impreza/i-przemyski-rajd-srutownikow/
LOCATION:Przemyśl
CATEGORIES:Rajd
END:VEVENT
BEGIN:VEVENT
DTSTART;TZID=Europe/Helsinki:20250906T090000
DTEND;TZID=Europe/Helsinki:20250906T090000
DTSTAMP:20260422T030516
CREATED:20250830T115010Z
LAST-MODIFIED:20250830T144615Z
UID:112243-1757149200-1757149200@klassikauto.pl
SUMMARY:X Zlot Pojazdów Minionej Epoki
DESCRIPTION:
URL:https://klassikauto.pl/impreza/x-zlot-pojazdow-minionej-epoki/
LOCATION:Czeladź
CATEGORIES:Zlot
END:VEVENT
BEGIN:VEVENT
DTSTART;TZID=Europe/Helsinki:20250906T090000
DTEND;TZID=Europe/Helsinki:20250907T180000
DTSTAMP:20260422T030516
CREATED:20250830T114652Z
LAST-MODIFIED:20250830T114652Z
UID:112239-1757149200-1757268000@klassikauto.pl
SUMMARY:7. Movie Park US Car Show
DESCRIPTION:
URL:https://klassikauto.pl/impreza/7-movie-park-us-car-show/
LOCATION:Bottrop\, Niemcy
CATEGORIES:Zlot
END:VEVENT
BEGIN:VEVENT
DTSTART;TZID=Europe/Helsinki:20250906T093000
DTEND;TZID=Europe/Helsinki:20250907T170000
DTSTAMP:20260422T030516
CREATED:20250830T112259Z
LAST-MODIFIED:20250830T112259Z
UID:112218-1757151000-1757264400@klassikauto.pl
SUMMARY:XI Piknik WDW – dwudniowe zakończenie sezonu
DESCRIPTION:
URL:https://klassikauto.pl/impreza/xi-piknik-wdw-dwudniowe-zakonczenie-sezonu/
LOCATION:Chlewiska
CATEGORIES:Zlot
END:VEVENT
BEGIN:VEVENT
DTSTART;TZID=Europe/Helsinki:20250906T100000
DTEND;TZID=Europe/Helsinki:20250906T140000
DTSTAMP:20260422T030516
CREATED:20241222T134501Z
LAST-MODIFIED:20241222T134501Z
UID:107199-1757152800-1757167200@klassikauto.pl
SUMMARY:Limousinen / 70 Jahre Crown / Century Meet
DESCRIPTION:
URL:https://klassikauto.pl/impreza/limousinen-70-jahre-crown-century-meet/
LOCATION:Kolonia\, Niemcy
CATEGORIES:Wystawa
END:VEVENT
BEGIN:VEVENT
DTSTART;TZID=Europe/Helsinki:20250906T100000
DTEND;TZID=Europe/Helsinki:20250906T180000
DTSTAMP:20260422T030516
CREATED:20250830T104324Z
LAST-MODIFIED:20250830T104324Z
UID:112182-1757152800-1757181600@klassikauto.pl
SUMMARY:II Zlot Classic Cars Kutno – 2025
DESCRIPTION:
URL:https://klassikauto.pl/impreza/ii-zlot-classic-cars-kutno-2025/
LOCATION:Kutno
CATEGORIES:Zlot
END:VEVENT
BEGIN:VEVENT
DTSTART;TZID=Europe/Helsinki:20250906T110000
DTEND;TZID=Europe/Helsinki:20250906T110000
DTSTAMP:20260422T030516
CREATED:20250830T063807Z
LAST-MODIFIED:20250830T063807Z
UID:112109-1757156400-1757156400@klassikauto.pl
SUMMARY:Roulez Francais – Zlot francuskich pojazdów zabytkowych
DESCRIPTION:
URL:https://klassikauto.pl/impreza/roulez-francais-zlot-francuskich-pojazdow-zabytkowych/
LOCATION:Bielsko-Biała
CATEGORIES:Zlot
END:VEVENT
BEGIN:VEVENT
DTSTART;TZID=Europe/Helsinki:20250906T113000
DTEND;TZID=Europe/Helsinki:20250906T173000
DTSTAMP:20260422T030516
CREATED:20250830T075016Z
LAST-MODIFIED:20250830T075016Z
UID:112164-1757158200-1757179800@klassikauto.pl
SUMMARY:2 Podgrodowy Rajd Samochodowy – Słowiańska Wyprawa na Pół Sprzęgła
DESCRIPTION:
URL:https://klassikauto.pl/impreza/2-podgrodowy-rajd-samochodowy-slowianska-wyprawa-na-pol-sprzegla/
LOCATION:Polkowice
CATEGORIES:Rajd
END:VEVENT
END:VCALENDAR
<!-- RunCloud Hub 2026-04-22 02:05:16 -->