BEGIN:VCALENDAR
VERSION:2.0
PRODID:-//KlassikAuto.pl - ECPv6.7.0//NONSGML v1.0//EN
CALSCALE:GREGORIAN
METHOD:PUBLISH
X-ORIGINAL-URL:https://klassikauto.pl
X-WR-CALDESC:Wydarzenia dla KlassikAuto.pl
REFRESH-INTERVAL;VALUE=DURATION:PT1H
X-Robots-Tag:noindex
X-PUBLISHED-TTL:PT1H
BEGIN:VTIMEZONE
TZID:Europe/Helsinki
BEGIN:DAYLIGHT
TZOFFSETFROM:+0200
TZOFFSETTO:+0300
TZNAME:EEST
DTSTART:20250330T010000
END:DAYLIGHT
BEGIN:STANDARD
TZOFFSETFROM:+0300
TZOFFSETTO:+0200
TZNAME:EET
DTSTART:20251026T010000
END:STANDARD
END:VTIMEZONE
BEGIN:VEVENT
DTSTART;TZID=Europe/Helsinki:20250627T080000
DTEND;TZID=Europe/Helsinki:20250831T170000
DTSTAMP:20260422T041306
CREATED:20241222T124416Z
LAST-MODIFIED:20241222T124731Z
UID:107161-1751011200-1756659600@klassikauto.pl
SUMMARY:Big in Japan
DESCRIPTION:
URL:https://klassikauto.pl/impreza/big-in-japan/
LOCATION:Museum Autoworld\, Bruksela\, Belgia
CATEGORIES:Wystawa
END:VEVENT
BEGIN:VEVENT
DTSTART;VALUE=DATE:20250821
DTEND;VALUE=DATE:20250904
DTSTAMP:20260422T041306
CREATED:20241226T104132Z
LAST-MODIFIED:20241226T104132Z
UID:107389-1755734400-1756943999@klassikauto.pl
SUMMARY:Balkan Express 2025
DESCRIPTION:Start: Drezno\, Niemcy \nMeta: Istria\, Chorwacja
URL:https://klassikauto.pl/impreza/balkan-express-2025/
LOCATION:Drezno\, Niemcy
CATEGORIES:Rajd
END:VEVENT
BEGIN:VEVENT
DTSTART;TZID=Europe/Helsinki:20250829T080000
DTEND;TZID=Europe/Helsinki:20250831T120000
DTSTAMP:20260422T041306
CREATED:20250426T155410Z
LAST-MODIFIED:20250426T155410Z
UID:109828-1756454400-1756641600@klassikauto.pl
SUMMARY:9. ročník srazu nákladních automobilů Škoda a Liaz
DESCRIPTION:
URL:https://klassikauto.pl/impreza/9-rocnik-srazu-nakladnich-automobilu-skoda-a-liaz/
LOCATION:Trhove Sviny\, Czechy
CATEGORIES:Zlot
END:VEVENT
BEGIN:VEVENT
DTSTART;TZID=Europe/Helsinki:20250829T150000
DTEND;TZID=Europe/Helsinki:20250831T150000
DTSTAMP:20260422T041306
CREATED:20250830T075230Z
LAST-MODIFIED:20250830T075230Z
UID:112166-1756479600-1756652400@klassikauto.pl
SUMMARY:26 Zlot w Garbach
DESCRIPTION:
URL:https://klassikauto.pl/impreza/26-zlot-w-garbach/
LOCATION:Krzykosy
CATEGORIES:Zlot
END:VEVENT
BEGIN:VEVENT
DTSTART;VALUE=DATE:20250830
DTEND;VALUE=DATE:20250901
DTSTAMP:20260422T041306
CREATED:20250426T094047Z
LAST-MODIFIED:20250426T094047Z
UID:109711-1756512000-1756684799@klassikauto.pl
SUMMARY:15. Schöne Sterne 2025
DESCRIPTION:
URL:https://klassikauto.pl/impreza/15-schone-sterne-2025/
LOCATION:Hattingen\, Niemcy
CATEGORIES:Zlot
END:VEVENT
BEGIN:VEVENT
DTSTART;TZID=Europe/Helsinki:20250830T080000
DTEND;TZID=Europe/Helsinki:20250830T170000
DTSTAMP:20260422T041306
CREATED:20250830T073854Z
LAST-MODIFIED:20250830T073854Z
UID:112155-1756540800-1756573200@klassikauto.pl
SUMMARY:Zlot klasycznej motoryzacji - zakończenie sezonu
DESCRIPTION:
URL:https://klassikauto.pl/impreza/zlot-klasycznej-motoryzacji-zakonczenie-sezonu/
LOCATION:Miedziana Góra
CATEGORIES:Zlot
END:VEVENT
BEGIN:VEVENT
DTSTART;TZID=Europe/Helsinki:20250830T080000
DTEND;TZID=Europe/Helsinki:20250831T170000
DTSTAMP:20260422T041306
CREATED:20241229T113728Z
LAST-MODIFIED:20241229T113728Z
UID:107654-1756540800-1756659600@klassikauto.pl
SUMMARY:ACA Classic Auction
DESCRIPTION:
URL:https://klassikauto.pl/impreza/aca-classic-auction-4/
LOCATION:King’s Lynn\, Wielka Brytania
CATEGORIES:Aukcja
END:VEVENT
BEGIN:VEVENT
DTSTART;TZID=Europe/Helsinki:20250830T083000
DTEND;TZID=Europe/Helsinki:20250830T180000
DTSTAMP:20260422T041306
CREATED:20250830T065421Z
LAST-MODIFIED:20250830T065421Z
UID:112124-1756542600-1756576800@klassikauto.pl
SUMMARY:American Trackday Autodrom Sosnova 2025
DESCRIPTION:
URL:https://klassikauto.pl/impreza/american-trackday-autodrom-sosnova-2025/
LOCATION:Czeska Lipa\, Czechy
CATEGORIES:Zlot
END:VEVENT
BEGIN:VEVENT
DTSTART;TZID=Europe/Helsinki:20250830T090000
DTEND;TZID=Europe/Helsinki:20250830T090000
DTSTAMP:20260422T041306
CREATED:20250224T152944Z
LAST-MODIFIED:20250224T152944Z
UID:108684-1756544400-1756544400@klassikauto.pl
SUMMARY:Runda 3 Puchar Youngtimer Party
DESCRIPTION:
URL:https://klassikauto.pl/impreza/runda-3-puchar-youngtimer-party/
LOCATION:Poznań
CATEGORIES:Rajd
END:VEVENT
BEGIN:VEVENT
DTSTART;TZID=Europe/Helsinki:20250830T103000
DTEND;TZID=Europe/Helsinki:20250830T140000
DTSTAMP:20260422T041306
CREATED:20250830T074710Z
LAST-MODIFIED:20250830T074710Z
UID:112162-1756549800-1756562400@klassikauto.pl
SUMMARY:Sobotnie spotkanie klasyków + parada po nitce Toru Poznań
DESCRIPTION:
URL:https://klassikauto.pl/impreza/sobotnie-spotkanie-klasykow-parada-po-nitce-toru-poznan-2/
LOCATION:Poznań
CATEGORIES:Zlot
END:VEVENT
BEGIN:VEVENT
DTSTART;TZID=Europe/Helsinki:20250830T110000
DTEND;TZID=Europe/Helsinki:20250830T170000
DTSTAMP:20260422T041306
CREATED:20250830T065558Z
LAST-MODIFIED:20250830T065558Z
UID:112127-1756551600-1756573200@klassikauto.pl
SUMMARY:Stanceshow vol.4
DESCRIPTION:
URL:https://klassikauto.pl/impreza/stanceshow-vol-4/
LOCATION:Liblice\, Czechy
CATEGORIES:Zlot
END:VEVENT
BEGIN:VEVENT
DTSTART;TZID=Europe/Helsinki:20250830T110000
DTEND;TZID=Europe/Helsinki:20250831T150000
DTSTAMP:20260422T041306
CREATED:20250225T193956Z
LAST-MODIFIED:20250225T193956Z
UID:108775-1756551600-1756652400@klassikauto.pl
SUMMARY:The Stage 4
DESCRIPTION:Tor Krzywa
URL:https://klassikauto.pl/impreza/the-stage-4/
LOCATION:Gromadka
CATEGORIES:Zlot
END:VEVENT
BEGIN:VEVENT
DTSTART;TZID=Europe/Helsinki:20250830T120000
DTEND;TZID=Europe/Helsinki:20250830T120000
DTSTAMP:20260422T041306
CREATED:20250830T065712Z
LAST-MODIFIED:20250830T065712Z
UID:112130-1756555200-1756555200@klassikauto.pl
SUMMARY:Classic Drive vol. 10
DESCRIPTION:
URL:https://klassikauto.pl/impreza/classic-drive-vol-10/
LOCATION:Praga\, Czechy
CATEGORIES:Zlot
END:VEVENT
BEGIN:VEVENT
DTSTART;TZID=Europe/Helsinki:20250830T120000
DTEND;TZID=Europe/Helsinki:20250830T180000
DTSTAMP:20260422T041306
CREATED:20241229T092044Z
LAST-MODIFIED:20241229T092044Z
UID:107564-1756555200-1756576800@klassikauto.pl
SUMMARY:V Festiwal Pojazdów Nieznanych\, Nieudanych i Zapomnianych
DESCRIPTION:
URL:https://klassikauto.pl/impreza/v-festiwal-pojazdow-nieznanych-nieudanych-i-zapomnianych/
LOCATION:Rumia
CATEGORIES:Zlot
END:VEVENT
BEGIN:VEVENT
DTSTART;TZID=Europe/Helsinki:20250830T123000
DTEND;TZID=Europe/Helsinki:20250830T123000
DTSTAMP:20260422T041306
CREATED:20250830T110450Z
LAST-MODIFIED:20250830T110450Z
UID:112200-1756557000-1756557000@klassikauto.pl
SUMMARY:Klasyczne Piękno na Kołach - Turystyczny mini rajd na orientację
DESCRIPTION:
URL:https://klassikauto.pl/impreza/klasyczne-piekno-na-kolach-turystyczny-mini-rajd-na-orientacje/
LOCATION:Pyrzyce
CATEGORIES:Rajd
END:VEVENT
BEGIN:VEVENT
DTSTART;TZID=Europe/Helsinki:20250830T143000
DTEND;TZID=Europe/Helsinki:20250830T143000
DTSTAMP:20260422T041306
CREATED:20250830T104056Z
LAST-MODIFIED:20250830T104056Z
UID:112179-1756564200-1756564200@klassikauto.pl
SUMMARY:Zlot klasyków motoryzacji w PGR Koszelew
DESCRIPTION:
URL:https://klassikauto.pl/impreza/zlot-klasykow-motoryzacji-w-pgr-koszelew/
LOCATION:Koszelew
CATEGORIES:Zlot
END:VEVENT
BEGIN:VEVENT
DTSTART;TZID=Europe/Helsinki:20250830T150000
DTEND;TZID=Europe/Helsinki:20250830T180000
DTSTAMP:20260422T041306
CREATED:20250830T071019Z
LAST-MODIFIED:20250830T071019Z
UID:112139-1756566000-1756576800@klassikauto.pl
SUMMARY:VII Charytatywny Moto Piknik Łaziska 2025
DESCRIPTION:
URL:https://klassikauto.pl/impreza/vii-charytatywny-moto-piknik-laziska-2025/
LOCATION:Łaziska
CATEGORIES:Zlot
END:VEVENT
BEGIN:VEVENT
DTSTART;VALUE=DATE:20250831
DTEND;VALUE=DATE:20250901
DTSTAMP:20260422T041306
CREATED:20250426T151330Z
LAST-MODIFIED:20250426T151330Z
UID:109791-1756598400-1756684799@klassikauto.pl
SUMMARY:Veteranfest zámek Holešov 2025
DESCRIPTION:
URL:https://klassikauto.pl/impreza/veteranfest-zamek-holesov-2025/
LOCATION:Zámek Holešov\, Czechy
CATEGORIES:Zlot
END:VEVENT
BEGIN:VEVENT
DTSTART;TZID=Europe/Helsinki:20250831T090000
DTEND;TZID=Europe/Helsinki:20250831T090000
DTSTAMP:20260422T041306
CREATED:20250301T131937Z
LAST-MODIFIED:20250301T131959Z
UID:108900-1756630800-1756630800@klassikauto.pl
SUMMARY:British Car Meeting Kemptthal
DESCRIPTION:
URL:https://klassikauto.pl/impreza/british-car-meeting-kemptthal/
LOCATION:Kemptthal\, Schweiz
CATEGORIES:Zlot
END:VEVENT
BEGIN:VEVENT
DTSTART;TZID=Europe/Helsinki:20250831T100000
DTEND;TZID=Europe/Helsinki:20250831T100000
DTSTAMP:20260422T041306
CREATED:20250401T172603Z
LAST-MODIFIED:20250401T172603Z
UID:109445-1756634400-1756634400@klassikauto.pl
SUMMARY:Charytatywny Zlot Pojazdów Amerykańskich i Zabytkowych #3
DESCRIPTION:
URL:https://klassikauto.pl/impreza/charytatywny-zlot-pojazdow-amerykanskich-i-zabytkowych-3/
LOCATION:Czerwionka-Leszczyny
CATEGORIES:Zlot
END:VEVENT
BEGIN:VEVENT
DTSTART;TZID=Europe/Helsinki:20250831T100000
DTEND;TZID=Europe/Helsinki:20250831T100000
DTSTAMP:20260422T041306
CREATED:20250426T145532Z
LAST-MODIFIED:20250426T145532Z
UID:109772-1756634400-1756634400@klassikauto.pl
SUMMARY:Klassikertreffen auf Rudi´s Wiese
DESCRIPTION:
URL:https://klassikauto.pl/impreza/klassikertreffen-auf-rudis-wiese-4/
LOCATION:Marl\, Niemcy
CATEGORIES:Zlot
END:VEVENT
BEGIN:VEVENT
DTSTART;TZID=Europe/Helsinki:20250831T100000
DTEND;TZID=Europe/Helsinki:20250831T100000
DTSTAMP:20260422T041306
CREATED:20250531T085805Z
LAST-MODIFIED:20250531T085805Z
UID:110432-1756634400-1756634400@klassikauto.pl
SUMMARY:5. Zlot Klasyków PRL-u w Gowarzewie
DESCRIPTION:
URL:https://klassikauto.pl/impreza/5-zlot-klasykow-prl-u-w-gowarzewie/
LOCATION:Gowarzewo
CATEGORIES:Zlot
END:VEVENT
BEGIN:VEVENT
DTSTART;TZID=Europe/Helsinki:20250831T100000
DTEND;TZID=Europe/Helsinki:20250831T100000
DTSTAMP:20260422T041306
CREATED:20250830T072704Z
LAST-MODIFIED:20250830T072704Z
UID:112148-1756634400-1756634400@klassikauto.pl
SUMMARY:XIV Zlot pojazdów Zabytkowych Euro-Park Mielec
DESCRIPTION:
URL:https://klassikauto.pl/impreza/xiv-zlot-pojazdow-zabytkowych-euro-park-mielec/
LOCATION:Mielec
CATEGORIES:Zlot
END:VEVENT
BEGIN:VEVENT
DTSTART;TZID=Europe/Helsinki:20250831T100000
DTEND;TZID=Europe/Helsinki:20250831T160000
DTSTAMP:20260422T041306
CREATED:20250225T190559Z
LAST-MODIFIED:20250225T190559Z
UID:108746-1756634400-1756656000@klassikauto.pl
SUMMARY:III Motożyła 2025
DESCRIPTION:
URL:https://klassikauto.pl/impreza/iii-motozyla-2025/
LOCATION:Łuków
CATEGORIES:Zlot
END:VEVENT
BEGIN:VEVENT
DTSTART;TZID=Europe/Helsinki:20250831T100000
DTEND;TZID=Europe/Helsinki:20250831T160000
DTSTAMP:20260422T041306
CREATED:20250406T091935Z
LAST-MODIFIED:20250406T091935Z
UID:109567-1756634400-1756656000@klassikauto.pl
SUMMARY:XIV ClassicMania – Międzynarodowy Zlot Pojazdów Zabytkowych\, Edycja Amerykańska
DESCRIPTION:
URL:https://klassikauto.pl/impreza/xiv-classicmania-miedzynarodowy-zlot-pojazdow-zabytkowych-edycja-amerykanska/
LOCATION:Sosnowiec
CATEGORIES:Zlot
END:VEVENT
BEGIN:VEVENT
DTSTART;TZID=Europe/Helsinki:20250831T110000
DTEND;TZID=Europe/Helsinki:20250831T170000
DTSTAMP:20260422T041306
CREATED:20250204T173722Z
LAST-MODIFIED:20250204T173722Z
UID:108244-1756638000-1756659600@klassikauto.pl
SUMMARY:Auto Moto Show Toruń 2025
DESCRIPTION:
URL:https://klassikauto.pl/impreza/auto-moto-show-torun-2025/
LOCATION:Toruń
CATEGORIES:Targi
END:VEVENT
BEGIN:VEVENT
DTSTART;TZID=Europe/Helsinki:20250831T110000
DTEND;TZID=Europe/Helsinki:20250831T190000
DTSTAMP:20260422T041306
CREATED:20250830T074339Z
LAST-MODIFIED:20250830T074339Z
UID:112157-1756638000-1756666800@klassikauto.pl
SUMMARY:Moto Piknik Traperska Osada - zlot motocykli
DESCRIPTION:
URL:https://klassikauto.pl/impreza/moto-piknik-traperska-osada-zlot-motocykli/
LOCATION:Owińska
CATEGORIES:Zlot
END:VEVENT
BEGIN:VEVENT
DTSTART;TZID=Europe/Helsinki:20250831T120000
DTEND;TZID=Europe/Helsinki:20250831T120000
DTSTAMP:20260422T041306
CREATED:20250401T172731Z
LAST-MODIFIED:20250401T172731Z
UID:109447-1756641600-1756641600@klassikauto.pl
SUMMARY:2. Zlot Klasyków pod Zamkiem w Rabsztynie
DESCRIPTION:
URL:https://klassikauto.pl/impreza/2-zlot-klasykow-pod-zamkiem-w-rabsztynie/
LOCATION:Rabsztyn
CATEGORIES:Zlot
END:VEVENT
BEGIN:VEVENT
DTSTART;TZID=Europe/Helsinki:20250831T130000
DTEND;TZID=Europe/Helsinki:20250831T180000
DTSTAMP:20260422T041306
CREATED:20250830T074532Z
LAST-MODIFIED:20250830T074532Z
UID:112160-1756645200-1756663200@klassikauto.pl
SUMMARY:Oldtimer & Youngtimer Fest - III edycja
DESCRIPTION:
URL:https://klassikauto.pl/impreza/oldtimer-youngtimer-fest-iii-edycja/
LOCATION:Komorniki
CATEGORIES:Zlot
END:VEVENT
BEGIN:VEVENT
DTSTART;TZID=Europe/Helsinki:20250831T140000
DTEND;TZID=Europe/Helsinki:20250831T180000
DTSTAMP:20260422T041306
CREATED:20250830T075633Z
LAST-MODIFIED:20250830T075633Z
UID:112168-1756648800-1756663200@klassikauto.pl
SUMMARY:V Zlot Starych Pojazdów w Rusinowicach
DESCRIPTION:
URL:https://klassikauto.pl/impreza/v-zlot-starych-pojazdow-w-rusinowicach/
LOCATION:Rusinowice
CATEGORIES:Zlot
END:VEVENT
END:VCALENDAR
<!-- RunCloud Hub 2026-04-22 03:13:06 -->