BEGIN:VCALENDAR
VERSION:2.0
PRODID:-//KlassikAuto.pl - ECPv6.7.0//NONSGML v1.0//EN
CALSCALE:GREGORIAN
METHOD:PUBLISH
X-ORIGINAL-URL:https://klassikauto.pl
X-WR-CALDESC:Wydarzenia dla KlassikAuto.pl
REFRESH-INTERVAL;VALUE=DURATION:PT1H
X-Robots-Tag:noindex
X-PUBLISHED-TTL:PT1H
BEGIN:VTIMEZONE
TZID:Europe/Helsinki
BEGIN:DAYLIGHT
TZOFFSETFROM:+0200
TZOFFSETTO:+0300
TZNAME:EEST
DTSTART:20250330T010000
END:DAYLIGHT
BEGIN:STANDARD
TZOFFSETFROM:+0300
TZOFFSETTO:+0200
TZNAME:EET
DTSTART:20251026T010000
END:STANDARD
END:VTIMEZONE
BEGIN:VEVENT
DTSTART;TZID=Europe/Helsinki:20250615T140000
DTEND;TZID=Europe/Helsinki:20250803T140000
DTSTAMP:20260422T045118
CREATED:20250426T185359Z
LAST-MODIFIED:20250426T185359Z
UID:109952-1749996000-1754229600@klassikauto.pl
SUMMARY:I Zlot Klasyków nad jeziorem Mormin
DESCRIPTION:
URL:https://klassikauto.pl/impreza/i-zlot-klasykow-nad-jeziorem-mormin/
LOCATION:Ostroróg
CATEGORIES:Zlot
END:VEVENT
BEGIN:VEVENT
DTSTART;TZID=Europe/Helsinki:20250627T080000
DTEND;TZID=Europe/Helsinki:20250831T170000
DTSTAMP:20260422T045118
CREATED:20241222T124416Z
LAST-MODIFIED:20241222T124731Z
UID:107161-1751011200-1756659600@klassikauto.pl
SUMMARY:Big in Japan
DESCRIPTION:
URL:https://klassikauto.pl/impreza/big-in-japan/
LOCATION:Museum Autoworld\, Bruksela\, Belgia
CATEGORIES:Wystawa
END:VEVENT
BEGIN:VEVENT
DTSTART;TZID=Europe/Helsinki:20250719T080000
DTEND;TZID=Europe/Helsinki:20250807T080000
DTSTAMP:20260422T045118
CREATED:20250630T193359Z
LAST-MODIFIED:20250630T193359Z
UID:111036-1752912000-1754553600@klassikauto.pl
SUMMARY:XVI Slansky Okruh
DESCRIPTION:
URL:https://klassikauto.pl/impreza/xvi-slansky-okruh/
LOCATION:Slany\, Czechy
CATEGORIES:Zlot
END:VEVENT
BEGIN:VEVENT
DTSTART;TZID=Europe/Helsinki:20250724T120000
DTEND;TZID=Europe/Helsinki:20250727T140000
DTSTAMP:20260422T045118
CREATED:20250630T194910Z
LAST-MODIFIED:20250630T194910Z
UID:111044-1753358400-1753624800@klassikauto.pl
SUMMARY:24.Ostsee - Treffen Usedom - All Car 2025
DESCRIPTION:
URL:https://klassikauto.pl/impreza/24-ostsee-treffen-usedom-all-car-2025/
LOCATION:Heringsdorf\, Niemcy
CATEGORIES:Zlot
END:VEVENT
BEGIN:VEVENT
DTSTART;TZID=Europe/Helsinki:20250725T110000
DTEND;TZID=Europe/Helsinki:20250727T140000
DTSTAMP:20260422T045118
CREATED:20250427T065117Z
LAST-MODIFIED:20250427T065117Z
UID:110011-1753441200-1753624800@klassikauto.pl
SUMMARY:Cabrio Pieniny
DESCRIPTION:
URL:https://klassikauto.pl/impreza/cabrio-pieniny/
LOCATION:Szczawnica
CATEGORIES:Zlot
END:VEVENT
BEGIN:VEVENT
DTSTART;TZID=Europe/Helsinki:20250725T160000
DTEND;TZID=Europe/Helsinki:20250727T140000
DTSTAMP:20260422T045118
CREATED:20250426T093830Z
LAST-MODIFIED:20250426T093830Z
UID:109709-1753459200-1753624800@klassikauto.pl
SUMMARY:Jurassic Cars Party 2025 - X Edycja
DESCRIPTION:
URL:https://klassikauto.pl/impreza/jurassic-cars-party-2025-x-edycja/
LOCATION:Bałtów\, Kielce
CATEGORIES:Zlot
END:VEVENT
BEGIN:VEVENT
DTSTART;TZID=Europe/Helsinki:20250725T170000
DTEND;TZID=Europe/Helsinki:20250727T120000
DTSTAMP:20260422T045118
CREATED:20250204T202434Z
LAST-MODIFIED:20250204T202434Z
UID:108361-1753462800-1753617600@klassikauto.pl
SUMMARY:V Moto Piknik w Szwecji
DESCRIPTION:
URL:https://klassikauto.pl/impreza/v-moto-piknik-w-szwecji/
LOCATION:Szwecja (gm. Wałcz)
CATEGORIES:Zlot
END:VEVENT
BEGIN:VEVENT
DTSTART;TZID=Europe/Helsinki:20250726T120000
DTEND;TZID=Europe/Helsinki:20250727T180000
DTSTAMP:20260422T045118
CREATED:20250630T195624Z
LAST-MODIFIED:20250630T195635Z
UID:111051-1753531200-1753639200@klassikauto.pl
SUMMARY:II Zlot Zabytkowych Autobusów  Ikarus na Śląsku
DESCRIPTION:
URL:https://klassikauto.pl/impreza/ii-zlot-zabytkowych-autobusow-ikarus-na-slasku/
LOCATION:Mysłowice
CATEGORIES:Zlot
END:VEVENT
BEGIN:VEVENT
DTSTART;TZID=Europe/Helsinki:20250727T080000
DTEND;TZID=Europe/Helsinki:20250727T220000
DTSTAMP:20260422T045118
CREATED:20250426T142648Z
LAST-MODIFIED:20250426T142648Z
UID:109757-1753603200-1753653600@klassikauto.pl
SUMMARY:NOSW Niederrhein Classic
DESCRIPTION:
URL:https://klassikauto.pl/impreza/nosw-niederrhein-classic/
LOCATION:Reken\, Niemcy
CATEGORIES:Zlot
END:VEVENT
BEGIN:VEVENT
DTSTART;TZID=Europe/Helsinki:20250727T100000
DTEND;TZID=Europe/Helsinki:20250727T100000
DTSTAMP:20260422T045118
CREATED:20250426T145426Z
LAST-MODIFIED:20250426T145426Z
UID:109770-1753610400-1753610400@klassikauto.pl
SUMMARY:Klassikertreffen auf Rudi´s Wiese
DESCRIPTION:
URL:https://klassikauto.pl/impreza/klassikertreffen-auf-rudis-wiese-3/
LOCATION:Marl\, Niemcy
CATEGORIES:Zlot
END:VEVENT
BEGIN:VEVENT
DTSTART;TZID=Europe/Helsinki:20250727T120000
DTEND;TZID=Europe/Helsinki:20250727T120000
DTSTAMP:20260422T045118
CREATED:20250406T092213Z
LAST-MODIFIED:20250406T092213Z
UID:109569-1753617600-1753617600@klassikauto.pl
SUMMARY:Moto Event 2025
DESCRIPTION:
URL:https://klassikauto.pl/impreza/moto-event-2025/
LOCATION:Węgierska Górka
CATEGORIES:Zlot
END:VEVENT
BEGIN:VEVENT
DTSTART;TZID=Europe/Helsinki:20250727T120000
DTEND;TZID=Europe/Helsinki:20250727T200000
DTSTAMP:20260422T045118
CREATED:20250223T144409Z
LAST-MODIFIED:20250223T144409Z
UID:108600-1753617600-1753646400@klassikauto.pl
SUMMARY:Urodziny Silnika
DESCRIPTION:Oryginalna impreza dla pasjonatów zabytkowej techniki\, motoryzacji i nie tylko.
URL:https://klassikauto.pl/impreza/urodziny-silnika/
LOCATION:Konieczkowa
CATEGORIES:Zlot
END:VEVENT
BEGIN:VEVENT
DTSTART;TZID=Europe/Helsinki:20250727T130000
DTEND;TZID=Europe/Helsinki:20250727T130000
DTSTAMP:20260422T045118
CREATED:20250223T144753Z
LAST-MODIFIED:20250223T144753Z
UID:108605-1753621200-1753621200@klassikauto.pl
SUMMARY:IX Zjazd Starych Motocykli PRL
DESCRIPTION:
URL:https://klassikauto.pl/impreza/ix-zjazd-starych-motocykli-prl/
LOCATION:Grębów
CATEGORIES:Zlot
END:VEVENT
BEGIN:VEVENT
DTSTART;TZID=Europe/Helsinki:20250727T130000
DTEND;TZID=Europe/Helsinki:20250727T130000
DTSTAMP:20260422T045118
CREATED:20250406T085546Z
LAST-MODIFIED:20250406T085546Z
UID:109546-1753621200-1753621200@klassikauto.pl
SUMMARY:6 zlot Rawskich klasyków
DESCRIPTION:
URL:https://klassikauto.pl/impreza/6-zlot-rawskich-klasykow/
LOCATION:Rawa Mazowiecka
CATEGORIES:Zlot
END:VEVENT
BEGIN:VEVENT
DTSTART;TZID=Europe/Helsinki:20250727T130000
DTEND;TZID=Europe/Helsinki:20250727T130000
DTSTAMP:20260422T045118
CREATED:20250630T200431Z
LAST-MODIFIED:20250630T200431Z
UID:111056-1753621200-1753621200@klassikauto.pl
SUMMARY:Piknik Motoryzacyjny
DESCRIPTION:
URL:https://klassikauto.pl/impreza/piknik-motoryzacyjny-4/
LOCATION:Bobowa
CATEGORIES:Zlot
END:VEVENT
BEGIN:VEVENT
DTSTART;TZID=Europe/Helsinki:20250727T140000
DTEND;TZID=Europe/Helsinki:20250727T170000
DTSTAMP:20260422T045118
CREATED:20250630T192209Z
LAST-MODIFIED:20250630T192209Z
UID:111026-1753624800-1753635600@klassikauto.pl
SUMMARY:II Zlot Motocyklowy Binarowa 2025
DESCRIPTION:
URL:https://klassikauto.pl/impreza/ii-zlot-motocyklowy-binarowa-2025/
LOCATION:Binarowa
CATEGORIES:Zlot
END:VEVENT
BEGIN:VEVENT
DTSTART;TZID=Europe/Helsinki:20250801T090000
DTEND;TZID=Europe/Helsinki:20250803T170000
DTSTAMP:20260422T045118
CREATED:20250204T172628Z
LAST-MODIFIED:20250204T172628Z
UID:108235-1754038800-1754240400@klassikauto.pl
SUMMARY:MASURIA Tuning Show 2025
DESCRIPTION:
URL:https://klassikauto.pl/impreza/masuria-tuning-show-2025/
LOCATION:Ostróda
CATEGORIES:Zlot
END:VEVENT
BEGIN:VEVENT
DTSTART;TZID=Europe/Helsinki:20250801T180000
DTEND;TZID=Europe/Helsinki:20250803T150000
DTSTAMP:20260422T045118
CREATED:20250225T193620Z
LAST-MODIFIED:20250225T193620Z
UID:108773-1754071200-1754233200@klassikauto.pl
SUMMARY:How Low VII 2025
DESCRIPTION:
URL:https://klassikauto.pl/impreza/how-low-vii-2025/
LOCATION:Ząbkowice Śląskie
CATEGORIES:Zlot
END:VEVENT
BEGIN:VEVENT
DTSTART;TZID=Europe/Helsinki:20250802T100000
DTEND;TZID=Europe/Helsinki:20250802T140000
DTSTAMP:20260422T045118
CREATED:20241222T134347Z
LAST-MODIFIED:20241222T134347Z
UID:107196-1754128800-1754143200@klassikauto.pl
SUMMARY:Toyota Sommerfest / Toyotas Filmhelden
DESCRIPTION:
URL:https://klassikauto.pl/impreza/toyota-sommerfest-toyotas-filmhelden/
LOCATION:Kolonia\, Niemcy
CATEGORIES:Wystawa
END:VEVENT
BEGIN:VEVENT
DTSTART;TZID=Europe/Helsinki:20250802T100000
DTEND;TZID=Europe/Helsinki:20250803T180000
DTSTAMP:20260422T045118
CREATED:20250531T112042Z
LAST-MODIFIED:20250531T112042Z
UID:110452-1754128800-1754244000@klassikauto.pl
SUMMARY:XVII Zlot Zabytkowych Pojazdów
DESCRIPTION:
URL:https://klassikauto.pl/impreza/xvii-zlot-zabytkowych-pojazdow/
LOCATION:Nowy Sącz
CATEGORIES:Zlot
END:VEVENT
BEGIN:VEVENT
DTSTART;TZID=Europe/Helsinki:20250802T140000
DTEND;TZID=Europe/Helsinki:20250802T140000
DTSTAMP:20260422T045118
CREATED:20250426T164731Z
LAST-MODIFIED:20250426T164731Z
UID:109859-1754143200-1754143200@klassikauto.pl
SUMMARY:6 Zlot Pojazdów Różnych KLAMOT Ożanna 2025
DESCRIPTION:
URL:https://klassikauto.pl/impreza/6-zlot-pojazdow-roznych-klamot-ozanna-2025/
LOCATION:Ożanna
CATEGORIES:Zlot
END:VEVENT
BEGIN:VEVENT
DTSTART;TZID=Europe/Helsinki:20250802T150000
DTEND;TZID=Europe/Helsinki:20250802T230000
DTSTAMP:20260422T045118
CREATED:20241228T165031Z
LAST-MODIFIED:20241228T165031Z
UID:107525-1754146800-1754175600@klassikauto.pl
SUMMARY:II Śniadanie ze Strusiami w Markach
DESCRIPTION:
URL:https://klassikauto.pl/impreza/ii-sniadanie-ze-strusiami-w-markach/
LOCATION:Marki
CATEGORIES:Zlot
END:VEVENT
BEGIN:VEVENT
DTSTART;VALUE=DATE:20250803
DTEND;VALUE=DATE:20250804
DTSTAMP:20260422T045118
CREATED:20241228T155952Z
LAST-MODIFIED:20241228T155952Z
UID:107496-1754179200-1754265599@klassikauto.pl
SUMMARY:Japfest - Japanse carmeeting
DESCRIPTION:
URL:https://klassikauto.pl/impreza/japfest-japanse-carmeeting-2/
LOCATION:Heusden-Zolder\, Belgia
CATEGORIES:Zlot
END:VEVENT
BEGIN:VEVENT
DTSTART;VALUE=DATE:20250803
DTEND;VALUE=DATE:20250804
DTSTAMP:20260422T045118
CREATED:20250608T112954Z
LAST-MODIFIED:20250608T112954Z
UID:110659-1754179200-1754265599@klassikauto.pl
SUMMARY:XI Retro Moto Show w Sadownem
DESCRIPTION:
URL:https://klassikauto.pl/impreza/xi-retro-moto-show-w-sadownem/
LOCATION:Sadowne
CATEGORIES:Zlot
END:VEVENT
BEGIN:VEVENT
DTSTART;TZID=Europe/Helsinki:20250803T093000
DTEND;TZID=Europe/Helsinki:20250803T173000
DTSTAMP:20260422T045118
CREATED:20250427T061859Z
LAST-MODIFIED:20250427T061859Z
UID:109982-1754213400-1754242200@klassikauto.pl
SUMMARY:Classic Summer Road Run
DESCRIPTION:
URL:https://klassikauto.pl/impreza/classic-summer-road-run-2/
LOCATION:Edyngurg\, Szkocja
CATEGORIES:Zlot
END:VEVENT
BEGIN:VEVENT
DTSTART;TZID=Europe/Helsinki:20250803T110000
DTEND;TZID=Europe/Helsinki:20250803T110000
DTSTAMP:20260422T045118
CREATED:20250225T185350Z
LAST-MODIFIED:20250225T185350Z
UID:108734-1754218800-1754218800@klassikauto.pl
SUMMARY:Wakacyjny Classic Cars Legionowo
DESCRIPTION:
URL:https://klassikauto.pl/impreza/wakacyjny-classic-cars-legionowo/
LOCATION:Legionowo
CATEGORIES:Zlot
END:VEVENT
BEGIN:VEVENT
DTSTART;VALUE=DATE:20250807
DTEND;VALUE=DATE:20250811
DTSTAMP:20260422T045118
CREATED:20250204T191946Z
LAST-MODIFIED:20250204T191946Z
UID:108333-1754524800-1754870399@klassikauto.pl
SUMMARY:V Bajeczny Zlot Gar-Bus VW Classic Mazowsze
DESCRIPTION:
URL:https://klassikauto.pl/impreza/v-bajeczny-zlot-gar-bus-vw-classic-mazowsze/
LOCATION:Popielżyn-Zawady
CATEGORIES:Zlot
END:VEVENT
BEGIN:VEVENT
DTSTART;TZID=Europe/Helsinki:20250808T170000
DTEND;TZID=Europe/Helsinki:20250810T190000
DTSTAMP:20260422T045118
CREATED:20250301T105257Z
LAST-MODIFIED:20250301T105257Z
UID:108881-1754672400-1754852400@klassikauto.pl
SUMMARY:Biker Days Basel International Motorcycle & Music Festival
DESCRIPTION:
URL:https://klassikauto.pl/impreza/biker-days-basel-international-motorcycle-music-festival/
LOCATION:Bazylea\, Szwajcaria
CATEGORIES:Zlot
END:VEVENT
BEGIN:VEVENT
DTSTART;VALUE=DATE:20250810
DTEND;VALUE=DATE:20250811
DTSTAMP:20260422T045118
CREATED:20250426T172620Z
LAST-MODIFIED:20250426T172620Z
UID:109901-1754784000-1754870399@klassikauto.pl
SUMMARY:X Jubileuszowe „Moto-Legendy”
DESCRIPTION:
URL:https://klassikauto.pl/impreza/x-jubileuszowe-moto-legendy/
LOCATION:Koziegłowy
CATEGORIES:Zlot
END:VEVENT
BEGIN:VEVENT
DTSTART;TZID=Europe/Helsinki:20250810T090000
DTEND;TZID=Europe/Helsinki:20250810T090000
DTSTAMP:20260422T045118
CREATED:20250426T172319Z
LAST-MODIFIED:20250426T172319Z
UID:109899-1754816400-1754816400@klassikauto.pl
SUMMARY:MotoPiknik Tokarnia 2025
DESCRIPTION:
URL:https://klassikauto.pl/impreza/motopiknik-tokarnia-2025/
LOCATION:Chęciny
CATEGORIES:Zlot
END:VEVENT
END:VCALENDAR
<!-- RunCloud Hub 2026-04-22 03:51:18 -->