BEGIN:VCALENDAR
VERSION:2.0
PRODID:-//KlassikAuto.pl - ECPv6.7.0//NONSGML v1.0//EN
CALSCALE:GREGORIAN
METHOD:PUBLISH
X-ORIGINAL-URL:https://klassikauto.pl
X-WR-CALDESC:Wydarzenia dla KlassikAuto.pl
REFRESH-INTERVAL;VALUE=DURATION:PT1H
X-Robots-Tag:noindex
X-PUBLISHED-TTL:PT1H
BEGIN:VTIMEZONE
TZID:Europe/Helsinki
BEGIN:DAYLIGHT
TZOFFSETFROM:+0200
TZOFFSETTO:+0300
TZNAME:EEST
DTSTART:20250330T010000
END:DAYLIGHT
BEGIN:STANDARD
TZOFFSETFROM:+0300
TZOFFSETTO:+0200
TZNAME:EET
DTSTART:20251026T010000
END:STANDARD
END:VTIMEZONE
BEGIN:VEVENT
DTSTART;TZID=Europe/Helsinki:20250615T140000
DTEND;TZID=Europe/Helsinki:20250803T140000
DTSTAMP:20260422T074405
CREATED:20250426T185359Z
LAST-MODIFIED:20250426T185359Z
UID:109952-1749996000-1754229600@klassikauto.pl
SUMMARY:I Zlot Klasyków nad jeziorem Mormin
DESCRIPTION:
URL:https://klassikauto.pl/impreza/i-zlot-klasykow-nad-jeziorem-mormin/
LOCATION:Ostroróg
CATEGORIES:Zlot
END:VEVENT
BEGIN:VEVENT
DTSTART;TZID=Europe/Helsinki:20250627T080000
DTEND;TZID=Europe/Helsinki:20250831T170000
DTSTAMP:20260422T074405
CREATED:20241222T124416Z
LAST-MODIFIED:20241222T124731Z
UID:107161-1751011200-1756659600@klassikauto.pl
SUMMARY:Big in Japan
DESCRIPTION:
URL:https://klassikauto.pl/impreza/big-in-japan/
LOCATION:Museum Autoworld\, Bruksela\, Belgia
CATEGORIES:Wystawa
END:VEVENT
BEGIN:VEVENT
DTSTART;TZID=Europe/Helsinki:20250703T150000
DTEND;TZID=Europe/Helsinki:20250707T100000
DTSTAMP:20260422T074405
CREATED:20250427T061513Z
LAST-MODIFIED:20250427T061513Z
UID:109978-1751554800-1751882400@klassikauto.pl
SUMMARY:Le Mans Classic 2025
DESCRIPTION:
URL:https://klassikauto.pl/impreza/le-mans-classic-2025/
LOCATION:Le Mans\, Francja
CATEGORIES:Rajd,Zlot
END:VEVENT
BEGIN:VEVENT
DTSTART;VALUE=DATE:20250704
DTEND;VALUE=DATE:20250710
DTSTAMP:20260422T074405
CREATED:20241225T112608Z
LAST-MODIFIED:20241225T112608Z
UID:107352-1751587200-1752105599@klassikauto.pl
SUMMARY:III Gruz Rally Wschodnie Rubieże PL
DESCRIPTION:
URL:https://klassikauto.pl/impreza/iii-gruz-rally-wschodnie-rubieze-pl/
CATEGORIES:Rajd
END:VEVENT
BEGIN:VEVENT
DTSTART;TZID=Europe/Helsinki:20250705T080000
DTEND;TZID=Europe/Helsinki:20250709T170000
DTSTAMP:20260422T074405
CREATED:20250531T060523Z
LAST-MODIFIED:20250531T060523Z
UID:110390-1751702400-1752080400@klassikauto.pl
SUMMARY:Złombol 2025\, 19 edycja
DESCRIPTION:
URL:https://klassikauto.pl/impreza/zlombol-2025-19-edycja/
LOCATION:Chorzów
CATEGORIES:Rajd
END:VEVENT
BEGIN:VEVENT
DTSTART;VALUE=DATE:20250706
DTEND;VALUE=DATE:20250708
DTSTAMP:20260422T074405
CREATED:20250426T164918Z
LAST-MODIFIED:20250426T164918Z
UID:109861-1751760000-1751932799@klassikauto.pl
SUMMARY:Party with Infamous Crew
DESCRIPTION:
URL:https://klassikauto.pl/impreza/party-with-infamous-crew/
LOCATION:Sieniawa
CATEGORIES:Zlot
END:VEVENT
BEGIN:VEVENT
DTSTART;VALUE=DATE:20250710
DTEND;VALUE=DATE:20250714
DTSTAMP:20260422T074405
CREATED:20240728T163954Z
LAST-MODIFIED:20240728T163954Z
UID:104314-1752105600-1752451199@klassikauto.pl
SUMMARY:126 Beach - 2025
DESCRIPTION:
URL:https://klassikauto.pl/impreza/126-beach-2025/
LOCATION:Siofok\, Węgry
CATEGORIES:Zlot
END:VEVENT
BEGIN:VEVENT
DTSTART;TZID=Europe/Helsinki:20250710T150000
DTEND;TZID=Europe/Helsinki:20250713T160000
DTSTAMP:20260422T074405
CREATED:20250630T185419Z
LAST-MODIFIED:20250630T185419Z
UID:111011-1752159600-1752422400@klassikauto.pl
SUMMARY:XIII Zlot Ogólnopolskiego Rejestru Rekinów
DESCRIPTION:
URL:https://klassikauto.pl/impreza/xiii-zlot-ogolnopolskiego-rejestru-rekinow/
LOCATION:Warszawa
CATEGORIES:Zlot
END:VEVENT
BEGIN:VEVENT
DTSTART;TZID=Europe/Helsinki:20250711T120000
DTEND;TZID=Europe/Helsinki:20250713T150000
DTSTAMP:20260422T074405
CREATED:20250224T154929Z
LAST-MODIFIED:20250224T154929Z
UID:108690-1752235200-1752418800@klassikauto.pl
SUMMARY:Widely Low & Classic Event
DESCRIPTION:
URL:https://klassikauto.pl/impreza/widely-low-classic-event-2/
LOCATION:Międzyrzecz
CATEGORIES:Zlot
END:VEVENT
BEGIN:VEVENT
DTSTART;TZID=Europe/Helsinki:20250711T140000
DTEND;TZID=Europe/Helsinki:20250713T140000
DTSTAMP:20260422T074405
CREATED:20250426T090747Z
LAST-MODIFIED:20250426T090747Z
UID:109689-1752242400-1752415200@klassikauto.pl
SUMMARY:Pojechany Zlot
DESCRIPTION:
URL:https://klassikauto.pl/impreza/pojechany-zlot/
LOCATION:Sieniawka
CATEGORIES:Zlot
END:VEVENT
BEGIN:VEVENT
DTSTART;TZID=Europe/Helsinki:20250711T140000
DTEND;TZID=Europe/Helsinki:20250713T140000
DTSTAMP:20260422T074405
CREATED:20250426T165417Z
LAST-MODIFIED:20250426T165417Z
UID:109868-1752242400-1752415200@klassikauto.pl
SUMMARY:XIII Myślenicki Zlot Mini
DESCRIPTION:
URL:https://klassikauto.pl/impreza/xiii-myslenicki-zlot-mini/
CATEGORIES:Zlot
END:VEVENT
BEGIN:VEVENT
DTSTART;TZID=Europe/Helsinki:20250711T150000
DTEND;TZID=Europe/Helsinki:20250713T130000
DTSTAMP:20260422T074405
CREATED:20250204T174936Z
LAST-MODIFIED:20250204T174936Z
UID:108253-1752246000-1752411600@klassikauto.pl
SUMMARY:PORSCHEmeet fifth edition
DESCRIPTION:
URL:https://klassikauto.pl/impreza/porschemeet-fifth-edition/
LOCATION:Nowe Miasto nad Wartą
CATEGORIES:Zlot
END:VEVENT
BEGIN:VEVENT
DTSTART;TZID=Europe/Helsinki:20250711T150000
DTEND;TZID=Europe/Helsinki:20250713T160000
DTSTAMP:20260422T074405
CREATED:20250204T175202Z
LAST-MODIFIED:20250204T175202Z
UID:108255-1752246000-1752422400@klassikauto.pl
SUMMARY:Nine14party
DESCRIPTION:
URL:https://klassikauto.pl/impreza/nine14party/
LOCATION:Hermanów
CATEGORIES:Zlot
END:VEVENT
BEGIN:VEVENT
DTSTART;TZID=Europe/Helsinki:20250712T070000
DTEND;TZID=Europe/Helsinki:20250712T070000
DTSTAMP:20260422T074405
CREATED:20250426T090510Z
LAST-MODIFIED:20250426T090510Z
UID:109686-1752303600-1752303600@klassikauto.pl
SUMMARY:Pojechany Zlot – III Runda cyklu KJS Barwacz Group
DESCRIPTION:
URL:https://klassikauto.pl/impreza/pojechany-zlot-iii-runda-cyklu-kjs-barwacz-group/
LOCATION:Sieniawka
CATEGORIES:Zlot
END:VEVENT
BEGIN:VEVENT
DTSTART;TZID=Europe/Helsinki:20250712T080000
DTEND;TZID=Europe/Helsinki:20250713T170000
DTSTAMP:20260422T074405
CREATED:20250531T085956Z
LAST-MODIFIED:20250531T085956Z
UID:110434-1752307200-1752426000@klassikauto.pl
SUMMARY:Zakręcone Koła PRL
DESCRIPTION:
URL:https://klassikauto.pl/impreza/zakrecone-kola-prl/
LOCATION:Zacharzyn
CATEGORIES:Zlot
END:VEVENT
BEGIN:VEVENT
DTSTART;TZID=Europe/Helsinki:20250712T090000
DTEND;TZID=Europe/Helsinki:20250712T090000
DTSTAMP:20260422T074405
CREATED:20250426T092923Z
LAST-MODIFIED:20250426T092923Z
UID:109703-1752310800-1752310800@klassikauto.pl
SUMMARY:Strefa Miłośników Motoryzacji PRL-u
DESCRIPTION:wydarzenie podczas Dub It Tuning Festiwal w Kielcach
URL:https://klassikauto.pl/impreza/strefa-milosnikow-motoryzacji-prl-u-2/
LOCATION:Kielce
CATEGORIES:Targi
END:VEVENT
BEGIN:VEVENT
DTSTART;TZID=Europe/Helsinki:20250712T090000
DTEND;TZID=Europe/Helsinki:20250712T200000
DTSTAMP:20260422T074405
CREATED:20250630T165818Z
LAST-MODIFIED:20250630T165818Z
UID:110974-1752310800-1752350400@klassikauto.pl
SUMMARY:X Piknik WDW
DESCRIPTION:
URL:https://klassikauto.pl/impreza/x-piknik-wdw/
LOCATION:Warszawa
CATEGORIES:Zlot
END:VEVENT
BEGIN:VEVENT
DTSTART;TZID=Europe/Helsinki:20250712T100000
DTEND;TZID=Europe/Helsinki:20250713T180000
DTSTAMP:20260422T074405
CREATED:20250630T190252Z
LAST-MODIFIED:20250630T190252Z
UID:111013-1752314400-1752429600@klassikauto.pl
SUMMARY:Moto Show  Bielsko-Biała 2025
DESCRIPTION:
URL:https://klassikauto.pl/impreza/moto-show-bielsko-biala-2025/
LOCATION:Bielsko-Biała
CATEGORIES:Zlot
END:VEVENT
BEGIN:VEVENT
DTSTART;TZID=Europe/Helsinki:20250712T103000
DTEND;TZID=Europe/Helsinki:20250712T103000
DTSTAMP:20260422T074405
CREATED:20250630T190536Z
LAST-MODIFIED:20250630T190536Z
UID:111015-1752316200-1752316200@klassikauto.pl
SUMMARY:MOTOkavarna – sraz a vystava historickych vozidel
DESCRIPTION:
URL:https://klassikauto.pl/impreza/motokavarna-sraz-a-vystava-historickych-vozidel/
LOCATION:Holovousy\, Czechy
CATEGORIES:Zlot
END:VEVENT
BEGIN:VEVENT
DTSTART;TZID=Europe/Helsinki:20250712T103000
DTEND;TZID=Europe/Helsinki:20250713T120000
DTSTAMP:20260422T074405
CREATED:20241229T094315Z
LAST-MODIFIED:20241229T094315Z
UID:107589-1752316200-1752408000@klassikauto.pl
SUMMARY:IV Ogólnopolski Zlot WM126p i przyjaciele & V Biwak z Gratami
DESCRIPTION:
URL:https://klassikauto.pl/impreza/iv-ogolnopolski-zlot-wm126p-i-przyjaciele-v-biwak-z-gratami/
LOCATION:Rydzewo
CATEGORIES:Zlot
END:VEVENT
BEGIN:VEVENT
DTSTART;TZID=Europe/Helsinki:20250712T120000
DTEND;TZID=Europe/Helsinki:20250712T120000
DTSTAMP:20260422T074405
CREATED:20250426T150323Z
LAST-MODIFIED:20250426T150323Z
UID:109783-1752321600-1752321600@klassikauto.pl
SUMMARY:Oldie trifft Oldie
DESCRIPTION:
URL:https://klassikauto.pl/impreza/oldie-trifft-oldie/
LOCATION:Velbert\, Niemcy
CATEGORIES:Zlot
END:VEVENT
BEGIN:VEVENT
DTSTART;TZID=Europe/Helsinki:20250712T120000
DTEND;TZID=Europe/Helsinki:20250712T120000
DTSTAMP:20260422T074405
CREATED:20250630T191019Z
LAST-MODIFIED:20250630T191019Z
UID:111018-1752321600-1752321600@klassikauto.pl
SUMMARY:V Biwak z Gratami
DESCRIPTION:
URL:https://klassikauto.pl/impreza/v-biwak-z-gratami/
LOCATION:Rydzewo
CATEGORIES:Zlot
END:VEVENT
BEGIN:VEVENT
DTSTART;VALUE=DATE:20250713
DTEND;VALUE=DATE:20250714
DTSTAMP:20260422T074405
CREATED:20241228T155724Z
LAST-MODIFIED:20241228T155724Z
UID:107494-1752364800-1752451199@klassikauto.pl
SUMMARY:Supercar Madness
DESCRIPTION:
URL:https://klassikauto.pl/impreza/supercar-madness-4/
LOCATION:Heusden-Zolder\, Belgia
CATEGORIES:Zlot
END:VEVENT
BEGIN:VEVENT
DTSTART;TZID=Europe/Helsinki:20250713T100000
DTEND;TZID=Europe/Helsinki:20250713T150000
DTSTAMP:20260422T074405
CREATED:20250630T165646Z
LAST-MODIFIED:20250630T165646Z
UID:110972-1752400800-1752418800@klassikauto.pl
SUMMARY:Youngtimer Kawa i Samochody
DESCRIPTION:
URL:https://klassikauto.pl/impreza/youngtimer-kawa-i-samochody/
LOCATION:Warszawa
CATEGORIES:Zlot
END:VEVENT
BEGIN:VEVENT
DTSTART;TZID=Europe/Helsinki:20250713T100000
DTEND;TZID=Europe/Helsinki:20250713T160000
DTSTAMP:20260422T074405
CREATED:20250630T191224Z
LAST-MODIFIED:20250630T191224Z
UID:111020-1752400800-1752422400@klassikauto.pl
SUMMARY:Sochaczewskiego Spotkania z Klasykami.
DESCRIPTION:
URL:https://klassikauto.pl/impreza/sochaczewskiego-spotkania-z-klasykami/
LOCATION:Sochaczew
CATEGORIES:Zlot
END:VEVENT
BEGIN:VEVENT
DTSTART;TZID=Europe/Helsinki:20250713T100000
DTEND;TZID=Europe/Helsinki:20250713T170000
DTSTAMP:20260422T074405
CREATED:20250630T195946Z
LAST-MODIFIED:20250630T195946Z
UID:111054-1752400800-1752426000@klassikauto.pl
SUMMARY:III Zjazd Klasyków i aut PRL
DESCRIPTION:
URL:https://klassikauto.pl/impreza/iii-zjazd-klasykow-i-aut-prl/
LOCATION:Bożejewiczki
CATEGORIES:Zlot
END:VEVENT
BEGIN:VEVENT
DTSTART;TZID=Europe/Helsinki:20250713T100000
DTEND;TZID=Europe/Helsinki:20250713T180000
DTSTAMP:20260422T074405
CREATED:20250426T100108Z
LAST-MODIFIED:20250426T100108Z
UID:109727-1752400800-1752429600@klassikauto.pl
SUMMARY:Die Chrom & Flammen Show
DESCRIPTION:
URL:https://klassikauto.pl/impreza/die-chrom-flammen-show/
LOCATION:Recklinghausen\, Niemcy
CATEGORIES:Zlot
END:VEVENT
BEGIN:VEVENT
DTSTART;TZID=Europe/Helsinki:20250713T110000
DTEND;TZID=Europe/Helsinki:20250713T180000
DTSTAMP:20260422T074405
CREATED:20250630T191833Z
LAST-MODIFIED:20250630T191833Z
UID:111022-1752404400-1752429600@klassikauto.pl
SUMMARY:Fans of Classic Car – Strefa Wschodnioeuropejska + Strefa Polskiej Społeczności na Orsett Classic Car Show
DESCRIPTION:
URL:https://klassikauto.pl/impreza/fans-of-classic-car-strefa-wschodnioeuropejska-strefa-polskiej-spolecznosci-na-orsett-classic-car-show/
LOCATION:Orsett\, Wielka Brytania
CATEGORIES:Zlot
END:VEVENT
BEGIN:VEVENT
DTSTART;TZID=Europe/Helsinki:20250713T120000
DTEND;TZID=Europe/Helsinki:20250713T170000
DTSTAMP:20260422T074405
CREATED:20250630T192054Z
LAST-MODIFIED:20250630T192054Z
UID:111024-1752408000-1752426000@klassikauto.pl
SUMMARY:III Zlot Pojazdów Zabytkowych Binarowa 2025
DESCRIPTION:
URL:https://klassikauto.pl/impreza/iii-zlot-pojazdow-zabytkowych-binarowa-2025/
LOCATION:Binarowa
CATEGORIES:Zlot
END:VEVENT
BEGIN:VEVENT
DTSTART;TZID=Europe/Helsinki:20250713T150000
DTEND;TZID=Europe/Helsinki:20250713T150000
DTSTAMP:20260422T074405
CREATED:20250630T192405Z
LAST-MODIFIED:20250630T192405Z
UID:111028-1752418800-1752418800@klassikauto.pl
SUMMARY:VI Zlot Pojazdów Zabytkowych
DESCRIPTION:
URL:https://klassikauto.pl/impreza/vi-zlot-pojazdow-zabytkowych/
LOCATION:Łącko
CATEGORIES:Zlot
END:VEVENT
END:VCALENDAR
<!-- RunCloud Hub 2026-04-22 06:44:05 -->