BEGIN:VCALENDAR
VERSION:2.0
PRODID:-//KlassikAuto.pl - ECPv6.7.0//NONSGML v1.0//EN
CALSCALE:GREGORIAN
METHOD:PUBLISH
X-ORIGINAL-URL:https://klassikauto.pl
X-WR-CALDESC:Wydarzenia dla KlassikAuto.pl
REFRESH-INTERVAL;VALUE=DURATION:PT1H
X-Robots-Tag:noindex
X-PUBLISHED-TTL:PT1H
BEGIN:VTIMEZONE
TZID:Europe/Helsinki
BEGIN:DAYLIGHT
TZOFFSETFROM:+0200
TZOFFSETTO:+0300
TZNAME:EEST
DTSTART:20250330T010000
END:DAYLIGHT
BEGIN:STANDARD
TZOFFSETFROM:+0300
TZOFFSETTO:+0200
TZNAME:EET
DTSTART:20251026T010000
END:STANDARD
END:VTIMEZONE
BEGIN:VEVENT
DTSTART;TZID=Europe/Helsinki:20250425T080000
DTEND;TZID=Europe/Helsinki:20250622T170000
DTSTAMP:20260422T100730
CREATED:20241222T124228Z
LAST-MODIFIED:20241222T124228Z
UID:107158-1745568000-1750611600@klassikauto.pl
SUMMARY:Citroën DS – An Icon Turns 70
DESCRIPTION:
URL:https://klassikauto.pl/impreza/citroen-ds-an-icon-turns-70/
LOCATION:Museum Autoworld\, Bruksela\, Belgia
CATEGORIES:Wystawa
END:VEVENT
BEGIN:VEVENT
DTSTART;TZID=Europe/Helsinki:20250430T140000
DTEND;TZID=Europe/Helsinki:20250504T140000
DTSTAMP:20260422T100730
CREATED:20250401T183231Z
LAST-MODIFIED:20250401T183231Z
UID:109476-1746021600-1746367200@klassikauto.pl
SUMMARY:3. La Familia Trucktreffen
DESCRIPTION:
URL:https://klassikauto.pl/impreza/3-la-familia-trucktreffen/
LOCATION:Marienheide\, Niemcy
CATEGORIES:Zlot
END:VEVENT
BEGIN:VEVENT
DTSTART;VALUE=DATE:20250501
DTEND;VALUE=DATE:20250504
DTSTAMP:20260422T100730
CREATED:20250426T183415Z
LAST-MODIFIED:20250426T183415Z
UID:109939-1746057600-1746316799@klassikauto.pl
SUMMARY:Eastern Classic Cars Show 2025\, Auto Show Hungary
DESCRIPTION:
URL:https://klassikauto.pl/impreza/eastern-classic-cars-show-2025-auto-show-hungary/
LOCATION:Pecz\, Węgry
CATEGORIES:Wystawa
END:VEVENT
BEGIN:VEVENT
DTSTART;TZID=Europe/Helsinki:20250501T070000
DTEND;TZID=Europe/Helsinki:20250504T210000
DTSTAMP:20260422T100730
CREATED:20241229T093334Z
LAST-MODIFIED:20241229T093334Z
UID:107577-1746082800-1746392400@klassikauto.pl
SUMMARY:II Rajd Bieszczadzki 2025
DESCRIPTION:
URL:https://klassikauto.pl/impreza/ii-rajd-bieszczadzki-2025/
LOCATION:Sanok
CATEGORIES:Rajd
END:VEVENT
BEGIN:VEVENT
DTSTART;TZID=Europe/Helsinki:20250501T080000
DTEND;TZID=Europe/Helsinki:20250501T080000
DTSTAMP:20260422T100730
CREATED:20250406T075535Z
LAST-MODIFIED:20250406T075535Z
UID:109513-1746086400-1746086400@klassikauto.pl
SUMMARY:Rajd Retro
DESCRIPTION:
URL:https://klassikauto.pl/impreza/rajd-retro/
LOCATION:Opole Lubelskie
CATEGORIES:Rajd
END:VEVENT
BEGIN:VEVENT
DTSTART;TZID=Europe/Helsinki:20250501T080000
DTEND;TZID=Europe/Helsinki:20250501T080000
DTSTAMP:20260422T100730
CREATED:20250427T072916Z
LAST-MODIFIED:20250427T072916Z
UID:110027-1746086400-1746086400@klassikauto.pl
SUMMARY:Internationaler Club Day Der Porschefreunde
DESCRIPTION:
URL:https://klassikauto.pl/impreza/internationaler-club-day-der-porschefreunde-2/
LOCATION:Dinslaken\, Niemcy
CATEGORIES:Zlot
END:VEVENT
BEGIN:VEVENT
DTSTART;TZID=Europe/Helsinki:20250501T090000
DTEND;TZID=Europe/Helsinki:20250501T120000
DTSTAMP:20260422T100730
CREATED:20250426T155727Z
LAST-MODIFIED:20250426T155727Z
UID:109830-1746090000-1746100800@klassikauto.pl
SUMMARY:Zahájení veteranské sezony VCCO 2025
DESCRIPTION:
URL:https://klassikauto.pl/impreza/zahajeni-veteranske-sezony-vcco-2025/
LOCATION:Ostrawa\, Czechy
CATEGORIES:Zlot
END:VEVENT
BEGIN:VEVENT
DTSTART;TZID=Europe/Helsinki:20250501T090000
DTEND;TZID=Europe/Helsinki:20250501T123000
DTSTAMP:20260422T100730
CREATED:20250426T151104Z
LAST-MODIFIED:20250426T151104Z
UID:109788-1746090000-1746102600@klassikauto.pl
SUMMARY:Prvomájové setkání veteránů
DESCRIPTION:
URL:https://klassikauto.pl/impreza/prvomajove-setkani-veteranu/
LOCATION:Bucovice\, Czechy
CATEGORIES:Zlot
END:VEVENT
BEGIN:VEVENT
DTSTART;TZID=Europe/Helsinki:20250501T090000
DTEND;TZID=Europe/Helsinki:20250504T170000
DTSTAMP:20260422T100730
CREATED:20250427T065847Z
LAST-MODIFIED:20250427T065847Z
UID:110014-1746090000-1746378000@klassikauto.pl
SUMMARY:Majówkowa wyprawa Cabrio 2025 – Bieszczady\, Słowacja\, Tatry\, Gorce
DESCRIPTION:
URL:https://klassikauto.pl/impreza/majowkowa-wyprawa-cabrio-2025-bieszczady-slowacja-tatry-gorce/
LOCATION:Wieliczka
CATEGORIES:Zlot
END:VEVENT
BEGIN:VEVENT
DTSTART;TZID=Europe/Helsinki:20250501T100000
DTEND;TZID=Europe/Helsinki:20250501T100000
DTSTAMP:20260422T100730
CREATED:20250224T161021Z
LAST-MODIFIED:20250224T161238Z
UID:108699-1746093600-1746093600@klassikauto.pl
SUMMARY:Last Ride – Drive Fest 2025
DESCRIPTION:
URL:https://klassikauto.pl/impreza/last-ride-drive-fest-2025/
LOCATION:Janów Lubelski
CATEGORIES:Zlot
END:VEVENT
BEGIN:VEVENT
DTSTART;TZID=Europe/Helsinki:20250501T100000
DTEND;TZID=Europe/Helsinki:20250504T180000
DTSTAMP:20260422T100730
CREATED:20250301T102640Z
LAST-MODIFIED:20250301T102640Z
UID:108870-1746093600-1746381600@klassikauto.pl
SUMMARY:Tuning World Bodensee 2025
DESCRIPTION:
URL:https://klassikauto.pl/impreza/tuning-world-bodensee-2025/
LOCATION:Friedrichshafen\, Niemcy
CATEGORIES:Targi
END:VEVENT
BEGIN:VEVENT
DTSTART;TZID=Europe/Helsinki:20250501T100000
DTEND;TZID=Europe/Helsinki:20250504T200000
DTSTAMP:20260422T100730
CREATED:20241229T090602Z
LAST-MODIFIED:20241229T090602Z
UID:107550-1746093600-1746388800@klassikauto.pl
SUMMARY:Klasyki na Kubiki II – piknik w stylu PRL\, zjazd caravaningowy
DESCRIPTION:
URL:https://klassikauto.pl/impreza/klasyki-na-kubiki-ii-piknik-w-stylu-prl-zjazd-caravaningowy/
LOCATION:Kubiki\, Chotyłów
CATEGORIES:Zlot
END:VEVENT
BEGIN:VEVENT
DTSTART;TZID=Europe/Helsinki:20250501T103000
DTEND;TZID=Europe/Helsinki:20250501T220000
DTSTAMP:20260422T100730
CREATED:20250225T193403Z
LAST-MODIFIED:20250225T193403Z
UID:108771-1746095400-1746136800@klassikauto.pl
SUMMARY:Moto Rajdowa Cegiełka 2025
DESCRIPTION:
URL:https://klassikauto.pl/impreza/moto-rajdowa-cegielka-2025/
LOCATION:Bystrzyca Kłodzka
CATEGORIES:Rajd
END:VEVENT
BEGIN:VEVENT
DTSTART;TZID=Europe/Helsinki:20250501T110000
DTEND;TZID=Europe/Helsinki:20250501T110000
DTSTAMP:20260422T100730
CREATED:20250426T101815Z
LAST-MODIFIED:20250426T101815Z
UID:109742-1746097200-1746097200@klassikauto.pl
SUMMARY:US-Car-Treffen Creativ Quartier Fürst Leopold Dorsten
DESCRIPTION:
URL:https://klassikauto.pl/impreza/us-car-treffen-creativ-quartier-furst-leopold-dorsten/
LOCATION:Dorsten\, Niemcy
CATEGORIES:Zlot
END:VEVENT
BEGIN:VEVENT
DTSTART;TZID=Europe/Helsinki:20250501T110000
DTEND;TZID=Europe/Helsinki:20250501T110000
DTSTAMP:20260422T100730
CREATED:20250427T064910Z
LAST-MODIFIED:20250427T064910Z
UID:110009-1746097200-1746097200@klassikauto.pl
SUMMARY:Majówka by Cabrio Poland 2025
DESCRIPTION:
URL:https://klassikauto.pl/impreza/majowka-by-cabrio-poland-2025/
LOCATION:Świdnica
CATEGORIES:Zlot
END:VEVENT
BEGIN:VEVENT
DTSTART;TZID=Europe/Helsinki:20250501T110000
DTEND;TZID=Europe/Helsinki:20250501T140000
DTSTAMP:20260422T100730
CREATED:20250204T185914Z
LAST-MODIFIED:20250204T185914Z
UID:108317-1746097200-1746108000@klassikauto.pl
SUMMARY:Eurorally 2025 official startline
DESCRIPTION:
URL:https://klassikauto.pl/impreza/eurorally-2025-official-startline/
LOCATION:Aalborg\, Dania
CATEGORIES:Rajd
END:VEVENT
BEGIN:VEVENT
DTSTART;TZID=Europe/Helsinki:20250501T110000
DTEND;TZID=Europe/Helsinki:20250501T160000
DTSTAMP:20260422T100730
CREATED:20241225T101437Z
LAST-MODIFIED:20241225T101437Z
UID:107324-1746097200-1746115200@klassikauto.pl
SUMMARY:21. Traditionelles Young- & Oldtimertreffen
DESCRIPTION:
URL:https://klassikauto.pl/impreza/21-traditionelles-young-oldtimertreffen/
LOCATION:Neuwied\, Niemcy
CATEGORIES:Zlot
END:VEVENT
BEGIN:VEVENT
DTSTART;TZID=Europe/Helsinki:20250501T110000
DTEND;TZID=Europe/Helsinki:20250503T140000
DTSTAMP:20260422T100730
CREATED:20250427T064142Z
LAST-MODIFIED:20250427T064142Z
UID:110002-1746097200-1746280800@klassikauto.pl
SUMMARY:XIII Spotkanie Pojazdów Militarnych
DESCRIPTION:
URL:https://klassikauto.pl/impreza/xiii-spotkanie-pojazdow-militarnych/
LOCATION:Trzebież
CATEGORIES:Zlot
END:VEVENT
BEGIN:VEVENT
DTSTART;TZID=Europe/Helsinki:20250501T120000
DTEND;TZID=Europe/Helsinki:20250501T120000
DTSTAMP:20260422T100730
CREATED:20250426T160453Z
LAST-MODIFIED:20250426T160453Z
UID:109837-1746100800-1746100800@klassikauto.pl
SUMMARY:Majówka z Retro Grupą
DESCRIPTION:
URL:https://klassikauto.pl/impreza/majowka-z-retro-grupa/
LOCATION:Bulowice
CATEGORIES:Zlot
END:VEVENT
BEGIN:VEVENT
DTSTART;TZID=Europe/Helsinki:20250501T120000
DTEND;TZID=Europe/Helsinki:20250501T200000
DTSTAMP:20260422T100730
CREATED:20250330T104740Z
LAST-MODIFIED:20250330T104740Z
UID:109351-1746100800-1746129600@klassikauto.pl
SUMMARY:Trzebinia w PRL – Zlot Klasyków
DESCRIPTION:
URL:https://klassikauto.pl/impreza/trzebinia-w-prl-zlot-klasykow-3/
LOCATION:Trzebinia
CATEGORIES:Zlot
END:VEVENT
BEGIN:VEVENT
DTSTART;TZID=Europe/Helsinki:20250501T140000
DTEND;TZID=Europe/Helsinki:20250501T140000
DTSTAMP:20260422T100730
CREATED:20250426T092301Z
LAST-MODIFIED:20250426T092301Z
UID:109699-1746108000-1746108000@klassikauto.pl
SUMMARY:Moto Majówka
DESCRIPTION:
URL:https://klassikauto.pl/impreza/moto-majowka-2/
LOCATION:Grodków
CATEGORIES:Zlot
END:VEVENT
BEGIN:VEVENT
DTSTART;TZID=Europe/Helsinki:20250501T160000
DTEND;TZID=Europe/Helsinki:20250504T100000
DTSTAMP:20260422T100730
CREATED:20250330T114721Z
LAST-MODIFIED:20250330T114721Z
UID:109382-1746115200-1746352800@klassikauto.pl
SUMMARY:XXII Stalowowolski Rajd Pojazdów Zabytkowych\, I Runda Mistrzostw Polski Pojazdów Zabytkowych
DESCRIPTION:
URL:https://klassikauto.pl/impreza/xxii-stalowowolski-rajd-pojazdow-zabytkowych-i-runda-mistrzostw-polski-pojazdow-zabytkowych/
LOCATION:Stalowa Wola\, Poland
CATEGORIES:Rajd
END:VEVENT
BEGIN:VEVENT
DTSTART;TZID=Europe/Helsinki:20250501T163000
DTEND;TZID=Europe/Helsinki:20250501T193000
DTSTAMP:20260422T100730
CREATED:20250224T152452Z
LAST-MODIFIED:20250224T152452Z
UID:108678-1746117000-1746127800@klassikauto.pl
SUMMARY:Początek Sezonu Graciarskie Obiadki Czwartkowe No58
DESCRIPTION:
URL:https://klassikauto.pl/impreza/poczatek-sezonu-graciarskie-obiadki-czwartkowe-no58/
LOCATION:Poznań
CATEGORIES:Zlot
END:VEVENT
BEGIN:VEVENT
DTSTART;TZID=Europe/Helsinki:20250502T100000
DTEND;TZID=Europe/Helsinki:20250502T100000
DTSTAMP:20260422T100730
CREATED:20250426T092429Z
LAST-MODIFIED:20250426T092429Z
UID:109701-1746180000-1746180000@klassikauto.pl
SUMMARY:MotoSerce
DESCRIPTION:
URL:https://klassikauto.pl/impreza/motoserce-2/
LOCATION:Kudowa Zdrój
CATEGORIES:Zlot
END:VEVENT
BEGIN:VEVENT
DTSTART;TZID=Europe/Helsinki:20250502T100000
DTEND;TZID=Europe/Helsinki:20250502T150000
DTSTAMP:20260422T100730
CREATED:20250406T090952Z
LAST-MODIFIED:20250406T090952Z
UID:109556-1746180000-1746198000@klassikauto.pl
SUMMARY:1 Zlot Samochodów Retro i Amerykańskich we Władysławowie
DESCRIPTION:
URL:https://klassikauto.pl/impreza/1-zlot-samochodow-retro-i-amerykanskich-we-wladyslawowie/
LOCATION:Władysławowo
CATEGORIES:Zlot
END:VEVENT
BEGIN:VEVENT
DTSTART;TZID=Europe/Helsinki:20250502T110000
DTEND;TZID=Europe/Helsinki:20250502T130000
DTSTAMP:20260422T100730
CREATED:20250204T185639Z
LAST-MODIFIED:20250204T185639Z
UID:108315-1746183600-1746190800@klassikauto.pl
SUMMARY:Eurorally cars display Legnica
DESCRIPTION:
URL:https://klassikauto.pl/impreza/eurorally-cars-display-legnica-2/
LOCATION:Legnica
CATEGORIES:Rajd
END:VEVENT
BEGIN:VEVENT
DTSTART;TZID=Europe/Helsinki:20250502T180000
DTEND;TZID=Europe/Helsinki:20250508T180000
DTSTAMP:20260422T100730
CREATED:20250426T100606Z
LAST-MODIFIED:20250426T100606Z
UID:109731-1746208800-1746727200@klassikauto.pl
SUMMARY:US Car & Bike Treffen
DESCRIPTION:
URL:https://klassikauto.pl/impreza/us-car-bike-treffen/
LOCATION:Posterholt\, Holandia
CATEGORIES:Zlot
END:VEVENT
BEGIN:VEVENT
DTSTART;VALUE=DATE:20250503
DTEND;VALUE=DATE:20250505
DTSTAMP:20260422T100730
CREATED:20241228T164406Z
LAST-MODIFIED:20241228T164406Z
UID:107519-1746230400-1746403199@klassikauto.pl
SUMMARY:Technorama
DESCRIPTION:
URL:https://klassikauto.pl/impreza/technorama-7/
LOCATION:Ulm
CATEGORIES:Aukcja,Giełda
END:VEVENT
BEGIN:VEVENT
DTSTART;VALUE=DATE:20250503
DTEND;VALUE=DATE:20250505
DTSTAMP:20260422T100730
CREATED:20241228T171126Z
LAST-MODIFIED:20241228T171126Z
UID:107535-1746230400-1746403199@klassikauto.pl
SUMMARY:Gaydon Land Rover Show
DESCRIPTION:
URL:https://klassikauto.pl/impreza/gaydon-land-rover-show-2/
LOCATION:Gaydon\, Wielka Brytania
CATEGORIES:Zlot
END:VEVENT
BEGIN:VEVENT
DTSTART;TZID=Europe/Helsinki:20250503T083000
DTEND;TZID=Europe/Helsinki:20250503T083000
DTSTAMP:20260422T100730
CREATED:20250426T183759Z
LAST-MODIFIED:20250426T183759Z
UID:109941-1746261000-1746261000@klassikauto.pl
SUMMARY:Rajd 3 Maja
DESCRIPTION:
URL:https://klassikauto.pl/impreza/rajd-3-maja/
LOCATION:Starogard Gdański
CATEGORIES:Rajd
END:VEVENT
END:VCALENDAR
<!-- RunCloud Hub 2026-04-22 09:07:30 -->