BEGIN:VCALENDAR
VERSION:2.0
PRODID:-//KlassikAuto.pl - ECPv6.7.0//NONSGML v1.0//EN
CALSCALE:GREGORIAN
METHOD:PUBLISH
X-ORIGINAL-URL:https://klassikauto.pl
X-WR-CALDESC:Wydarzenia dla KlassikAuto.pl
REFRESH-INTERVAL;VALUE=DURATION:PT1H
X-Robots-Tag:noindex
X-PUBLISHED-TTL:PT1H
BEGIN:VTIMEZONE
TZID:Europe/Helsinki
BEGIN:DAYLIGHT
TZOFFSETFROM:+0200
TZOFFSETTO:+0300
TZNAME:EEST
DTSTART:20250330T010000
END:DAYLIGHT
BEGIN:STANDARD
TZOFFSETFROM:+0300
TZOFFSETTO:+0200
TZNAME:EET
DTSTART:20251026T010000
END:STANDARD
END:VTIMEZONE
BEGIN:VEVENT
DTSTART;TZID=Europe/Helsinki:20250228T080000
DTEND;TZID=Europe/Helsinki:20250420T170000
DTSTAMP:20260422T115601
CREATED:20241222T124048Z
LAST-MODIFIED:20241222T124048Z
UID:107156-1740729600-1745168400@klassikauto.pl
SUMMARY:Rally Legends - From Dust to Glory
DESCRIPTION:
URL:https://klassikauto.pl/impreza/rally-legends-from-dust-to-glory/
LOCATION:Museum Autoworld\, Bruksela\, Belgia
CATEGORIES:Wystawa
END:VEVENT
BEGIN:VEVENT
DTSTART;VALUE=DATE:20250408
DTEND;VALUE=DATE:20250411
DTSTAMP:20260422T115601
CREATED:20241229T161328Z
LAST-MODIFIED:20241229T161328Z
UID:107684-1744070400-1744329599@klassikauto.pl
SUMMARY:Warsaw Bus 2025
DESCRIPTION:
URL:https://klassikauto.pl/impreza/warsaw-bus-2025/
LOCATION:Warszawa
CATEGORIES:Targi
END:VEVENT
BEGIN:VEVENT
DTSTART;VALUE=DATE:20250409
DTEND;VALUE=DATE:20250414
DTSTAMP:20260422T115601
CREATED:20250401T175858Z
LAST-MODIFIED:20250401T175858Z
UID:109461-1744156800-1744588799@klassikauto.pl
SUMMARY:Techno-Classica Essen
DESCRIPTION:
URL:https://klassikauto.pl/impreza/techno-classica-essen-2/
LOCATION:Essen\, Niemcy
CATEGORIES:Targi
END:VEVENT
BEGIN:VEVENT
DTSTART;VALUE=DATE:20250410
DTEND;VALUE=DATE:20250414
DTSTAMP:20260422T115601
CREATED:20241229T105627Z
LAST-MODIFIED:20241229T105627Z
UID:107625-1744243200-1744588799@klassikauto.pl
SUMMARY:1000 Miglia Experience Italy 2025
DESCRIPTION:
URL:https://klassikauto.pl/impreza/1000-miglia-experience-italy-2025/
LOCATION:Sorrento\, Włochy
CATEGORIES:Rajd
END:VEVENT
BEGIN:VEVENT
DTSTART;TZID=Europe/Helsinki:20250411T080000
DTEND;TZID=Europe/Helsinki:20250412T180000
DTSTAMP:20260422T115601
CREATED:20250204T181930Z
LAST-MODIFIED:20250204T181930Z
UID:108287-1744358400-1744480800@klassikauto.pl
SUMMARY:9. Tech-Mo Rally 2025
DESCRIPTION:
URL:https://klassikauto.pl/impreza/9-tech-mo-rally-2025/
LOCATION:Nowa Ruda
CATEGORIES:Rajd
END:VEVENT
BEGIN:VEVENT
DTSTART;VALUE=DATE:20250412
DTEND;VALUE=DATE:20250413
DTSTAMP:20260422T115601
CREATED:20241223T092214Z
LAST-MODIFIED:20241223T092214Z
UID:107260-1744416000-1744502399@klassikauto.pl
SUMMARY:SUPEROES 2025\, V Runda
DESCRIPTION:
URL:https://klassikauto.pl/impreza/superoes-2025-v-runda/
LOCATION:Poznań
CATEGORIES:Rajd
END:VEVENT
BEGIN:VEVENT
DTSTART;VALUE=DATE:20250412
DTEND;VALUE=DATE:20250414
DTSTAMP:20260422T115601
CREATED:20250401T174632Z
LAST-MODIFIED:20250401T174632Z
UID:109453-1744416000-1744588799@klassikauto.pl
SUMMARY:Oldtimer Show 2025
DESCRIPTION:
URL:https://klassikauto.pl/impreza/oldtimer-show-2025/
LOCATION:Budapeszt
CATEGORIES:Targi
END:VEVENT
BEGIN:VEVENT
DTSTART;TZID=Europe/Helsinki:20250412T090000
DTEND;TZID=Europe/Helsinki:20250412T090000
DTSTAMP:20260422T115601
CREATED:20250401T175020Z
LAST-MODIFIED:20250401T175020Z
UID:109455-1744448400-1744448400@klassikauto.pl
SUMMARY:XII Rajd Autosana
DESCRIPTION:
URL:https://klassikauto.pl/impreza/xii-rajd-autosana/
LOCATION:Pomorze
CATEGORIES:Rajd
END:VEVENT
BEGIN:VEVENT
DTSTART;TZID=Europe/Helsinki:20250412T100000
DTEND;TZID=Europe/Helsinki:20250412T100000
DTSTAMP:20260422T115601
CREATED:20250330T102105Z
LAST-MODIFIED:20250330T102105Z
UID:109330-1744452000-1744452000@klassikauto.pl
SUMMARY:Česká Route 66 - 2025
DESCRIPTION:
URL:https://klassikauto.pl/impreza/ceska-route-66-2025/
LOCATION:Pribram\, Czechy
CATEGORIES:Rajd
END:VEVENT
BEGIN:VEVENT
DTSTART;TZID=Europe/Helsinki:20250412T100000
DTEND;TZID=Europe/Helsinki:20250413T170000
DTSTAMP:20260422T115601
CREATED:20250204T182720Z
LAST-MODIFIED:20250204T182720Z
UID:108295-1744452000-1744563600@klassikauto.pl
SUMMARY:Auto Nostalgia 2025
DESCRIPTION:
URL:https://klassikauto.pl/impreza/auto-nostalgia-2025/
LOCATION:Warszawa
CATEGORIES:Targi
END:VEVENT
BEGIN:VEVENT
DTSTART;TZID=Europe/Helsinki:20250412T120000
DTEND;TZID=Europe/Helsinki:20250412T120000
DTSTAMP:20260422T115601
CREATED:20241229T093124Z
LAST-MODIFIED:20241229T093124Z
UID:107575-1744459200-1744459200@klassikauto.pl
SUMMARY:Obchody 5 Rocznicy Powstania WM126P Wilkowyje 2025
DESCRIPTION:
URL:https://klassikauto.pl/impreza/obchody-5-rocznicy-powstania-wm126p-wilkowyje-2025/
LOCATION:Jeruzal
CATEGORIES:Zlot
END:VEVENT
BEGIN:VEVENT
DTSTART;TZID=Europe/Helsinki:20250412T120000
DTEND;TZID=Europe/Helsinki:20250412T150000
DTSTAMP:20260422T115601
CREATED:20241229T092949Z
LAST-MODIFIED:20241229T092949Z
UID:107573-1744459200-1744470000@klassikauto.pl
SUMMARY:V Rajd Wilkowyje - Rozpoczęcie Sezonu 2025
DESCRIPTION:
URL:https://klassikauto.pl/impreza/v-rajd-wilkowyje-rozpoczecie-sezonu-2025/
LOCATION:Jeruzal
CATEGORIES:Rajd
END:VEVENT
BEGIN:VEVENT
DTSTART;TZID=Europe/Helsinki:20250412T160000
DTEND;TZID=Europe/Helsinki:20250412T160000
DTSTAMP:20260422T115601
CREATED:20250224T152259Z
LAST-MODIFIED:20250224T152259Z
UID:108676-1744473600-1744473600@klassikauto.pl
SUMMARY:2025 Start w LOWRIDE
DESCRIPTION:
URL:https://klassikauto.pl/impreza/2025-start-w-lowride/
LOCATION:Poznań
CATEGORIES:Zlot
END:VEVENT
BEGIN:VEVENT
DTSTART;TZID=Europe/Helsinki:20250412T170000
DTEND;TZID=Europe/Helsinki:20250412T210000
DTSTAMP:20260422T115601
CREATED:20250330T115633Z
LAST-MODIFIED:20250330T115633Z
UID:109389-1744477200-1744491600@klassikauto.pl
SUMMARY:Rozpoczęcie Sezonu z ISB Crew 2k25
DESCRIPTION:
URL:https://klassikauto.pl/impreza/rozpoczecie-sezonu-z-isb-crew-2k25/
LOCATION:Bytom
CATEGORIES:Zlot
END:VEVENT
BEGIN:VEVENT
DTSTART;VALUE=DATE:20250413
DTEND;VALUE=DATE:20250414
DTSTAMP:20260422T115601
CREATED:20250330T095651Z
LAST-MODIFIED:20250330T095651Z
UID:109320-1744502400-1744588799@klassikauto.pl
SUMMARY:Vítání veteránské sezóny 2025
DESCRIPTION:
URL:https://klassikauto.pl/impreza/vitani-veteranske-sezony-2025/
LOCATION:Litomysl\, Czechy
CATEGORIES:Zlot
END:VEVENT
BEGIN:VEVENT
DTSTART;VALUE=DATE:20250413
DTEND;VALUE=DATE:20250414
DTSTAMP:20260422T115601
CREATED:20250330T095924Z
LAST-MODIFIED:20250330T095924Z
UID:109322-1744502400-1744588799@klassikauto.pl
SUMMARY:Praha - Zbraslav 1960 – 2025
DESCRIPTION:
URL:https://klassikauto.pl/impreza/praha-zbraslav-1960-2025/
LOCATION:Praga\, Czechy
CATEGORIES:Zlot
END:VEVENT
BEGIN:VEVENT
DTSTART;TZID=Europe/Helsinki:20250413T090000
DTEND;TZID=Europe/Helsinki:20250413T180000
DTSTAMP:20260422T115601
CREATED:20250406T082311Z
LAST-MODIFIED:20250406T082311Z
UID:109535-1744534800-1744567200@klassikauto.pl
SUMMARY:Rajd Kwietniowy 2025 r.
DESCRIPTION:III Runda Turystycznego Pucharu Polski 2025 \nII Runda Turystyczno-Nawigacyjnych Mistrzostw Okręgu Warszawskiego 2025
URL:https://klassikauto.pl/impreza/rajd-kwietniowy-2025-r/
LOCATION:Otwock Wielki
CATEGORIES:Rajd
END:VEVENT
BEGIN:VEVENT
DTSTART;TZID=Europe/Helsinki:20250413T100000
DTEND;TZID=Europe/Helsinki:20250413T100000
DTSTAMP:20260422T115601
CREATED:20250330T114140Z
LAST-MODIFIED:20250330T114140Z
UID:109378-1744538400-1744538400@klassikauto.pl
SUMMARY:Wiosenna Objazdówka Zjednoczona 2025
DESCRIPTION:
URL:https://klassikauto.pl/impreza/wiosenna-objazdowka-zjednoczona-2025/
CATEGORIES:Zlot
END:VEVENT
BEGIN:VEVENT
DTSTART;TZID=Europe/Helsinki:20250413T100000
DTEND;TZID=Europe/Helsinki:20250413T170000
DTSTAMP:20260422T115601
CREATED:20250330T104301Z
LAST-MODIFIED:20250330T104301Z
UID:109347-1744538400-1744563600@klassikauto.pl
SUMMARY:Zahajeni sezonu 2025 z Muscle Bandou
DESCRIPTION:
URL:https://klassikauto.pl/impreza/zahajeni-sezonu-2025-z-muscle-bandou/
LOCATION:Bakov nad Jizerou\, Czechy
CATEGORIES:Zlot
END:VEVENT
BEGIN:VEVENT
DTSTART;TZID=Europe/Helsinki:20250413T103000
DTEND;TZID=Europe/Helsinki:20250413T103000
DTSTAMP:20260422T115601
CREATED:20250223T153350Z
LAST-MODIFIED:20250223T153350Z
UID:108640-1744540200-1744540200@klassikauto.pl
SUMMARY:Motocyklowy Zjazd Gwiaździsty do Częstochowy
DESCRIPTION:
URL:https://klassikauto.pl/impreza/motocyklowy-zjazd-gwiazdzisty-do-czestochowy-2/
LOCATION:Częstochowa
CATEGORIES:Zlot
END:VEVENT
BEGIN:VEVENT
DTSTART;TZID=Europe/Helsinki:20250413T103000
DTEND;TZID=Europe/Helsinki:20250413T103000
DTSTAMP:20260422T115601
CREATED:20250225T190745Z
LAST-MODIFIED:20250225T190745Z
UID:108748-1744540200-1744540200@klassikauto.pl
SUMMARY:Motocyklowe Otwarcie Sezonu Łuków 2025
DESCRIPTION:
URL:https://klassikauto.pl/impreza/motocyklowe-otwarcie-sezonu-lukow-2025/
LOCATION:Łuków
CATEGORIES:Zlot
END:VEVENT
BEGIN:VEVENT
DTSTART;TZID=Europe/Helsinki:20250413T110000
DTEND;TZID=Europe/Helsinki:20250413T170000
DTSTAMP:20260422T115601
CREATED:20250204T183215Z
LAST-MODIFIED:20250204T183556Z
UID:108299-1744542000-1744563600@klassikauto.pl
SUMMARY:Japfest Silverstone 2025
DESCRIPTION:
URL:https://klassikauto.pl/impreza/japfest-silverstone-2025/
LOCATION:Towcester\, Wielka Brytania
CATEGORIES:Rajd
END:VEVENT
BEGIN:VEVENT
DTSTART;TZID=Europe/Helsinki:20250413T120000
DTEND;TZID=Europe/Helsinki:20250413T120000
DTSTAMP:20260422T115601
CREATED:20250223T154435Z
LAST-MODIFIED:20250223T154435Z
UID:108652-1744545600-1744545600@klassikauto.pl
SUMMARY:Gnieźnieńskie Rozpoczęcie Sezonu Motocyklowego – Classic MC Poland
DESCRIPTION:
URL:https://klassikauto.pl/impreza/gnieznienskie-rozpoczecie-sezonu-motocyklowego-classic-mc-poland/
LOCATION:Gniezno
CATEGORIES:Zlot
END:VEVENT
BEGIN:VEVENT
DTSTART;TZID=Europe/Helsinki:20250413T140000
DTEND;TZID=Europe/Helsinki:20250427T140000
DTSTAMP:20260422T115601
CREATED:20250330T114955Z
LAST-MODIFIED:20250330T114955Z
UID:109384-1744552800-1745762400@klassikauto.pl
SUMMARY:Otwarcie Sezonu Motoryzacyjnego 2025
DESCRIPTION:
URL:https://klassikauto.pl/impreza/otwarcie-sezonu-motoryzacyjnego-2025/
LOCATION:Ostrowiec Świętokrzyski
CATEGORIES:Zlot
END:VEVENT
BEGIN:VEVENT
DTSTART;TZID=Europe/Helsinki:20250413T160000
DTEND;TZID=Europe/Helsinki:20250413T160000
DTSTAMP:20260422T115601
CREATED:20250426T165602Z
LAST-MODIFIED:20250426T165602Z
UID:109870-1744560000-1744560000@klassikauto.pl
SUMMARY:#1 Mini Cooper Spot - Silesia
DESCRIPTION:
URL:https://klassikauto.pl/impreza/1-mini-cooper-spot-silesia/
LOCATION:Katowice
CATEGORIES:Spot
END:VEVENT
BEGIN:VEVENT
DTSTART;VALUE=DATE:20250418
DTEND;VALUE=DATE:20250422
DTSTAMP:20260422T115601
CREATED:20241228T154117Z
LAST-MODIFIED:20241228T154117Z
UID:107477-1744934400-1745279999@klassikauto.pl
SUMMARY:AutoClassiqa - Jaarbeurs Utrecht
DESCRIPTION:
URL:https://klassikauto.pl/impreza/autoclassiqa-jaarbeurs-utrecht/
LOCATION:Utrecht\, Holandia
CATEGORIES:Targi
END:VEVENT
BEGIN:VEVENT
DTSTART;VALUE=DATE:20250418
DTEND;VALUE=DATE:20250422
DTSTAMP:20260422T115601
CREATED:20241228T154350Z
LAST-MODIFIED:20241228T154350Z
UID:107479-1744934400-1745279999@klassikauto.pl
SUMMARY:De Nationale Autobeurs
DESCRIPTION:
URL:https://klassikauto.pl/impreza/de-nationale-autobeurs/
LOCATION:Utrecht\, Holandia
CATEGORIES:Targi
END:VEVENT
BEGIN:VEVENT
DTSTART;TZID=Europe/Helsinki:20250418T100000
DTEND;TZID=Europe/Helsinki:20250418T160000
DTSTAMP:20260422T115601
CREATED:20250406T081935Z
LAST-MODIFIED:20250406T081935Z
UID:109532-1744970400-1744992000@klassikauto.pl
SUMMARY:Ursynowska Alternatywa – graciarski rajd turystyczno-nawigacyjny z serii Warszawa Inaczej
DESCRIPTION:
URL:https://klassikauto.pl/impreza/ursynowska-alternatywa-graciarski-rajd-turystyczno-nawigacyjny-z-serii-warszawa-inaczej/
LOCATION:Ursynów
CATEGORIES:Rajd
END:VEVENT
BEGIN:VEVENT
DTSTART;TZID=Europe/Helsinki:20250418T180000
DTEND;TZID=Europe/Helsinki:20250418T180000
DTSTAMP:20260422T115601
CREATED:20250330T115422Z
LAST-MODIFIED:20250330T115422Z
UID:109387-1744999200-1744999200@klassikauto.pl
SUMMARY:Rolling intRolling into Spring – Rozpoczęcie Sezonu 2025 z NJGTeam
DESCRIPTION:
URL:https://klassikauto.pl/impreza/rolling-introlling-into-spring-rozpoczecie-sezonu-2025-z-njgteam/
LOCATION:Gliwice
CATEGORIES:Zlot
END:VEVENT
BEGIN:VEVENT
DTSTART;TZID=Europe/Helsinki:20250419T120000
DTEND;TZID=Europe/Helsinki:20250419T120000
DTSTAMP:20260422T115601
CREATED:20250223T155436Z
LAST-MODIFIED:20250223T155436Z
UID:108665-1745064000-1745064000@klassikauto.pl
SUMMARY:Rozpoczęcie sezonu 2025 C&C Willis
DESCRIPTION:
URL:https://klassikauto.pl/impreza/rozpoczecie-sezonu-2025-cc-willis/
LOCATION:Bolesławiec
CATEGORIES:Zlot
END:VEVENT
END:VCALENDAR
<!-- RunCloud Hub 2026-04-22 10:56:01 -->