BEGIN:VCALENDAR
VERSION:2.0
PRODID:-//KlassikAuto.pl - ECPv6.7.0//NONSGML v1.0//EN
CALSCALE:GREGORIAN
METHOD:PUBLISH
X-ORIGINAL-URL:https://klassikauto.pl
X-WR-CALDESC:Wydarzenia dla KlassikAuto.pl
REFRESH-INTERVAL;VALUE=DURATION:PT1H
X-Robots-Tag:noindex
X-PUBLISHED-TTL:PT1H
BEGIN:VTIMEZONE
TZID:Europe/Helsinki
BEGIN:DAYLIGHT
TZOFFSETFROM:+0200
TZOFFSETTO:+0300
TZNAME:EEST
DTSTART:20240331T010000
END:DAYLIGHT
BEGIN:STANDARD
TZOFFSETFROM:+0300
TZOFFSETTO:+0200
TZNAME:EET
DTSTART:20241027T010000
END:STANDARD
BEGIN:DAYLIGHT
TZOFFSETFROM:+0200
TZOFFSETTO:+0300
TZNAME:EEST
DTSTART:20250330T010000
END:DAYLIGHT
BEGIN:STANDARD
TZOFFSETFROM:+0300
TZOFFSETTO:+0200
TZNAME:EET
DTSTART:20251026T010000
END:STANDARD
END:VTIMEZONE
BEGIN:VEVENT
DTSTART;VALUE=DATE:20241212
DTEND;VALUE=DATE:20250227
DTSTAMP:20260422T140207
CREATED:20241222T125721Z
LAST-MODIFIED:20241222T125721Z
UID:107172-1733961600-1740614399@klassikauto.pl
SUMMARY:Wystawa Ikony Motoryzacji\, 4. Edycja
DESCRIPTION:
URL:https://klassikauto.pl/impreza/wystawa-ikony-motoryzacji-4-edycja/
LOCATION:Warszawa
CATEGORIES:Wystawa
END:VEVENT
BEGIN:VEVENT
DTSTART;TZID=Europe/Helsinki:20250125T080000
DTEND;TZID=Europe/Helsinki:20250301T170000
DTSTAMP:20260422T140207
CREATED:20241226T110523Z
LAST-MODIFIED:20241226T110523Z
UID:107397-1737792000-1740848400@klassikauto.pl
SUMMARY:Viking Snow 2025
DESCRIPTION:Start: Hamburg\, Niemcy \nMeta: Kristiansand\, Norwegia
URL:https://klassikauto.pl/impreza/viking-snow-2025/
LOCATION:Hamburg\, Niemcy
CATEGORIES:Rajd
END:VEVENT
BEGIN:VEVENT
DTSTART;VALUE=DATE:20250222
DTEND;VALUE=DATE:20250226
DTSTAMP:20260422T140207
CREATED:20241229T105142Z
LAST-MODIFIED:20241229T105142Z
UID:107620-1740182400-1740527999@klassikauto.pl
SUMMARY:1000 Miglia Experience Usa Florida 2025
DESCRIPTION:
URL:https://klassikauto.pl/impreza/1000-miglia-experience-usa-florida-2025/
LOCATION:Miami\, USA
CATEGORIES:Rajd
END:VEVENT
BEGIN:VEVENT
DTSTART;VALUE=DATE:20250222
DTEND;VALUE=DATE:20250310
DTSTAMP:20260422T140207
CREATED:20241226T103323Z
LAST-MODIFIED:20241226T103323Z
UID:107385-1740182400-1741564799@klassikauto.pl
SUMMARY:Baltic Sea Circle Winter Edition 2025
DESCRIPTION:
URL:https://klassikauto.pl/impreza/baltic-sea-circle-winter-edition-2025/
LOCATION:Hamburg\, Niemcy
CATEGORIES:Rajd
END:VEVENT
BEGIN:VEVENT
DTSTART;VALUE=DATE:20250227
DTEND;VALUE=DATE:20250303
DTSTAMP:20260422T140207
CREATED:20241222T140137Z
LAST-MODIFIED:20241222T140137Z
UID:107213-1740614400-1740959999@klassikauto.pl
SUMMARY:Retro Classics 2025
DESCRIPTION:
URL:https://klassikauto.pl/impreza/retro-classics-2025/
LOCATION:Stuttgart\, Germany
CATEGORIES:Targi
END:VEVENT
BEGIN:VEVENT
DTSTART;TZID=Europe/Helsinki:20250228T080000
DTEND;TZID=Europe/Helsinki:20250420T170000
DTSTAMP:20260422T140207
CREATED:20241222T124048Z
LAST-MODIFIED:20241222T124048Z
UID:107156-1740729600-1745168400@klassikauto.pl
SUMMARY:Rally Legends - From Dust to Glory
DESCRIPTION:
URL:https://klassikauto.pl/impreza/rally-legends-from-dust-to-glory/
LOCATION:Museum Autoworld\, Bruksela\, Belgia
CATEGORIES:Wystawa
END:VEVENT
BEGIN:VEVENT
DTSTART;VALUE=DATE:20250301
DTEND;VALUE=DATE:20250302
DTSTAMP:20260422T140207
CREATED:20241223T092031Z
LAST-MODIFIED:20241223T092031Z
UID:107256-1740787200-1740873599@klassikauto.pl
SUMMARY:SUPEROES 2025\, III Runda
DESCRIPTION:
URL:https://klassikauto.pl/impreza/superoes-2025-iii-runda/
LOCATION:Poznań
CATEGORIES:Rajd
END:VEVENT
BEGIN:VEVENT
DTSTART;TZID=Europe/Helsinki:20250301T080000
DTEND;TZID=Europe/Helsinki:20250301T170000
DTSTAMP:20260422T140207
CREATED:20241229T102650Z
LAST-MODIFIED:20241229T102650Z
UID:107610-1740816000-1740848400@klassikauto.pl
SUMMARY:Velká burza veteránů\, dílů a starožitností Chotusice
DESCRIPTION:
URL:https://klassikauto.pl/impreza/velka-burza-veteranu-dilu-a-starozitnosti-chotusice/
LOCATION:Chotusice u Čáslavi\, Czechy
CATEGORIES:Giełda
END:VEVENT
BEGIN:VEVENT
DTSTART;TZID=Europe/Helsinki:20250301T080000
DTEND;TZID=Europe/Helsinki:20250301T200000
DTSTAMP:20260422T140207
CREATED:20250204T194811Z
LAST-MODIFIED:20250204T194811Z
UID:108348-1740816000-1740859200@klassikauto.pl
SUMMARY:57. Rallye Monte-Calvaria 2025
DESCRIPTION:
URL:https://klassikauto.pl/impreza/57-rallye-monte-calvaria-2025/
LOCATION:Góra Kalwaria
CATEGORIES:Rajd
END:VEVENT
BEGIN:VEVENT
DTSTART;TZID=Europe/Helsinki:20250301T090000
DTEND;TZID=Europe/Helsinki:20250301T090000
DTSTAMP:20260422T140207
CREATED:20250223T153141Z
LAST-MODIFIED:20250223T153141Z
UID:108637-1740819600-1740819600@klassikauto.pl
SUMMARY:X Otwarte Mistrzostwa Motocyklistów w strzelaniu o Puchar Moto Team Słupsk
DESCRIPTION:
URL:https://klassikauto.pl/impreza/x-otwarte-mistrzostwa-motocyklistow-w-strzelaniu-o-puchar-moto-team-slupsk/
LOCATION:Słupsk
CATEGORIES:Zlot
END:VEVENT
BEGIN:VEVENT
DTSTART;TZID=Europe/Helsinki:20250301T100000
DTEND;TZID=Europe/Helsinki:20250301T140000
DTSTAMP:20260422T140207
CREATED:20241222T133130Z
LAST-MODIFIED:20241222T133540Z
UID:107180-1740823200-1740837600@klassikauto.pl
SUMMARY:Motorsport / GR-Modelle
DESCRIPTION:
URL:https://klassikauto.pl/impreza/motorsport-gr-modelle/
LOCATION:Kolonia\, Niemcy
CATEGORIES:Wystawa
END:VEVENT
BEGIN:VEVENT
DTSTART;TZID=Europe/Helsinki:20250301T100000
DTEND;TZID=Europe/Helsinki:20250302T180000
DTSTAMP:20260422T140207
CREATED:20241228T072101Z
LAST-MODIFIED:20241228T072101Z
UID:107401-1740823200-1740938400@klassikauto.pl
SUMMARY:11. OSNA-Oldies
DESCRIPTION:
URL:https://klassikauto.pl/impreza/11-osna-oldies/
LOCATION:Osnabruck\, Niemcy
CATEGORIES:Zlot
END:VEVENT
BEGIN:VEVENT
DTSTART;TZID=Europe/Helsinki:20250301T110000
DTEND;TZID=Europe/Helsinki:20250301T170000
DTSTAMP:20260422T140207
CREATED:20250301T101705Z
LAST-MODIFIED:20250301T101705Z
UID:108862-1740826800-1740848400@klassikauto.pl
SUMMARY:Motortreff am Flugfeld – Saisonausklang
DESCRIPTION:
URL:https://klassikauto.pl/impreza/motortreff-am-flugfeld-saisonausklang/
LOCATION:Böblingen\, Niemcy
CATEGORIES:Zlot
END:VEVENT
BEGIN:VEVENT
DTSTART;TZID=Europe/Helsinki:20250301T180000
DTEND;TZID=Europe/Helsinki:20250301T180000
DTSTAMP:20260422T140207
CREATED:20250204T181522Z
LAST-MODIFIED:20250204T181522Z
UID:108282-1740852000-1740852000@klassikauto.pl
SUMMARY:Zakończenie sezonu BGM Wyścigów Górskich 2024
DESCRIPTION:
URL:https://klassikauto.pl/impreza/zakonczenie-sezonu-bgm-wyscigow-gorskich-2024/
LOCATION:Bielawa
CATEGORIES:Zlot
END:VEVENT
BEGIN:VEVENT
DTSTART;TZID=Europe/Helsinki:20250301T190000
DTEND;TZID=Europe/Helsinki:20250301T190000
DTSTAMP:20260422T140207
CREATED:20250223T152227Z
LAST-MODIFIED:20250223T152227Z
UID:108627-1740855600-1740855600@klassikauto.pl
SUMMARY:Winterparty – zimowy zlot
DESCRIPTION:
URL:https://klassikauto.pl/impreza/winterparty-zimowy-zlot/
LOCATION:Boguszów-Gorce
CATEGORIES:Zlot
END:VEVENT
BEGIN:VEVENT
DTSTART;VALUE=DATE:20250302
DTEND;VALUE=DATE:20250303
DTSTAMP:20260422T140207
CREATED:20241229T101747Z
LAST-MODIFIED:20241229T101747Z
UID:107604-1740873600-1740959999@klassikauto.pl
SUMMARY:Oldtimerbazar
DESCRIPTION:
URL:https://klassikauto.pl/impreza/oldtimerbazar-37/
LOCATION:Wrocław\, Wrocław\, Poland
CATEGORIES:Giełda
END:VEVENT
BEGIN:VEVENT
DTSTART;TZID=Europe/Helsinki:20250302T090000
DTEND;TZID=Europe/Helsinki:20250302T090000
DTSTAMP:20260422T140207
CREATED:20250225T190908Z
LAST-MODIFIED:20250225T190908Z
UID:108750-1740906000-1740906000@klassikauto.pl
SUMMARY:Wilczym Tropem - Rajd Pamięci Żołnierzy Wyklętych
DESCRIPTION:
URL:https://klassikauto.pl/impreza/wilczym-tropem-rajd-pamieci-zolnierzy-wykletych/
LOCATION:Łuków
CATEGORIES:Rajd
END:VEVENT
BEGIN:VEVENT
DTSTART;TZID=Europe/Helsinki:20250302T100000
DTEND;TZID=Europe/Helsinki:20250302T100000
DTSTAMP:20260422T140207
CREATED:20250225T191110Z
LAST-MODIFIED:20250225T191110Z
UID:108752-1740909600-1740909600@klassikauto.pl
SUMMARY:•	Rozpoczęcie Sezonu Klasyków i Youngtimerów LLU
DESCRIPTION:
URL:https://klassikauto.pl/impreza/rozpoczecie-sezonu-klasykow-i-youngtimerow-llu/
LOCATION:Kosuty
CATEGORIES:Zlot
END:VEVENT
BEGIN:VEVENT
DTSTART;TZID=Europe/Helsinki:20250302T170000
DTEND;TZID=Europe/Helsinki:20250302T170000
DTSTAMP:20260422T140207
CREATED:20250301T091941Z
LAST-MODIFIED:20250301T091941Z
UID:108821-1740934800-1740934800@klassikauto.pl
SUMMARY:USA Car Spot
DESCRIPTION:
URL:https://klassikauto.pl/impreza/usa-car-spot/
LOCATION:Wrocław\, Wrocław\, Poland
CATEGORIES:Spot
END:VEVENT
BEGIN:VEVENT
DTSTART;VALUE=DATE:20250306
DTEND;VALUE=DATE:20250310
DTSTAMP:20260422T140207
CREATED:20241228T075919Z
LAST-MODIFIED:20241228T075919Z
UID:107426-1741219200-1741564799@klassikauto.pl
SUMMARY:Belgium Auto Show
DESCRIPTION:
URL:https://klassikauto.pl/impreza/belgium-auto-show/
LOCATION:Gandawa\, Belgia
CATEGORIES:Targi
END:VEVENT
BEGIN:VEVENT
DTSTART;VALUE=DATE:20250308
DTEND;VALUE=DATE:20250310
DTSTAMP:20260422T140207
CREATED:20241226T110920Z
LAST-MODIFIED:20241226T110920Z
UID:107399-1741392000-1741564799@klassikauto.pl
SUMMARY:42. Automotoretro
DESCRIPTION:
URL:https://klassikauto.pl/impreza/42-automotoretro/
LOCATION:Parma\, Włochy
CATEGORIES:Targi
END:VEVENT
BEGIN:VEVENT
DTSTART;TZID=Europe/Helsinki:20250308T080000
DTEND;TZID=Europe/Helsinki:20250308T080000
DTSTAMP:20260422T140207
CREATED:20250301T141344Z
LAST-MODIFIED:20250301T141344Z
UID:108927-1741420800-1741420800@klassikauto.pl
SUMMARY:Autokrólove 2025 – Turystyczny Rajd Dnia Kobiet
DESCRIPTION:
URL:https://klassikauto.pl/impreza/autokrolove-2025-turystyczny-rajd-dnia-kobiet/
LOCATION:Kielce
CATEGORIES:Rajd
END:VEVENT
BEGIN:VEVENT
DTSTART;TZID=Europe/Helsinki:20250308T080000
DTEND;TZID=Europe/Helsinki:20250308T170000
DTSTAMP:20260422T140207
CREATED:20250301T144022Z
LAST-MODIFIED:20250301T144022Z
UID:108934-1741420800-1741453200@klassikauto.pl
SUMMARY:MDŽ v Cabrio Gallery
DESCRIPTION:
URL:https://klassikauto.pl/impreza/mdz-v-cabrio-gallery/
LOCATION:Hradec Kralove\, Czechy
CATEGORIES:Zlot
END:VEVENT
BEGIN:VEVENT
DTSTART;TZID=Europe/Helsinki:20250308T090000
DTEND;TZID=Europe/Helsinki:20250308T090000
DTSTAMP:20260422T140207
CREATED:20250301T140756Z
LAST-MODIFIED:20250301T140756Z
UID:108923-1741424400-1741424400@klassikauto.pl
SUMMARY:Rajd Pań 2025
DESCRIPTION:
URL:https://klassikauto.pl/impreza/rajd-pan-2025/
LOCATION:Bemowo
CATEGORIES:Rajd
END:VEVENT
BEGIN:VEVENT
DTSTART;TZID=Europe/Helsinki:20250308T100000
DTEND;TZID=Europe/Helsinki:20250308T170000
DTSTAMP:20260422T140207
CREATED:20250223T152032Z
LAST-MODIFIED:20250223T152032Z
UID:108625-1741428000-1741453200@klassikauto.pl
SUMMARY:Dziewczyny na motory
DESCRIPTION:
URL:https://klassikauto.pl/impreza/dziewczyny-na-motory/
LOCATION:Wrocław\, Wrocław\, Poland
CATEGORIES:Zlot
END:VEVENT
BEGIN:VEVENT
DTSTART;TZID=Europe/Helsinki:20250308T133000
DTEND;TZID=Europe/Helsinki:20250309T133000
DTSTAMP:20260422T140207
CREATED:20250301T142445Z
LAST-MODIFIED:20250301T142445Z
UID:108929-1741440600-1741527000@klassikauto.pl
SUMMARY:Kobiety w Klasykach
DESCRIPTION:
URL:https://klassikauto.pl/impreza/kobiety-w-klasykach/
LOCATION:Otrębusy
CATEGORIES:Zlot
END:VEVENT
BEGIN:VEVENT
DTSTART;VALUE=DATE:20250309
DTEND;VALUE=DATE:20250310
DTSTAMP:20260422T140207
CREATED:20250301T144157Z
LAST-MODIFIED:20250301T144157Z
UID:108936-1741478400-1741564799@klassikauto.pl
SUMMARY:Auto moto burza Valy u Přelouče
DESCRIPTION:
URL:https://klassikauto.pl/impreza/auto-moto-burza-valy-u-prelouce-4/
LOCATION:Valy u Přelouče\, Czechy
CATEGORIES:Aukcja
END:VEVENT
BEGIN:VEVENT
DTSTART;TZID=Europe/Helsinki:20250309T080000
DTEND;TZID=Europe/Helsinki:20250309T080000
DTSTAMP:20260422T140207
CREATED:20250301T141047Z
LAST-MODIFIED:20250301T141047Z
UID:108925-1741507200-1741507200@klassikauto.pl
SUMMARY:Wielkopolanki za kółkiem 2024
DESCRIPTION:
URL:https://klassikauto.pl/impreza/wielkopolanki-za-kolkiem-2024-2/
LOCATION:Poznań
CATEGORIES:Rajd
END:VEVENT
BEGIN:VEVENT
DTSTART;TZID=Europe/Helsinki:20250309T090000
DTEND;TZID=Europe/Helsinki:20250309T180000
DTSTAMP:20260422T140207
CREATED:20241228T072334Z
LAST-MODIFIED:20241228T072334Z
UID:107403-1741510800-1741543200@klassikauto.pl
SUMMARY:Kobieta za kółkiem – VI edycja
DESCRIPTION:
URL:https://klassikauto.pl/impreza/kobieta-za-kolkiem-vi-edycja/
LOCATION:Jawor
CATEGORIES:Zlot
END:VEVENT
BEGIN:VEVENT
DTSTART;TZID=Europe/Helsinki:20250309T100000
DTEND;TZID=Europe/Helsinki:20250309T130000
DTSTAMP:20260422T140207
CREATED:20250225T195643Z
LAST-MODIFIED:20250225T195643Z
UID:108790-1741514400-1741525200@klassikauto.pl
SUMMARY:Oldtimerbrunchen Cafe del Sol auf Schalke
DESCRIPTION:
URL:https://klassikauto.pl/impreza/oldtimerbrunchen-cafe-del-sol-auf-schalke/
LOCATION:Gelsenkirchen\, Niemcy
CATEGORIES:Zlot
END:VEVENT
END:VCALENDAR
<!-- RunCloud Hub 2026-04-22 13:02:07 -->