BEGIN:VCALENDAR
VERSION:2.0
PRODID:-//KlassikAuto.pl - ECPv6.7.0//NONSGML v1.0//EN
CALSCALE:GREGORIAN
METHOD:PUBLISH
X-ORIGINAL-URL:https://klassikauto.pl
X-WR-CALDESC:Wydarzenia dla KlassikAuto.pl
REFRESH-INTERVAL;VALUE=DURATION:PT1H
X-Robots-Tag:noindex
X-PUBLISHED-TTL:PT1H
BEGIN:VTIMEZONE
TZID:Europe/Helsinki
BEGIN:DAYLIGHT
TZOFFSETFROM:+0200
TZOFFSETTO:+0300
TZNAME:EEST
DTSTART:20240331T010000
END:DAYLIGHT
BEGIN:STANDARD
TZOFFSETFROM:+0300
TZOFFSETTO:+0200
TZNAME:EET
DTSTART:20241027T010000
END:STANDARD
BEGIN:DAYLIGHT
TZOFFSETFROM:+0200
TZOFFSETTO:+0300
TZNAME:EEST
DTSTART:20250330T010000
END:DAYLIGHT
BEGIN:STANDARD
TZOFFSETFROM:+0300
TZOFFSETTO:+0200
TZNAME:EET
DTSTART:20251026T010000
END:STANDARD
END:VTIMEZONE
BEGIN:VEVENT
DTSTART;VALUE=DATE:20241212
DTEND;VALUE=DATE:20250227
DTSTAMP:20260422T235806
CREATED:20241222T125721Z
LAST-MODIFIED:20241222T125721Z
UID:107172-1733961600-1740614399@klassikauto.pl
SUMMARY:Wystawa Ikony Motoryzacji\, 4. Edycja
DESCRIPTION:
URL:https://klassikauto.pl/impreza/wystawa-ikony-motoryzacji-4-edycja/
LOCATION:Warszawa
CATEGORIES:Wystawa
END:VEVENT
BEGIN:VEVENT
DTSTART;TZID=Europe/Helsinki:20241219T080000
DTEND;TZID=Europe/Helsinki:20250125T170000
DTSTAMP:20260422T235806
CREATED:20241222T123846Z
LAST-MODIFIED:20241222T123846Z
UID:107154-1734595200-1737824400@klassikauto.pl
SUMMARY:Happy Birthday Jacky Ickx - Scale Model Exhibition\,
DESCRIPTION:
URL:https://klassikauto.pl/impreza/happy-birthday-jacky-ickx-scale-model-exhibition/
LOCATION:Museum Autoworld\, Bruksela\, Belgia
CATEGORIES:Wystawa
END:VEVENT
BEGIN:VEVENT
DTSTART;TZID=Europe/Helsinki:20241219T080000
DTEND;TZID=Europe/Helsinki:20250223T170000
DTSTAMP:20260422T235806
CREATED:20240328T181233Z
LAST-MODIFIED:20240328T181233Z
UID:101118-1734595200-1740330000@klassikauto.pl
SUMMARY:Maserati 110 Years
DESCRIPTION:
URL:https://klassikauto.pl/impreza/maserati-110-years/
LOCATION:Muzeum Autoworld\, Bruksela\, Belgia
CATEGORIES:Wystawa
END:VEVENT
BEGIN:VEVENT
DTSTART;VALUE=DATE:20250109
DTEND;VALUE=DATE:20250113
DTSTAMP:20260422T235806
CREATED:20241229T120316Z
LAST-MODIFIED:20241229T120316Z
UID:107663-1736380800-1736726399@klassikauto.pl
SUMMARY:Autosport International Show 202
DESCRIPTION:
URL:https://klassikauto.pl/impreza/autosport-international-show-202/
LOCATION:Birmingham
CATEGORIES:Targi
END:VEVENT
BEGIN:VEVENT
DTSTART;TZID=Europe/Helsinki:20250109T080000
DTEND;TZID=Europe/Helsinki:20250116T180000
DTSTAMP:20260422T235806
CREATED:20241225T093347Z
LAST-MODIFIED:20241225T093347Z
UID:107302-1736409600-1737050400@klassikauto.pl
SUMMARY:Tydzień Polskiej Motoryzacji
DESCRIPTION:
URL:https://klassikauto.pl/impreza/tydzien-polskiej-motoryzacji/
LOCATION:Tarnowskie Góry
CATEGORIES:Wystawa
END:VEVENT
BEGIN:VEVENT
DTSTART;TZID=Europe/Helsinki:20250110T080000
DTEND;TZID=Europe/Helsinki:20250119T170000
DTSTAMP:20260422T235806
CREATED:20241223T090858Z
LAST-MODIFIED:20241223T090858Z
UID:107246-1736496000-1737306000@klassikauto.pl
SUMMARY:Brussels Auto Show
DESCRIPTION:
URL:https://klassikauto.pl/impreza/brussels-auto-show-2/
LOCATION:Bruksela\, Belgia
CATEGORIES:Targi
END:VEVENT
BEGIN:VEVENT
DTSTART;TZID=Europe/Helsinki:20250110T150000
DTEND;TZID=Europe/Helsinki:20250112T100000
DTSTAMP:20260422T235806
CREATED:20241223T085123Z
LAST-MODIFIED:20241223T085123Z
UID:107236-1736521200-1736676000@klassikauto.pl
SUMMARY:XIX Zimowy Motocyklowy Zlot Pingwina w Bytomiu
DESCRIPTION:
URL:https://klassikauto.pl/impreza/xix-zimowy-motocyklowy-zlot-pingwina-w-bytomiu/
LOCATION:Bytom
CATEGORIES:Zlot
END:VEVENT
BEGIN:VEVENT
DTSTART;TZID=Europe/Helsinki:20250110T150000
DTEND;TZID=Europe/Helsinki:20250112T110000
DTSTAMP:20260422T235806
CREATED:20241225T094808Z
LAST-MODIFIED:20241225T094808Z
UID:107306-1736521200-1736679600@klassikauto.pl
SUMMARY:IV Zimowy Zlot Mini
DESCRIPTION:
URL:https://klassikauto.pl/impreza/iv-zimowy-zlot-mini/
LOCATION:Węgierska Górka
CATEGORIES:Zlot
END:VEVENT
BEGIN:VEVENT
DTSTART;TZID=Europe/Helsinki:20250110T160000
DTEND;TZID=Europe/Helsinki:20250112T120000
DTSTAMP:20260422T235806
CREATED:20241225T092953Z
LAST-MODIFIED:20241225T092953Z
UID:107296-1736524800-1736683200@klassikauto.pl
SUMMARY:I Sowi Zimowy Zlot Motocyklowy
DESCRIPTION:
URL:https://klassikauto.pl/impreza/i-sowi-zimowy-zlot-motocyklowy/
LOCATION:Walim
CATEGORIES:Zlot
END:VEVENT
BEGIN:VEVENT
DTSTART;VALUE=DATE:20250111
DTEND;VALUE=DATE:20250113
DTSTAMP:20260422T235806
CREATED:20241223T085839Z
LAST-MODIFIED:20241223T085839Z
UID:107238-1736553600-1736726399@klassikauto.pl
SUMMARY:MotoVelo
DESCRIPTION:
URL:https://klassikauto.pl/impreza/motovelo-3/
LOCATION:Hertogenbosch\, Holandia
CATEGORIES:Zlot
END:VEVENT
BEGIN:VEVENT
DTSTART;TZID=Europe/Helsinki:20250111T100000
DTEND;TZID=Europe/Helsinki:20250112T170000
DTSTAMP:20260422T235806
CREATED:20241223T090053Z
LAST-MODIFIED:20241223T090053Z
UID:107240-1736589600-1736701200@klassikauto.pl
SUMMARY:16. VW Käfer und VW Veteranen Wintertreffen
DESCRIPTION:
URL:https://klassikauto.pl/impreza/16-vw-kafer-und-vw-veteranen-wintertreffen/
LOCATION:Herford\, Niemcy
CATEGORIES:Zlot
END:VEVENT
BEGIN:VEVENT
DTSTART;VALUE=DATE:20250115
DTEND;VALUE=DATE:20250116
DTSTAMP:20260422T235806
CREATED:20241229T123537Z
LAST-MODIFIED:20241229T123537Z
UID:107676-1736899200-1736985599@klassikauto.pl
SUMMARY:Classics\, Sports Cars & Youngtimers Uithoorn
DESCRIPTION:
URL:https://klassikauto.pl/impreza/classics-sports-cars-youngtimers-uithoorn/
LOCATION:Uithoorn\, Holandia
CATEGORIES:Aukcja
END:VEVENT
BEGIN:VEVENT
DTSTART;VALUE=DATE:20250116
DTEND;VALUE=DATE:20250119
DTSTAMP:20260422T235806
CREATED:20241223T084634Z
LAST-MODIFIED:20241223T084634Z
UID:107232-1736985600-1737244799@klassikauto.pl
SUMMARY:18. Winterrallye – Steiermark
DESCRIPTION:
URL:https://klassikauto.pl/impreza/18-winterrallye-steiermark/
LOCATION:Steienmark\, Austria
CATEGORIES:Rajd
END:VEVENT
BEGIN:VEVENT
DTSTART;VALUE=DATE:20250116
DTEND;VALUE=DATE:20250120
DTSTAMP:20260422T235806
CREATED:20241223T084904Z
LAST-MODIFIED:20241223T084904Z
UID:107234-1736985600-1737331199@klassikauto.pl
SUMMARY:Classic Car Show\, Maastricht 2025
DESCRIPTION:
URL:https://klassikauto.pl/impreza/classic-car-show-maastricht-2025/
LOCATION:Maastricht
CATEGORIES:Targi
END:VEVENT
BEGIN:VEVENT
DTSTART;VALUE=DATE:20250116
DTEND;VALUE=DATE:20250120
DTSTAMP:20260422T235806
CREATED:20241229T103521Z
LAST-MODIFIED:20241229T103521Z
UID:107618-1736985600-1737331199@klassikauto.pl
SUMMARY:Classic Car Show Maastricht
DESCRIPTION:
URL:https://klassikauto.pl/impreza/classic-car-show-maastricht/
LOCATION:Maastricht
CATEGORIES:Targi
END:VEVENT
BEGIN:VEVENT
DTSTART;VALUE=DATE:20250118
DTEND;VALUE=DATE:20250119
DTSTAMP:20260422T235806
CREATED:20241228T073535Z
LAST-MODIFIED:20241228T073535Z
UID:107412-1737158400-1737244799@klassikauto.pl
SUMMARY:Zimowy spot Opel Klub Łódzkie
DESCRIPTION:
URL:https://klassikauto.pl/impreza/zimowy-spot-opel-klub-lodzkie/
LOCATION:Łódź
CATEGORIES:Spot
END:VEVENT
BEGIN:VEVENT
DTSTART;TZID=Europe/Helsinki:20250118T100000
DTEND;TZID=Europe/Helsinki:20250119T180000
DTSTAMP:20260422T235806
CREATED:20241223T090635Z
LAST-MODIFIED:20241223T090635Z
UID:107244-1737194400-1737309600@klassikauto.pl
SUMMARY:Camperbeurs in Autotron
DESCRIPTION:
URL:https://klassikauto.pl/impreza/camperbeurs-in-autotron/
LOCATION:Hertogenbosch\, Holandia
CATEGORIES:Zlot
END:VEVENT
BEGIN:VEVENT
DTSTART;TZID=Europe/Helsinki:20250118T173000
DTEND;TZID=Europe/Helsinki:20250118T173000
DTSTAMP:20260422T235806
CREATED:20241225T110652Z
LAST-MODIFIED:20241225T110717Z
UID:107340-1737221400-1737221400@klassikauto.pl
SUMMARY:20 Urodziny MB Silesia Club Poland
DESCRIPTION:
URL:https://klassikauto.pl/impreza/20-urodziny-mb-silesia-club-poland/
LOCATION:Gliwice
CATEGORIES:Zlot
END:VEVENT
BEGIN:VEVENT
DTSTART;TZID=Europe/Helsinki:20250119T090000
DTEND;TZID=Europe/Helsinki:20250119T090000
DTSTAMP:20260422T235806
CREATED:20241225T074821Z
LAST-MODIFIED:20241225T074821Z
UID:107276-1737277200-1737277200@klassikauto.pl
SUMMARY:IX Rajd Moto WOŚP
DESCRIPTION:
URL:https://klassikauto.pl/impreza/ix-rajd-moto-wosp/
LOCATION:Trójmiasto
CATEGORIES:Rajd
END:VEVENT
BEGIN:VEVENT
DTSTART;TZID=Europe/Helsinki:20250119T100000
DTEND;TZID=Europe/Helsinki:20250119T100000
DTSTAMP:20260422T235806
CREATED:20241223T092750Z
LAST-MODIFIED:20241223T092750Z
UID:107266-1737280800-1737280800@klassikauto.pl
SUMMARY:3 Chojnicki zlot motoryzacyjny dla WOŚP
DESCRIPTION:
URL:https://klassikauto.pl/impreza/3-chojnicki-zlot-motoryzacyjny-dla-wosp/
LOCATION:Lipienice
CATEGORIES:Zlot
END:VEVENT
BEGIN:VEVENT
DTSTART;VALUE=DATE:20250123
DTEND;VALUE=DATE:20250127
DTSTAMP:20260422T235806
CREATED:20241223T091146Z
LAST-MODIFIED:20241223T091146Z
UID:107248-1737590400-1737935999@klassikauto.pl
SUMMARY:Schwarzwald Winter Challenge 2025
DESCRIPTION:
URL:https://klassikauto.pl/impreza/schwarzwald-winter-challenge-2025/
LOCATION:Durbach\, Niemcy
CATEGORIES:Rajd
END:VEVENT
BEGIN:VEVENT
DTSTART;VALUE=DATE:20250124
DTEND;VALUE=DATE:20250127
DTSTAMP:20260422T235806
CREATED:20241229T120502Z
LAST-MODIFIED:20241229T120502Z
UID:107665-1737676800-1737935999@klassikauto.pl
SUMMARY:Motor Bike Expo 2025
DESCRIPTION:
URL:https://klassikauto.pl/impreza/motor-bike-expo-2025/
LOCATION:Werona\, Włochy
CATEGORIES:Targi
END:VEVENT
BEGIN:VEVENT
DTSTART;VALUE=DATE:20250125
DTEND;VALUE=DATE:20250127
DTSTAMP:20260422T235806
CREATED:20241229T113433Z
LAST-MODIFIED:20241229T113433Z
UID:107650-1737763200-1737935999@klassikauto.pl
SUMMARY:ACA Classic Auction
DESCRIPTION:
URL:https://klassikauto.pl/impreza/aca-classic-auction-2/
LOCATION:King’s Lynn\, Wielka Brytania
CATEGORIES:Aukcja
END:VEVENT
BEGIN:VEVENT
DTSTART;TZID=Europe/Helsinki:20250125T080000
DTEND;TZID=Europe/Helsinki:20250301T170000
DTSTAMP:20260422T235806
CREATED:20241226T110523Z
LAST-MODIFIED:20241226T110523Z
UID:107397-1737792000-1740848400@klassikauto.pl
SUMMARY:Viking Snow 2025
DESCRIPTION:Start: Hamburg\, Niemcy \nMeta: Kristiansand\, Norwegia
URL:https://klassikauto.pl/impreza/viking-snow-2025/
LOCATION:Hamburg\, Niemcy
CATEGORIES:Rajd
END:VEVENT
BEGIN:VEVENT
DTSTART;TZID=Europe/Helsinki:20250125T120000
DTEND;TZID=Europe/Helsinki:20250125T210000
DTSTAMP:20260422T235806
CREATED:20241225T103118Z
LAST-MODIFIED:20241225T103118Z
UID:107334-1737806400-1737838800@klassikauto.pl
SUMMARY:II WOŚP-owy Zlot samochodowego w klimacie „Fast & Furious”\,
DESCRIPTION:
URL:https://klassikauto.pl/impreza/ii-wosp-owy-zlot-samochodowego-w-klimacie-fast-furious/
LOCATION:Rybnik
CATEGORIES:Zlot
END:VEVENT
BEGIN:VEVENT
DTSTART;TZID=Europe/Helsinki:20250126T090000
DTEND;TZID=Europe/Helsinki:20250126T160000
DTSTAMP:20260422T235806
CREATED:20241225T075630Z
LAST-MODIFIED:20241225T075630Z
UID:107280-1737882000-1737907200@klassikauto.pl
SUMMARY:33. WOŚP 4x4WLKP – Jedziemy dla Orkiestry
DESCRIPTION:
URL:https://klassikauto.pl/impreza/33-wosp-4x4wlkp-jedziemy-dla-orkiestry/
LOCATION:Poznań
CATEGORIES:Rajd
END:VEVENT
BEGIN:VEVENT
DTSTART;TZID=Europe/Helsinki:20250126T093000
DTEND;TZID=Europe/Helsinki:20250126T163000
DTSTAMP:20260422T235806
CREATED:20241225T075104Z
LAST-MODIFIED:20241225T075104Z
UID:107278-1737883800-1737909000@klassikauto.pl
SUMMARY:33 finał WOŚP Automobilklub Wielkopolski
DESCRIPTION:
URL:https://klassikauto.pl/impreza/33-final-wosp-automobilklub-wielkopolski/
LOCATION:Poznań
CATEGORIES:Rajd
END:VEVENT
BEGIN:VEVENT
DTSTART;TZID=Europe/Helsinki:20250126T100000
DTEND;TZID=Europe/Helsinki:20250126T100000
DTSTAMP:20260422T235806
CREATED:20241229T114926Z
LAST-MODIFIED:20241229T114926Z
UID:107661-1737885600-1737885600@klassikauto.pl
SUMMARY:Spot BMW w Poznaniu - 33 FINAŁ WOŚP
DESCRIPTION:
URL:https://klassikauto.pl/impreza/spot-bmw-w-poznaniu-33-final-wosp/
LOCATION:Poznań
CATEGORIES:Spot
END:VEVENT
BEGIN:VEVENT
DTSTART;TZID=Europe/Helsinki:20250129T060000
DTEND;TZID=Europe/Helsinki:20250129T060000
DTSTAMP:20260422T235806
CREATED:20241225T092706Z
LAST-MODIFIED:20241225T092706Z
UID:107293-1738130400-1738130400@klassikauto.pl
SUMMARY:Zaprzęgowo na Elefantentreffen 2025
DESCRIPTION:
URL:https://klassikauto.pl/impreza/zaprzegowo-na-elefantentreffen-2025/
LOCATION:Poznań
CATEGORIES:Zlot
END:VEVENT
BEGIN:VEVENT
DTSTART;VALUE=DATE:20250130
DTEND;VALUE=DATE:20250203
DTSTAMP:20260422T235806
CREATED:20241225T102528Z
LAST-MODIFIED:20241225T102528Z
UID:107329-1738195200-1738540799@klassikauto.pl
SUMMARY:67. Elefantentreffen 2025 - Zimowy Zlot Słoni
DESCRIPTION:
URL:https://klassikauto.pl/impreza/67-elefantentreffen-2025-zimowy-zlot-sloni/
LOCATION:Loh\, Niemcy
CATEGORIES:Zlot
END:VEVENT
END:VCALENDAR
<!-- RunCloud Hub 2026-04-22 22:58:06 -->