BEGIN:VCALENDAR
VERSION:2.0
PRODID:-//KlassikAuto.pl - ECPv6.7.0//NONSGML v1.0//EN
CALSCALE:GREGORIAN
METHOD:PUBLISH
X-ORIGINAL-URL:https://klassikauto.pl
X-WR-CALDESC:Wydarzenia dla KlassikAuto.pl
REFRESH-INTERVAL;VALUE=DURATION:PT1H
X-Robots-Tag:noindex
X-PUBLISHED-TTL:PT1H
BEGIN:VTIMEZONE
TZID:Europe/Helsinki
BEGIN:DAYLIGHT
TZOFFSETFROM:+0200
TZOFFSETTO:+0300
TZNAME:EEST
DTSTART:20240331T010000
END:DAYLIGHT
BEGIN:STANDARD
TZOFFSETFROM:+0300
TZOFFSETTO:+0200
TZNAME:EET
DTSTART:20241027T010000
END:STANDARD
END:VTIMEZONE
BEGIN:VEVENT
DTSTART;TZID=Europe/Helsinki:20240906T080000
DTEND;TZID=Europe/Helsinki:20241215T170000
DTSTAMP:20260423T014114
CREATED:20240328T181015Z
LAST-MODIFIED:20240328T181015Z
UID:101115-1725609600-1734282000@klassikauto.pl
SUMMARY:When automotive design become art
DESCRIPTION:
URL:https://klassikauto.pl/impreza/when-automotive-design-become-art/
LOCATION:Muzeum Autoworld\, Bruksela\, Belgia
CATEGORIES:Wystawa
END:VEVENT
BEGIN:VEVENT
DTSTART;VALUE=DATE:20241003
DTEND;VALUE=DATE:20241007
DTSTAMP:20260423T014114
CREATED:20240929T114842Z
LAST-MODIFIED:20240929T114842Z
UID:105699-1727913600-1728259199@klassikauto.pl
SUMMARY:Autosalon Autoshow Nitra 2024
DESCRIPTION:
URL:https://klassikauto.pl/impreza/autosalon-autoshow-nitra-2024/
LOCATION:Nitra\, Słowacja
CATEGORIES:Targi
END:VEVENT
BEGIN:VEVENT
DTSTART;TZID=Europe/Helsinki:20241003T080000
DTEND;TZID=Europe/Helsinki:20241006T170000
DTSTAMP:20260423T014114
CREATED:20240302T165350Z
LAST-MODIFIED:20240302T165350Z
UID:99942-1727942400-1728234000@klassikauto.pl
SUMMARY:Caravans Salon Poland 2024
DESCRIPTION:
URL:https://klassikauto.pl/impreza/caravans-salon-poland-2024/
LOCATION:Poznań
CATEGORIES:Targi
END:VEVENT
BEGIN:VEVENT
DTSTART;TZID=Europe/Helsinki:20241004T080000
DTEND;TZID=Europe/Helsinki:20241006T170000
DTSTAMP:20260423T014114
CREATED:20231224T072719Z
LAST-MODIFIED:20231224T072719Z
UID:97697-1728028800-1728234000@klassikauto.pl
SUMMARY:Mistrzostwa Polski Rallycross 2024
DESCRIPTION:Runda 7
URL:https://klassikauto.pl/impreza/mistrzostwa-polski-rallycross-2024-7/
LOCATION:Poznań
CATEGORIES:Rajd
END:VEVENT
BEGIN:VEVENT
DTSTART;TZID=Europe/Helsinki:20241004T080000
DTEND;TZID=Europe/Helsinki:20241006T170000
DTSTAMP:20260423T014114
CREATED:20231224T091208Z
LAST-MODIFIED:20231224T091208Z
UID:97709-1728028800-1728234000@klassikauto.pl
SUMMARY:Puchar Polski Autocross
DESCRIPTION:Runda 6
URL:https://klassikauto.pl/impreza/puchar-polski-autocross-5/
LOCATION:Poznań
CATEGORIES:Rajd
END:VEVENT
BEGIN:VEVENT
DTSTART;TZID=Europe/Helsinki:20241004T080000
DTEND;TZID=Europe/Helsinki:20241006T170000
DTSTAMP:20260423T014114
CREATED:20231229T081304Z
LAST-MODIFIED:20231229T081304Z
UID:98190-1728028800-1728234000@klassikauto.pl
SUMMARY:ADAC RGB Season Finale
DESCRIPTION:
URL:https://klassikauto.pl/impreza/adac-rgb-season-finale-3/
LOCATION:Nürnberg\, Niemcy
CATEGORIES:Rajd
END:VEVENT
BEGIN:VEVENT
DTSTART;TZID=Europe/Helsinki:20241004T090000
DTEND;TZID=Europe/Helsinki:20241006T170000
DTSTAMP:20260423T014114
CREATED:20240302T112852Z
LAST-MODIFIED:20240302T112852Z
UID:99843-1728032400-1728234000@klassikauto.pl
SUMMARY:Autosalon van het Noorden
DESCRIPTION:
URL:https://klassikauto.pl/impreza/autosalon-van-het-noorden/
LOCATION:Groningen\, Holandia
CATEGORIES:Targi,Wystawa
END:VEVENT
BEGIN:VEVENT
DTSTART;TZID=Europe/Helsinki:20241004T170000
DTEND;TZID=Europe/Helsinki:20241006T110000
DTSTAMP:20260423T014114
CREATED:20240526T120622Z
LAST-MODIFIED:20240929T093458Z
UID:102677-1728061200-1728212400@klassikauto.pl
SUMMARY:Sraz vozidel Ceskoslovenskych #2
DESCRIPTION:
URL:https://klassikauto.pl/impreza/sraz-vozidel-ceskoslovenskych-2/
LOCATION:Plumlov\, Czechy
CATEGORIES:Zlot
END:VEVENT
BEGIN:VEVENT
DTSTART;VALUE=DATE:20241005
DTEND;VALUE=DATE:20241007
DTSTAMP:20260423T014114
CREATED:20240427T051319Z
LAST-MODIFIED:20240427T051319Z
UID:101911-1728086400-1728259199@klassikauto.pl
SUMMARY:Tribe Days – 3. edycja
DESCRIPTION:rajd na torze Mugello Circuit
URL:https://klassikauto.pl/impreza/tribe-days-3-edycja/
LOCATION:Scarpiera e San Piero\, Włochy
CATEGORIES:Rajd
END:VEVENT
BEGIN:VEVENT
DTSTART;TZID=Europe/Helsinki:20241005T070000
DTEND;TZID=Europe/Helsinki:20241006T130000
DTSTAMP:20260423T014114
CREATED:20240929T105414Z
LAST-MODIFIED:20240929T105414Z
UID:105659-1728111600-1728219600@klassikauto.pl
SUMMARY:Wspólny wyjazd do Muzeum Motoryzacji w Oławie. WGR Klasyczne\, Muzeum Motoryzacji w Turowicach
DESCRIPTION:
URL:https://klassikauto.pl/impreza/wspolny-wyjazd-do-muzeum-motoryzacji-w-olawie-wgr-klasyczne-muzeum-motoryzacji-w-turowicach/
CATEGORIES:Wycieczka
END:VEVENT
BEGIN:VEVENT
DTSTART;TZID=Europe/Helsinki:20241006T080000
DTEND;TZID=Europe/Helsinki:20241006T170000
DTSTAMP:20260423T014114
CREATED:20240327T200506Z
LAST-MODIFIED:20240327T200506Z
UID:101023-1728201600-1728234000@klassikauto.pl
SUMMARY:Motobazar Toruń
DESCRIPTION:
URL:https://klassikauto.pl/impreza/motobazar-torun-4/
LOCATION:Toruń
CATEGORIES:Aukcja
END:VEVENT
BEGIN:VEVENT
DTSTART;TZID=Europe/Helsinki:20241006T090000
DTEND;TZID=Europe/Helsinki:20241006T140000
DTSTAMP:20260423T014114
CREATED:20240929T101741Z
LAST-MODIFIED:20240929T101741Z
UID:105624-1728205200-1728223200@klassikauto.pl
SUMMARY:Jazda po torze Łódź z SuperCars
DESCRIPTION:
URL:https://klassikauto.pl/impreza/jazda-po-torze-lodz-z-supercars/
LOCATION:Łódź
CATEGORIES:Rajd
END:VEVENT
BEGIN:VEVENT
DTSTART;TZID=Europe/Helsinki:20241006T093000
DTEND;TZID=Europe/Helsinki:20241006T093000
DTSTAMP:20260423T014114
CREATED:20240812T183442Z
LAST-MODIFIED:20240812T183442Z
UID:104719-1728207000-1728207000@klassikauto.pl
SUMMARY:Moto Show Piotrków Trybunalski
DESCRIPTION:
URL:https://klassikauto.pl/impreza/moto-show-piotrkow-trybunalski-2/
LOCATION:Piotrków Trybunalski
CATEGORIES:Targi
END:VEVENT
BEGIN:VEVENT
DTSTART;TZID=Europe/Helsinki:20241006T093000
DTEND;TZID=Europe/Helsinki:20241006T170000
DTSTAMP:20260423T014114
CREATED:20240929T123930Z
LAST-MODIFIED:20240929T123930Z
UID:105744-1728207000-1728234000@klassikauto.pl
SUMMARY:7. Rallye 66 - Orientierungsfahrt
DESCRIPTION:
URL:https://klassikauto.pl/impreza/7-rallye-66-orientierungsfahrt/
LOCATION:Ulmen\, Niemcy
CATEGORIES:Rajd
END:VEVENT
BEGIN:VEVENT
DTSTART;TZID=Europe/Helsinki:20241006T100000
DTEND;TZID=Europe/Helsinki:20241006T100000
DTSTAMP:20260423T014114
CREATED:20240728T115334Z
LAST-MODIFIED:20240728T115334Z
UID:104239-1728208800-1728208800@klassikauto.pl
SUMMARY:11e Rollend Engels Erfgoed Evenement (REEE)
DESCRIPTION:
URL:https://klassikauto.pl/impreza/11e-rollend-engels-erfgoed-evenement-reee/
LOCATION:Nijmegen\, Holandia
CATEGORIES:Zlot
END:VEVENT
BEGIN:VEVENT
DTSTART;TZID=Europe/Helsinki:20241006T100000
DTEND;TZID=Europe/Helsinki:20241006T160000
DTSTAMP:20260423T014114
CREATED:20240728T103607Z
LAST-MODIFIED:20240728T103607Z
UID:104179-1728208800-1728230400@klassikauto.pl
SUMMARY:Season Closing Oldtimertreff
DESCRIPTION:
URL:https://klassikauto.pl/impreza/season-closing-oldtimertreff/
LOCATION:Herten\, Niemcy
CATEGORIES:Zlot
END:VEVENT
BEGIN:VEVENT
DTSTART;TZID=Europe/Helsinki:20241006T120000
DTEND;TZID=Europe/Helsinki:20241006T150000
DTSTAMP:20260423T014114
CREATED:20240929T102307Z
LAST-MODIFIED:20240929T102307Z
UID:105631-1728216000-1728226800@klassikauto.pl
SUMMARY:Gnieźnieńskie Zakończenie Sezonu Motocyklowego 2024 – Classic MC Poland
DESCRIPTION:
URL:https://klassikauto.pl/impreza/gnieznienskie-zakonczenie-sezonu-motocyklowego-2024-classic-mc-poland/
LOCATION:Gniezno
CATEGORIES:Zlot
END:VEVENT
BEGIN:VEVENT
DTSTART;TZID=Europe/Helsinki:20241006T120000
DTEND;TZID=Europe/Helsinki:20241006T160000
DTSTAMP:20260423T014114
CREATED:20240812T162133Z
LAST-MODIFIED:20240929T103849Z
UID:104627-1728216000-1728230400@klassikauto.pl
SUMMARY:Volkswagen Fest
DESCRIPTION:Rodzinny piknik pełen atrakcji
URL:https://klassikauto.pl/impreza/volkswagen-fest/
LOCATION:Czerwonak
CATEGORIES:Zlot
END:VEVENT
BEGIN:VEVENT
DTSTART;TZID=Europe/Helsinki:20241006T120000
DTEND;TZID=Europe/Helsinki:20241006T160000
DTSTAMP:20260423T014114
CREATED:20240929T105552Z
LAST-MODIFIED:20240929T105552Z
UID:105661-1728216000-1728230400@klassikauto.pl
SUMMARY:Ta ostatnia niedziela – zakończenie sezonu 2024
DESCRIPTION:
URL:https://klassikauto.pl/impreza/ta-ostatnia-niedziela-zakonczenie-sezonu-2024/
LOCATION:Radom
CATEGORIES:Zlot
END:VEVENT
BEGIN:VEVENT
DTSTART;TZID=Europe/Helsinki:20241006T133000
DTEND;TZID=Europe/Helsinki:20241006T133000
DTSTAMP:20260423T014114
CREATED:20240929T103128Z
LAST-MODIFIED:20240929T103128Z
UID:105640-1728221400-1728221400@klassikauto.pl
SUMMARY:Zlot / Spot – Ford 2024
DESCRIPTION:
URL:https://klassikauto.pl/impreza/zlot-spot-ford-2024/
LOCATION:Września
CATEGORIES:Zlot
END:VEVENT
BEGIN:VEVENT
DTSTART;TZID=Europe/Helsinki:20241006T150000
DTEND;TZID=Europe/Helsinki:20241006T160000
DTSTAMP:20260423T014114
CREATED:20240812T181925Z
LAST-MODIFIED:20240812T181925Z
UID:104701-1728226800-1728230400@klassikauto.pl
SUMMARY:SPOT BMW Rawicz 2k24
DESCRIPTION:
URL:https://klassikauto.pl/impreza/spot-bmw-rawicz-2k24/
LOCATION:Rawicz
CATEGORIES:Spot
END:VEVENT
BEGIN:VEVENT
DTSTART;VALUE=DATE:20241008
DTEND;VALUE=DATE:20241014
DTSTAMP:20260423T014114
CREATED:20240728T162140Z
LAST-MODIFIED:20240728T162140Z
UID:104302-1728345600-1728863999@klassikauto.pl
SUMMARY:Cabrio Bavaria i Frankonia
DESCRIPTION:
URL:https://klassikauto.pl/impreza/cabrio-bavaria-i-frankonia/
LOCATION:Monachium\, Niemcy
CATEGORIES:Wycieczka
END:VEVENT
BEGIN:VEVENT
DTSTART;TZID=Europe/Helsinki:20241010T080000
DTEND;TZID=Europe/Helsinki:20241013T170000
DTSTAMP:20260423T014114
CREATED:20231229T075605Z
LAST-MODIFIED:20231229T075605Z
UID:98176-1728547200-1728838800@klassikauto.pl
SUMMARY:Targa Florio Classica
DESCRIPTION:
URL:https://klassikauto.pl/impreza/targa-florio-classica-2/
LOCATION:Palermo
CATEGORIES:Rajd,Zlot
END:VEVENT
BEGIN:VEVENT
DTSTART;TZID=Europe/Helsinki:20241010T080000
DTEND;TZID=Europe/Helsinki:20241013T170000
DTSTAMP:20260423T014114
CREATED:20231229T075735Z
LAST-MODIFIED:20231229T075735Z
UID:98178-1728547200-1728838800@klassikauto.pl
SUMMARY:Ferrari Tribute to Targa Florio
DESCRIPTION:
URL:https://klassikauto.pl/impreza/ferrari-tribute-to-targa-florio/
LOCATION:Palermo
CATEGORIES:Wystawa
END:VEVENT
BEGIN:VEVENT
DTSTART;TZID=Europe/Helsinki:20241010T090000
DTEND;TZID=Europe/Helsinki:20241010T180000
DTSTAMP:20260423T014114
CREATED:20240929T094203Z
LAST-MODIFIED:20240929T094203Z
UID:105601-1728550800-1728583200@klassikauto.pl
SUMMARY:Piknik motoryzacyjny
DESCRIPTION:
URL:https://klassikauto.pl/impreza/piknik-motoryzacyjny-3/
LOCATION:Mikołów
CATEGORIES:Zlot
END:VEVENT
BEGIN:VEVENT
DTSTART;VALUE=DATE:20241011
DTEND;VALUE=DATE:20241014
DTSTAMP:20260423T014114
CREATED:20231229T080319Z
LAST-MODIFIED:20231229T080319Z
UID:98182-1728604800-1728863999@klassikauto.pl
SUMMARY:Veterama
DESCRIPTION:
URL:https://klassikauto.pl/impreza/veterama-4/
LOCATION:Mannheim
CATEGORIES:Aukcja
END:VEVENT
BEGIN:VEVENT
DTSTART;VALUE=DATE:20241011
DTEND;VALUE=DATE:20241014
DTSTAMP:20260423T014114
CREATED:20240421T072401Z
LAST-MODIFIED:20240421T072437Z
UID:101618-1728604800-1728863999@klassikauto.pl
SUMMARY:Rajd Śląska 2024
DESCRIPTION:Rajdowe Mistrzostwa Europy FIA ERC\n7. runda RSMP\n6. runda HRSMP
URL:https://klassikauto.pl/impreza/rajd-slaska-2024/
LOCATION:Katowice
CATEGORIES:Rajd
END:VEVENT
BEGIN:VEVENT
DTSTART;TZID=Europe/Helsinki:20241011T080000
DTEND;TZID=Europe/Helsinki:20241013T190000
DTSTAMP:20260423T014114
CREATED:20240130T173248Z
LAST-MODIFIED:20240130T173248Z
UID:99034-1728633600-1728846000@klassikauto.pl
SUMMARY:European Rally Championship Rally Silesia 2024
DESCRIPTION:
URL:https://klassikauto.pl/impreza/european-rally-championship-rally-silesia-2024/
LOCATION:Katowice
CATEGORIES:Rajd
END:VEVENT
BEGIN:VEVENT
DTSTART;TZID=Europe/Helsinki:20241011T160000
DTEND;TZID=Europe/Helsinki:20241011T210000
DTSTAMP:20260423T014114
CREATED:20231228T122440Z
LAST-MODIFIED:20231228T122440Z
UID:98080-1728662400-1728680400@klassikauto.pl
SUMMARY:KAMPERIADA - zlot kamperów i przyczep - jesień 2024
DESCRIPTION:
URL:https://klassikauto.pl/impreza/kamperiada-zlot-kamperow-i-przyczep-jesien-2024/
LOCATION:Jedwabno
CATEGORIES:Zlot
END:VEVENT
BEGIN:VEVENT
DTSTART;TZID=Europe/Helsinki:20241012T090000
DTEND;TZID=Europe/Helsinki:20241012T120000
DTSTAMP:20260423T014114
CREATED:20240421T215856Z
LAST-MODIFIED:20240421T215856Z
UID:101745-1728723600-1728734400@klassikauto.pl
SUMMARY:Krakowski Zlot pojazdów zabytkowych Oldtimer Youngtimer
DESCRIPTION:
URL:https://klassikauto.pl/impreza/krakowski-zlot-pojazdow-zabytkowych-oldtimer-youngtimer-9/
LOCATION:Kraków
CATEGORIES:Zlot
END:VEVENT
END:VCALENDAR
<!-- RunCloud Hub 2026-04-23 00:41:14 -->