BEGIN:VCALENDAR
VERSION:2.0
PRODID:-//KlassikAuto.pl - ECPv6.7.0//NONSGML v1.0//EN
CALSCALE:GREGORIAN
METHOD:PUBLISH
X-ORIGINAL-URL:https://klassikauto.pl
X-WR-CALDESC:Wydarzenia dla KlassikAuto.pl
REFRESH-INTERVAL;VALUE=DURATION:PT1H
X-Robots-Tag:noindex
X-PUBLISHED-TTL:PT1H
BEGIN:VTIMEZONE
TZID:Europe/Helsinki
BEGIN:DAYLIGHT
TZOFFSETFROM:+0200
TZOFFSETTO:+0300
TZNAME:EEST
DTSTART:20240331T010000
END:DAYLIGHT
BEGIN:STANDARD
TZOFFSETFROM:+0300
TZOFFSETTO:+0200
TZNAME:EET
DTSTART:20241027T010000
END:STANDARD
END:VTIMEZONE
BEGIN:VEVENT
DTSTART;TZID=Europe/Helsinki:20240906T080000
DTEND;TZID=Europe/Helsinki:20241215T170000
DTSTAMP:20260423T014114
CREATED:20240328T181015Z
LAST-MODIFIED:20240328T181015Z
UID:101115-1725609600-1734282000@klassikauto.pl
SUMMARY:When automotive design become art
DESCRIPTION:
URL:https://klassikauto.pl/impreza/when-automotive-design-become-art/
LOCATION:Muzeum Autoworld\, Bruksela\, Belgia
CATEGORIES:Wystawa
END:VEVENT
BEGIN:VEVENT
DTSTART;TZID=Europe/Helsinki:20241002T173000
DTEND;TZID=Europe/Helsinki:20241002T203000
DTSTAMP:20260423T014114
CREATED:20240929T111127Z
LAST-MODIFIED:20240929T111127Z
UID:105670-1727890200-1727901000@klassikauto.pl
SUMMARY:TKP na ostatni spot YW w 2024 r.
DESCRIPTION:
URL:https://klassikauto.pl/impreza/tkp-na-ostatni-spot-yw-w-2024-r/
LOCATION:Warszawa
CATEGORIES:Spot
END:VEVENT
BEGIN:VEVENT
DTSTART;TZID=Europe/Helsinki:20241002T180000
DTEND;TZID=Europe/Helsinki:20241002T220000
DTSTAMP:20260423T014114
CREATED:20240630T093419Z
LAST-MODIFIED:20240630T093419Z
UID:103624-1727892000-1727906400@klassikauto.pl
SUMMARY:Cykliczne Spotkanie Klasycznej Motoryzacji #9 Fundacji Youngtimer Warsaw @PGE Narodowy
DESCRIPTION:
URL:https://klassikauto.pl/impreza/cykliczne-spotkanie-klasycznej-motoryzacji-9-fundacji-youngtimer-warsaw-pge-narodowy/
LOCATION:Warszawa
CATEGORIES:Spot
END:VEVENT
BEGIN:VEVENT
DTSTART;VALUE=DATE:20241003
DTEND;VALUE=DATE:20241007
DTSTAMP:20260423T014114
CREATED:20240929T114842Z
LAST-MODIFIED:20240929T114842Z
UID:105699-1727913600-1728259199@klassikauto.pl
SUMMARY:Autosalon Autoshow Nitra 2024
DESCRIPTION:
URL:https://klassikauto.pl/impreza/autosalon-autoshow-nitra-2024/
LOCATION:Nitra\, Słowacja
CATEGORIES:Targi
END:VEVENT
BEGIN:VEVENT
DTSTART;TZID=Europe/Helsinki:20241003T080000
DTEND;TZID=Europe/Helsinki:20241006T170000
DTSTAMP:20260423T014114
CREATED:20240302T165350Z
LAST-MODIFIED:20240302T165350Z
UID:99942-1727942400-1728234000@klassikauto.pl
SUMMARY:Caravans Salon Poland 2024
DESCRIPTION:
URL:https://klassikauto.pl/impreza/caravans-salon-poland-2024/
LOCATION:Poznań
CATEGORIES:Targi
END:VEVENT
BEGIN:VEVENT
DTSTART;TZID=Europe/Helsinki:20241003T100000
DTEND;TZID=Europe/Helsinki:20241003T160000
DTSTAMP:20260423T014114
CREATED:20240929T123721Z
LAST-MODIFIED:20240929T123721Z
UID:105742-1727949600-1727971200@klassikauto.pl
SUMMARY:Classic-Meeting Oktober und Saisonabschluss
DESCRIPTION:
URL:https://klassikauto.pl/impreza/classic-meeting-oktober-und-saisonabschluss/
LOCATION:Bremen\, Niemcy
CATEGORIES:Zlot
END:VEVENT
BEGIN:VEVENT
DTSTART;TZID=Europe/Helsinki:20241003T100000
DTEND;TZID=Europe/Helsinki:20241003T170000
DTSTAMP:20260423T014114
CREATED:20240728T110214Z
LAST-MODIFIED:20240728T110214Z
UID:104189-1727949600-1727974800@klassikauto.pl
SUMMARY:17. NOSW Oldtimertreffen aufm Berg
DESCRIPTION:
URL:https://klassikauto.pl/impreza/17-nosw-oldtimertreffen-aufm-berg/
LOCATION:Reken\, Niemcy
CATEGORIES:Zlot
END:VEVENT
BEGIN:VEVENT
DTSTART;TZID=Europe/Helsinki:20241003T100000
DTEND;TZID=Europe/Helsinki:20241003T170000
DTSTAMP:20260423T014114
CREATED:20240728T114848Z
LAST-MODIFIED:20240728T114848Z
UID:104233-1727949600-1727974800@klassikauto.pl
SUMMARY:Cars & Castle
DESCRIPTION:Schloss Lauersfort
URL:https://klassikauto.pl/impreza/cars-castle/
LOCATION:Moers\, Niemcy
CATEGORIES:Zlot
END:VEVENT
BEGIN:VEVENT
DTSTART;TZID=Europe/Helsinki:20241004T080000
DTEND;TZID=Europe/Helsinki:20241006T170000
DTSTAMP:20260423T014114
CREATED:20231224T072719Z
LAST-MODIFIED:20231224T072719Z
UID:97697-1728028800-1728234000@klassikauto.pl
SUMMARY:Mistrzostwa Polski Rallycross 2024
DESCRIPTION:Runda 7
URL:https://klassikauto.pl/impreza/mistrzostwa-polski-rallycross-2024-7/
LOCATION:Poznań
CATEGORIES:Rajd
END:VEVENT
BEGIN:VEVENT
DTSTART;TZID=Europe/Helsinki:20241004T080000
DTEND;TZID=Europe/Helsinki:20241006T170000
DTSTAMP:20260423T014114
CREATED:20231224T091208Z
LAST-MODIFIED:20231224T091208Z
UID:97709-1728028800-1728234000@klassikauto.pl
SUMMARY:Puchar Polski Autocross
DESCRIPTION:Runda 6
URL:https://klassikauto.pl/impreza/puchar-polski-autocross-5/
LOCATION:Poznań
CATEGORIES:Rajd
END:VEVENT
BEGIN:VEVENT
DTSTART;TZID=Europe/Helsinki:20241004T080000
DTEND;TZID=Europe/Helsinki:20241006T170000
DTSTAMP:20260423T014114
CREATED:20231229T081304Z
LAST-MODIFIED:20231229T081304Z
UID:98190-1728028800-1728234000@klassikauto.pl
SUMMARY:ADAC RGB Season Finale
DESCRIPTION:
URL:https://klassikauto.pl/impreza/adac-rgb-season-finale-3/
LOCATION:Nürnberg\, Niemcy
CATEGORIES:Rajd
END:VEVENT
BEGIN:VEVENT
DTSTART;TZID=Europe/Helsinki:20241004T090000
DTEND;TZID=Europe/Helsinki:20241006T170000
DTSTAMP:20260423T014114
CREATED:20240302T112852Z
LAST-MODIFIED:20240302T112852Z
UID:99843-1728032400-1728234000@klassikauto.pl
SUMMARY:Autosalon van het Noorden
DESCRIPTION:
URL:https://klassikauto.pl/impreza/autosalon-van-het-noorden/
LOCATION:Groningen\, Holandia
CATEGORIES:Targi,Wystawa
END:VEVENT
BEGIN:VEVENT
DTSTART;TZID=Europe/Helsinki:20241004T170000
DTEND;TZID=Europe/Helsinki:20241006T110000
DTSTAMP:20260423T014114
CREATED:20240526T120622Z
LAST-MODIFIED:20240929T093458Z
UID:102677-1728061200-1728212400@klassikauto.pl
SUMMARY:Sraz vozidel Ceskoslovenskych #2
DESCRIPTION:
URL:https://klassikauto.pl/impreza/sraz-vozidel-ceskoslovenskych-2/
LOCATION:Plumlov\, Czechy
CATEGORIES:Zlot
END:VEVENT
BEGIN:VEVENT
DTSTART;TZID=Europe/Helsinki:20241004T210000
DTEND;TZID=Europe/Helsinki:20241004T210000
DTSTAMP:20260423T014114
CREATED:20240929T112008Z
LAST-MODIFIED:20240929T112008Z
UID:105677-1728075600-1728075600@klassikauto.pl
SUMMARY:Warszawskie Motoryzacyjne Zakończenie Sezonu 2k26 – ND
DESCRIPTION:
URL:https://klassikauto.pl/impreza/warszawskie-motoryzacyjne-zakonczenie-sezonu-2k26-nd/
LOCATION:Warszawa
CATEGORIES:Zlot
END:VEVENT
BEGIN:VEVENT
DTSTART;VALUE=DATE:20241005
DTEND;VALUE=DATE:20241006
DTSTAMP:20260423T014114
CREATED:20240929T131504Z
LAST-MODIFIED:20240929T131504Z
UID:105758-1728086400-1728172799@klassikauto.pl
SUMMARY:Ondřejovská Osmička – Memoriál Jana Novotného
DESCRIPTION:
URL:https://klassikauto.pl/impreza/ondrejovska-osmicka-memorial-jana-novotneho-3/
LOCATION:Ondřejov\, Czechy
CATEGORIES:Rajd
END:VEVENT
BEGIN:VEVENT
DTSTART;VALUE=DATE:20241005
DTEND;VALUE=DATE:20241006
DTSTAMP:20260423T014114
CREATED:20240929T131728Z
LAST-MODIFIED:20240929T131728Z
UID:105761-1728086400-1728172799@klassikauto.pl
SUMMARY:Československá Rallye 2024
DESCRIPTION:
URL:https://klassikauto.pl/impreza/ceskoslovenska-rallye-2024/
LOCATION:Kroměříž\, Czechy
CATEGORIES:Rajd
END:VEVENT
BEGIN:VEVENT
DTSTART;VALUE=DATE:20241005
DTEND;VALUE=DATE:20241007
DTSTAMP:20260423T014114
CREATED:20240427T051319Z
LAST-MODIFIED:20240427T051319Z
UID:101911-1728086400-1728259199@klassikauto.pl
SUMMARY:Tribe Days – 3. edycja
DESCRIPTION:rajd na torze Mugello Circuit
URL:https://klassikauto.pl/impreza/tribe-days-3-edycja/
LOCATION:Scarpiera e San Piero\, Włochy
CATEGORIES:Rajd
END:VEVENT
BEGIN:VEVENT
DTSTART;TZID=Europe/Helsinki:20241005T070000
DTEND;TZID=Europe/Helsinki:20241006T130000
DTSTAMP:20260423T014114
CREATED:20240929T105414Z
LAST-MODIFIED:20240929T105414Z
UID:105659-1728111600-1728219600@klassikauto.pl
SUMMARY:Wspólny wyjazd do Muzeum Motoryzacji w Oławie. WGR Klasyczne\, Muzeum Motoryzacji w Turowicach
DESCRIPTION:
URL:https://klassikauto.pl/impreza/wspolny-wyjazd-do-muzeum-motoryzacji-w-olawie-wgr-klasyczne-muzeum-motoryzacji-w-turowicach/
CATEGORIES:Wycieczka
END:VEVENT
BEGIN:VEVENT
DTSTART;TZID=Europe/Helsinki:20241005T090000
DTEND;TZID=Europe/Helsinki:20241005T090000
DTSTAMP:20260423T014114
CREATED:20240728T115104Z
LAST-MODIFIED:20240728T115104Z
UID:104236-1728118800-1728118800@klassikauto.pl
SUMMARY:British Car Meeting 2024
DESCRIPTION:
URL:https://klassikauto.pl/impreza/british-car-meeting-2024/
LOCATION:Sain-Prex\, Szwajcaria
CATEGORIES:Zlot
END:VEVENT
BEGIN:VEVENT
DTSTART;TZID=Europe/Helsinki:20241005T093000
DTEND;TZID=Europe/Helsinki:20241005T170000
DTSTAMP:20260423T014114
CREATED:20240929T122026Z
LAST-MODIFIED:20240929T122026Z
UID:105732-1728120600-1728147600@klassikauto.pl
SUMMARY:1. OaseWeil Classic Day
DESCRIPTION:
URL:https://klassikauto.pl/impreza/1-oaseweil-classic-day/
LOCATION:Weil im Schönbuch\, Niemcy
CATEGORIES:Zlot
END:VEVENT
BEGIN:VEVENT
DTSTART;TZID=Europe/Helsinki:20241005T100000
DTEND;TZID=Europe/Helsinki:20241005T100000
DTSTAMP:20260423T014114
CREATED:20240527T164832Z
LAST-MODIFIED:20240527T164832Z
UID:102784-1728122400-1728122400@klassikauto.pl
SUMMARY:Mazda Classic Treffen 2024
DESCRIPTION:
URL:https://klassikauto.pl/impreza/mazda-classic-treffen-2024/
LOCATION:Augsburg\, Niemcy
CATEGORIES:Zlot
END:VEVENT
BEGIN:VEVENT
DTSTART;TZID=Europe/Helsinki:20241005T100000
DTEND;TZID=Europe/Helsinki:20241005T100000
DTSTAMP:20260423T014114
CREATED:20240630T095346Z
LAST-MODIFIED:20240630T095413Z
UID:103630-1728122400-1728122400@klassikauto.pl
SUMMARY:3 edycja Akademii Wyścigowej Classicauto Cup 2024
DESCRIPTION:
URL:https://klassikauto.pl/impreza/3-edycja-akademii-wyscigowej-classicauto-cup-2024/
LOCATION:Nowodwór
CATEGORIES:Rajd
END:VEVENT
BEGIN:VEVENT
DTSTART;TZID=Europe/Helsinki:20241005T100000
DTEND;TZID=Europe/Helsinki:20241005T100000
DTSTAMP:20260423T014114
CREATED:20240630T095941Z
LAST-MODIFIED:20240630T095941Z
UID:103637-1728122400-1728122400@klassikauto.pl
SUMMARY:3 edycja Akademii Wyścigowej Race Cup 2024
DESCRIPTION:
URL:https://klassikauto.pl/impreza/3-edycja-akademii-wyscigowej-race-cup-2024/
LOCATION:Nowodwór
CATEGORIES:Rajd
END:VEVENT
BEGIN:VEVENT
DTSTART;TZID=Europe/Helsinki:20241005T100000
DTEND;TZID=Europe/Helsinki:20241005T100000
DTSTAMP:20260423T014114
CREATED:20240630T100107Z
LAST-MODIFIED:20240630T100107Z
UID:103639-1728122400-1728122400@klassikauto.pl
SUMMARY:3 Królewskie Szkolenia Rajdowe
DESCRIPTION:
URL:https://klassikauto.pl/impreza/3-krolewskie-szkolenia-rajdowe/
LOCATION:Nowodwór
CATEGORIES:Rajd
END:VEVENT
BEGIN:VEVENT
DTSTART;TZID=Europe/Helsinki:20241005T100000
DTEND;TZID=Europe/Helsinki:20241005T140000
DTSTAMP:20260423T014114
CREATED:20231224T100935Z
LAST-MODIFIED:20231224T100935Z
UID:97734-1728122400-1728136800@klassikauto.pl
SUMMARY:Die Toyota Collection – 30 Jahre RAV4 / Familientag
DESCRIPTION:
URL:https://klassikauto.pl/impreza/die-toyota-collection-30-jahre-rav4-familientag/
LOCATION:Kolonia\, Niemcy
CATEGORIES:Wystawa
END:VEVENT
BEGIN:VEVENT
DTSTART;TZID=Europe/Helsinki:20241005T120000
DTEND;TZID=Europe/Helsinki:20241005T190000
DTSTAMP:20260423T014114
CREATED:20240929T085821Z
LAST-MODIFIED:20240929T085821Z
UID:105560-1728129600-1728154800@klassikauto.pl
SUMMARY:Zakończenie Sezonu Motocyklowego z Leopolis Biker
DESCRIPTION:
URL:https://klassikauto.pl/impreza/zakonczenie-sezonu-motocyklowego-z-leopolis-biker/
LOCATION:Dworek
CATEGORIES:Zlot
END:VEVENT
BEGIN:VEVENT
DTSTART;TZID=Europe/Helsinki:20241005T130000
DTEND;TZID=Europe/Helsinki:20241005T130000
DTSTAMP:20260423T014114
CREATED:20240929T105200Z
LAST-MODIFIED:20240929T105200Z
UID:105656-1728133200-1728133200@klassikauto.pl
SUMMARY:Zakończenie sezonu Classic Cars Legionowo
DESCRIPTION:
URL:https://klassikauto.pl/impreza/zakonczenie-sezonu-classic-cars-legionowo/
LOCATION:Skrzeszew
CATEGORIES:Zlot
END:VEVENT
BEGIN:VEVENT
DTSTART;TZID=Europe/Helsinki:20241005T130000
DTEND;TZID=Europe/Helsinki:20241005T200000
DTSTAMP:20260423T014114
CREATED:20240929T113750Z
LAST-MODIFIED:20240929T113814Z
UID:105691-1728133200-1728158400@klassikauto.pl
SUMMARY:Odjechane 9. Urodziny – Turbo Promocja i Legendarne Maszyny\, czyli VI Zlot Samochodów Zabytkowych
DESCRIPTION:Wydarzenie w ramach 9. Urodzin Centrum Handlowego Supersam
URL:https://klassikauto.pl/impreza/odjechane-9-urodziny-turbo-promocja-i-legendarne-maszyny-czyli-vi-zlot-samochodow-zabytkowych/
LOCATION:Katowice
CATEGORIES:Zlot
END:VEVENT
BEGIN:VEVENT
DTSTART;TZID=Europe/Helsinki:20241005T150000
DTEND;TZID=Europe/Helsinki:20241005T150000
DTSTAMP:20260423T014114
CREATED:20240526T132544Z
LAST-MODIFIED:20240526T132544Z
UID:102730-1728140400-1728140400@klassikauto.pl
SUMMARY:30. rocnik AMC Kravaře
DESCRIPTION:
URL:https://klassikauto.pl/impreza/30-rocnik-amc-kravare/
LOCATION:Kravare\, Czechy
CATEGORIES:Zlot
END:VEVENT
BEGIN:VEVENT
DTSTART;TZID=Europe/Helsinki:20241005T150000
DTEND;TZID=Europe/Helsinki:20241005T180000
DTSTAMP:20260423T014114
CREATED:20240929T103428Z
LAST-MODIFIED:20240929T103428Z
UID:105642-1728140400-1728151200@klassikauto.pl
SUMMARY:3 Samochodowe zakończenie sezonu
DESCRIPTION:
URL:https://klassikauto.pl/impreza/3-samochodowe-zakonczenie-sezonu/
LOCATION:Wągrowiec
CATEGORIES:Zlot
END:VEVENT
END:VCALENDAR
<!-- RunCloud Hub 2026-04-23 00:41:14 -->