BEGIN:VCALENDAR
VERSION:2.0
PRODID:-//KlassikAuto.pl - ECPv6.7.0//NONSGML v1.0//EN
CALSCALE:GREGORIAN
METHOD:PUBLISH
X-ORIGINAL-URL:https://klassikauto.pl
X-WR-CALDESC:Wydarzenia dla KlassikAuto.pl
REFRESH-INTERVAL;VALUE=DURATION:PT1H
X-Robots-Tag:noindex
X-PUBLISHED-TTL:PT1H
BEGIN:VTIMEZONE
TZID:Europe/Helsinki
BEGIN:DAYLIGHT
TZOFFSETFROM:+0200
TZOFFSETTO:+0300
TZNAME:EEST
DTSTART:20240331T010000
END:DAYLIGHT
BEGIN:STANDARD
TZOFFSETFROM:+0300
TZOFFSETTO:+0200
TZNAME:EET
DTSTART:20241027T010000
END:STANDARD
END:VTIMEZONE
BEGIN:VEVENT
DTSTART;TZID=Europe/Helsinki:20240906T080000
DTEND;TZID=Europe/Helsinki:20241215T170000
DTSTAMP:20260423T014150
CREATED:20240328T181015Z
LAST-MODIFIED:20240328T181015Z
UID:101115-1725609600-1734282000@klassikauto.pl
SUMMARY:When automotive design become art
DESCRIPTION:
URL:https://klassikauto.pl/impreza/when-automotive-design-become-art/
LOCATION:Muzeum Autoworld\, Bruksela\, Belgia
CATEGORIES:Wystawa
END:VEVENT
BEGIN:VEVENT
DTSTART;VALUE=DATE:20240922
DTEND;VALUE=DATE:20240929
DTSTAMP:20260423T014150
CREATED:20240728T162836Z
LAST-MODIFIED:20240728T162836Z
UID:104307-1726963200-1727567999@klassikauto.pl
SUMMARY:Cabrio Prowansja
DESCRIPTION:
URL:https://klassikauto.pl/impreza/cabrio-prowansja/
LOCATION:Nicea\, Francja
CATEGORIES:Wycieczka
END:VEVENT
BEGIN:VEVENT
DTSTART;TZID=Europe/Helsinki:20240927T080000
DTEND;TZID=Europe/Helsinki:20240929T180000
DTSTAMP:20260423T014150
CREATED:20231228T095126Z
LAST-MODIFIED:20231228T095126Z
UID:97970-1727424000-1727632800@klassikauto.pl
SUMMARY:III Międzynarodowy Rajd Pojazdów Zabytkowych Księstwa Świdnicko-Jaworskiego
DESCRIPTION:
URL:https://klassikauto.pl/impreza/iii-miedzynarodowy-rajd-pojazdow-zabytkowych-ksiestwa-swidnicko-jaworskiego/
LOCATION:Świdnica
CATEGORIES:Rajd
END:VEVENT
BEGIN:VEVENT
DTSTART;TZID=Europe/Helsinki:20240927T120000
DTEND;TZID=Europe/Helsinki:20240929T180000
DTSTAMP:20260423T014150
CREATED:20240812T183307Z
LAST-MODIFIED:20240812T183307Z
UID:104716-1727438400-1727632800@klassikauto.pl
SUMMARY:Zlot z okazji Light Move Festival
DESCRIPTION:
URL:https://klassikauto.pl/impreza/zlot-z-okazji-light-move-festival/
LOCATION:Sadówka
CATEGORIES:Zlot
END:VEVENT
BEGIN:VEVENT
DTSTART;TZID=Europe/Helsinki:20240927T150000
DTEND;TZID=Europe/Helsinki:20240929T110000
DTSTAMP:20260423T014150
CREATED:20240421T105109Z
LAST-MODIFIED:20240421T105109Z
UID:101672-1727449200-1727607600@klassikauto.pl
SUMMARY:20. Vinobraní s Mercedesy
DESCRIPTION:Vinařství U Kapličky v Zaječí
URL:https://klassikauto.pl/impreza/20-vinobrani-s-mercedesy/
LOCATION:Zaječí\, Czechy
CATEGORIES:Zlot
END:VEVENT
BEGIN:VEVENT
DTSTART;TZID=Europe/Helsinki:20240927T170000
DTEND;TZID=Europe/Helsinki:20240927T170000
DTSTAMP:20260423T014150
CREATED:20240812T184147Z
LAST-MODIFIED:20240812T184147Z
UID:104724-1727456400-1727456400@klassikauto.pl
SUMMARY:Zakończenie sezonu FKP 2024
DESCRIPTION:
URL:https://klassikauto.pl/impreza/zakonczenie-sezonu-fkp-2024/
LOCATION:Jura
CATEGORIES:Zlot
END:VEVENT
BEGIN:VEVENT
DTSTART;TZID=Europe/Helsinki:20240927T170000
DTEND;TZID=Europe/Helsinki:20240929T100000
DTSTAMP:20260423T014150
CREATED:20240728T165211Z
LAST-MODIFIED:20240728T165211Z
UID:104327-1727456400-1727604000@klassikauto.pl
SUMMARY:51. Poznański Międzynarodowy Rajd Pojazdów Zabytkowych
DESCRIPTION:
URL:https://klassikauto.pl/impreza/51-poznanski-miedzynarodowy-rajd-pojazdow-zabytkowych/
LOCATION:Poznań
CATEGORIES:Rajd
END:VEVENT
BEGIN:VEVENT
DTSTART;VALUE=DATE:20240928
DTEND;VALUE=DATE:20240929
DTSTAMP:20260423T014150
CREATED:20231228T142345Z
LAST-MODIFIED:20231228T142345Z
UID:98110-1727481600-1727567999@klassikauto.pl
SUMMARY:SUPEROES 2024\, IX Runda
DESCRIPTION:
URL:https://klassikauto.pl/impreza/superoes-2024-ix-runda/
LOCATION:Miedziana Góra
CATEGORIES:Rajd
END:VEVENT
BEGIN:VEVENT
DTSTART;TZID=Europe/Helsinki:20240928T080000
DTEND;TZID=Europe/Helsinki:20240928T080000
DTSTAMP:20260423T014150
CREATED:20240929T093822Z
LAST-MODIFIED:20240929T093822Z
UID:105597-1727510400-1727510400@klassikauto.pl
SUMMARY:100 let Brno–Soběšice
DESCRIPTION:
URL:https://klassikauto.pl/impreza/100-let-brno-sobesice/
LOCATION:Brno\, Czechy
CATEGORIES:Zlot
END:VEVENT
BEGIN:VEVENT
DTSTART;TZID=Europe/Helsinki:20240928T080000
DTEND;TZID=Europe/Helsinki:20240928T170000
DTSTAMP:20260423T014150
CREATED:20240129T201439Z
LAST-MODIFIED:20240129T201439Z
UID:98921-1727510400-1727542800@klassikauto.pl
SUMMARY:6 Runda Race Cup 2024
DESCRIPTION:Motark Ułęż
URL:https://klassikauto.pl/impreza/6-runda-race-cup-2024/
LOCATION:Nowodwór
CATEGORIES:Rajd
END:VEVENT
BEGIN:VEVENT
DTSTART;TZID=Europe/Helsinki:20240928T080000
DTEND;TZID=Europe/Helsinki:20240928T170000
DTSTAMP:20260423T014150
CREATED:20240421T203229Z
LAST-MODIFIED:20240421T203229Z
UID:101701-1727510400-1727542800@klassikauto.pl
SUMMARY:Auto moto velo burza v Hobšovicích
DESCRIPTION:
URL:https://klassikauto.pl/impreza/auto-moto-velo-burza-v-hobsovicich-7/
LOCATION:Hobšovice\, Czechy
CATEGORIES:Aukcja
END:VEVENT
BEGIN:VEVENT
DTSTART;TZID=Europe/Helsinki:20240928T080000
DTEND;TZID=Europe/Helsinki:20240928T180000
DTSTAMP:20260423T014150
CREATED:20240929T090140Z
LAST-MODIFIED:20240929T090140Z
UID:105563-1727510400-1727546400@klassikauto.pl
SUMMARY:Track Day z Garage Racing Team
DESCRIPTION:Wydarzenie na Torze Krzywa
URL:https://klassikauto.pl/impreza/track-day-z-garage-racing-team/
LOCATION:Osła
CATEGORIES:Zlot
END:VEVENT
BEGIN:VEVENT
DTSTART;TZID=Europe/Helsinki:20240928T090000
DTEND;TZID=Europe/Helsinki:20240928T220000
DTSTAMP:20260423T014150
CREATED:20240728T112611Z
LAST-MODIFIED:20240728T112611Z
UID:104212-1727514000-1727560800@klassikauto.pl
SUMMARY:6. Oldtimer Treff
DESCRIPTION:
URL:https://klassikauto.pl/impreza/6-oldtimer-treff/
LOCATION:Welver\, Niemcy
CATEGORIES:Zlot
END:VEVENT
BEGIN:VEVENT
DTSTART;TZID=Europe/Helsinki:20240928T093000
DTEND;TZID=Europe/Helsinki:20240928T170000
DTSTAMP:20260423T014150
CREATED:20240929T092101Z
LAST-MODIFIED:20240929T092101Z
UID:105584-1727515800-1727542800@klassikauto.pl
SUMMARY:4. Rajd Gruchota
DESCRIPTION:
URL:https://klassikauto.pl/impreza/4-rajd-gruchota/
LOCATION:Białołęka
CATEGORIES:Rajd
END:VEVENT
BEGIN:VEVENT
DTSTART;TZID=Europe/Helsinki:20240928T120000
DTEND;TZID=Europe/Helsinki:20240929T140000
DTSTAMP:20260423T014150
CREATED:20240812T175404Z
LAST-MODIFIED:20240812T175404Z
UID:104681-1727524800-1727618400@klassikauto.pl
SUMMARY:II Zlot samochodów amerykańskich i zabytkowych oraz motocyklistów. Zakończenie sezonu
DESCRIPTION:
URL:https://klassikauto.pl/impreza/ii-zlot-samochodow-amerykanskich-i-zabytkowych-oraz-motocyklistow-zakonczenie-sezonu/
LOCATION:Ostrów Mazowiecka
CATEGORIES:Zlot
END:VEVENT
BEGIN:VEVENT
DTSTART;TZID=Europe/Helsinki:20240928T130000
DTEND;TZID=Europe/Helsinki:20240928T130000
DTSTAMP:20260423T014150
CREATED:20240929T090441Z
LAST-MODIFIED:20240929T090441Z
UID:105566-1727528400-1727528400@klassikauto.pl
SUMMARY:Svatovaclavska jizda – veterani nejen na Masarykove namesti
DESCRIPTION:
URL:https://klassikauto.pl/impreza/svatovaclavska-jizda-veterani-nejen-na-masarykove-namesti/
LOCATION:Novy Jicin\, Czechy
CATEGORIES:Rajd
END:VEVENT
BEGIN:VEVENT
DTSTART;TZID=Europe/Helsinki:20240928T180000
DTEND;TZID=Europe/Helsinki:20240928T220000
DTSTAMP:20260423T014150
CREATED:20240630T093318Z
LAST-MODIFIED:20240630T093318Z
UID:103622-1727546400-1727560800@klassikauto.pl
SUMMARY:Cykliczne Spotkanie Klasycznej Motoryzacji #8 Fundacji Youngtimer Warsaw @PGE Narodowy\,
DESCRIPTION:
URL:https://klassikauto.pl/impreza/cykliczne-spotkanie-klasycznej-motoryzacji-8-fundacji-youngtimer-warsaw-pge-narodowy/
LOCATION:Warszawa
CATEGORIES:Spot
END:VEVENT
BEGIN:VEVENT
DTSTART;TZID=Europe/Helsinki:20240929T080000
DTEND;TZID=Europe/Helsinki:20240929T170000
DTSTAMP:20260423T014150
CREATED:20240130T161040Z
LAST-MODIFIED:20240130T161040Z
UID:98978-1727596800-1727629200@klassikauto.pl
SUMMARY:Oldtimer Teilemarkt Suhl
DESCRIPTION:
URL:https://klassikauto.pl/impreza/oldtimer-teilemarkt-suhl/
LOCATION:Suhl\, Niemcy
CATEGORIES:Aukcja
END:VEVENT
BEGIN:VEVENT
DTSTART;TZID=Europe/Helsinki:20240929T083000
DTEND;TZID=Europe/Helsinki:20240929T083000
DTSTAMP:20260423T014150
CREATED:20240929T090711Z
LAST-MODIFIED:20240929T090711Z
UID:105569-1727598600-1727598600@klassikauto.pl
SUMMARY:10 Tarnogórski Zlot Pojazdów Zabytkowych
DESCRIPTION:
URL:https://klassikauto.pl/impreza/10-tarnogorski-zlot-pojazdow-zabytkowych/
LOCATION:Tarnowskie Góry
CATEGORIES:Zlot
END:VEVENT
BEGIN:VEVENT
DTSTART;TZID=Europe/Helsinki:20240929T083000
DTEND;TZID=Europe/Helsinki:20240929T173000
DTSTAMP:20260423T014150
CREATED:20240728T165611Z
LAST-MODIFIED:20240728T165611Z
UID:104329-1727598600-1727631000@klassikauto.pl
SUMMARY:VI Rodzinny Rajd Samochodowy Krzemko
DESCRIPTION:
URL:https://klassikauto.pl/impreza/vi-rodzinny-rajd-samochodowy-krzemko/
LOCATION:Krzemieniewo
CATEGORIES:Rajd
END:VEVENT
BEGIN:VEVENT
DTSTART;TZID=Europe/Helsinki:20240929T090000
DTEND;TZID=Europe/Helsinki:20240929T160000
DTSTAMP:20260423T014150
CREATED:20240929T104859Z
LAST-MODIFIED:20240929T104859Z
UID:105654-1727600400-1727625600@klassikauto.pl
SUMMARY:Piaseczyńskie Targi Modeli Samochodowych
DESCRIPTION:
URL:https://klassikauto.pl/impreza/piaseczynskie-targi-modeli-samochodowych/
LOCATION:Piaseczno
CATEGORIES:Targi
END:VEVENT
BEGIN:VEVENT
DTSTART;TZID=Europe/Helsinki:20240929T100000
DTEND;TZID=Europe/Helsinki:20240929T100000
DTSTAMP:20260423T014150
CREATED:20240728T111958Z
LAST-MODIFIED:20240728T111958Z
UID:104205-1727604000-1727604000@klassikauto.pl
SUMMARY:Klassikertreffen auf Rudi´s Wiese – Thema Hot Rod’s\, Custom\, Rat Rod’s
DESCRIPTION:
URL:https://klassikauto.pl/impreza/klassikertreffen-auf-rudis-wiese-thema-hot-rods-custom-rat-rods/
LOCATION:Marl\, Niemcy
CATEGORIES:Zlot
END:VEVENT
BEGIN:VEVENT
DTSTART;TZID=Europe/Helsinki:20240929T100000
DTEND;TZID=Europe/Helsinki:20240929T170000
DTSTAMP:20260423T014150
CREATED:20240427T042615Z
LAST-MODIFIED:20240427T042615Z
UID:101886-1727604000-1727629200@klassikauto.pl
SUMMARY:Zakończenie Sezonu Motoryzacyjnego
DESCRIPTION:
URL:https://klassikauto.pl/impreza/zakonczenie-sezonu-motoryzacyjnego/
LOCATION:Mrągowo
CATEGORIES:Zlot
END:VEVENT
BEGIN:VEVENT
DTSTART;TZID=Europe/Helsinki:20240929T110000
DTEND;TZID=Europe/Helsinki:20240929T163000
DTSTAMP:20260423T014150
CREATED:20240827T163514Z
LAST-MODIFIED:20240827T163514Z
UID:105003-1727607600-1727627400@klassikauto.pl
SUMMARY:III Czechowicki Zlot Pojazdów Zabytkowych
DESCRIPTION:
URL:https://klassikauto.pl/impreza/iii-czechowicki-zlot-pojazdow-zabytkowych/
LOCATION:Czechowice-Dziedzice
CATEGORIES:Zlot
END:VEVENT
BEGIN:VEVENT
DTSTART;TZID=Europe/Helsinki:20240929T120000
DTEND;TZID=Europe/Helsinki:20240929T180000
DTSTAMP:20260423T014150
CREATED:20240929T095523Z
LAST-MODIFIED:20240929T095523Z
UID:105610-1727611200-1727632800@klassikauto.pl
SUMMARY:Klasyki na polu dyniowym
DESCRIPTION:
URL:https://klassikauto.pl/impreza/klasyki-na-polu-dyniowym/
LOCATION:Wawrzenczyce
CATEGORIES:Zlot
END:VEVENT
BEGIN:VEVENT
DTSTART;TZID=Europe/Helsinki:20240929T140000
DTEND;TZID=Europe/Helsinki:20240929T140000
DTSTAMP:20260423T014150
CREATED:20240929T093150Z
LAST-MODIFIED:20240929T102720Z
UID:105593-1727618400-1727618400@klassikauto.pl
SUMMARY:Závěr Sezóny Oltimer Clubu Helfštýn
DESCRIPTION:Wydarzenie na Zamku Helfštýn
URL:https://klassikauto.pl/impreza/zaver-sezony-oltimer-clubu-helfstyn/
LOCATION:Týn nad Bečvou\, Czechy
CATEGORIES:Zlot
END:VEVENT
BEGIN:VEVENT
DTSTART;TZID=Europe/Helsinki:20240929T150000
DTEND;TZID=Europe/Helsinki:20240929T150000
DTSTAMP:20260423T014150
CREATED:20240929T094345Z
LAST-MODIFIED:20240929T094345Z
UID:105603-1727622000-1727622000@klassikauto.pl
SUMMARY:Niedzielne Klasyki – Wrzesień 2024
DESCRIPTION:
URL:https://klassikauto.pl/impreza/niedzielne-klasyki-wrzesien-2024/
LOCATION:Mysłowice
CATEGORIES:Zlot
END:VEVENT
BEGIN:VEVENT
DTSTART;TZID=Europe/Helsinki:20240929T150000
DTEND;TZID=Europe/Helsinki:20240929T150000
DTSTAMP:20260423T014150
CREATED:20240929T095350Z
LAST-MODIFIED:20240929T095350Z
UID:105608-1727622000-1727622000@klassikauto.pl
SUMMARY:SPOTkanie klasyków GRILL u Jarka
DESCRIPTION:
URL:https://klassikauto.pl/impreza/spotkanie-klasykow-grill-u-jarka/
LOCATION:Miechów
CATEGORIES:Spot
END:VEVENT
BEGIN:VEVENT
DTSTART;TZID=Europe/Helsinki:20241002T173000
DTEND;TZID=Europe/Helsinki:20241002T203000
DTSTAMP:20260423T014150
CREATED:20240929T111127Z
LAST-MODIFIED:20240929T111127Z
UID:105670-1727890200-1727901000@klassikauto.pl
SUMMARY:TKP na ostatni spot YW w 2024 r.
DESCRIPTION:
URL:https://klassikauto.pl/impreza/tkp-na-ostatni-spot-yw-w-2024-r/
LOCATION:Warszawa
CATEGORIES:Spot
END:VEVENT
BEGIN:VEVENT
DTSTART;TZID=Europe/Helsinki:20241002T180000
DTEND;TZID=Europe/Helsinki:20241002T220000
DTSTAMP:20260423T014150
CREATED:20240630T093419Z
LAST-MODIFIED:20240630T093419Z
UID:103624-1727892000-1727906400@klassikauto.pl
SUMMARY:Cykliczne Spotkanie Klasycznej Motoryzacji #9 Fundacji Youngtimer Warsaw @PGE Narodowy
DESCRIPTION:
URL:https://klassikauto.pl/impreza/cykliczne-spotkanie-klasycznej-motoryzacji-9-fundacji-youngtimer-warsaw-pge-narodowy/
LOCATION:Warszawa
CATEGORIES:Spot
END:VEVENT
END:VCALENDAR
<!-- RunCloud Hub 2026-04-23 00:41:50 -->