BEGIN:VCALENDAR
VERSION:2.0
PRODID:-//KlassikAuto.pl - ECPv6.7.0//NONSGML v1.0//EN
CALSCALE:GREGORIAN
METHOD:PUBLISH
X-ORIGINAL-URL:https://klassikauto.pl
X-WR-CALDESC:Wydarzenia dla KlassikAuto.pl
REFRESH-INTERVAL;VALUE=DURATION:PT1H
X-Robots-Tag:noindex
X-PUBLISHED-TTL:PT1H
BEGIN:VTIMEZONE
TZID:Europe/Helsinki
BEGIN:DAYLIGHT
TZOFFSETFROM:+0200
TZOFFSETTO:+0300
TZNAME:EEST
DTSTART:20240331T010000
END:DAYLIGHT
BEGIN:STANDARD
TZOFFSETFROM:+0300
TZOFFSETTO:+0200
TZNAME:EET
DTSTART:20241027T010000
END:STANDARD
END:VTIMEZONE
BEGIN:VEVENT
DTSTART;VALUE=DATE:20240904
DTEND;VALUE=DATE:20240909
DTSTAMP:20260423T014113
CREATED:20240326T192834Z
LAST-MODIFIED:20240326T192834Z
UID:100866-1725408000-1725839999@klassikauto.pl
SUMMARY:Rotor Retro Tour FIVA World Rally 2024
DESCRIPTION:zob. FB: https://www.facebook.com/rotor.retro?locale=pl_PL
URL:https://klassikauto.pl/impreza/rotor-retro-tour-fiva-world-rally-2024/
LOCATION:Ryn
CATEGORIES:Rajd
END:VEVENT
BEGIN:VEVENT
DTSTART;VALUE=DATE:20240906
DTEND;VALUE=DATE:20240909
DTSTAMP:20260423T014113
CREATED:20240630T124405Z
LAST-MODIFIED:20240630T124405Z
UID:103730-1725580800-1725839999@klassikauto.pl
SUMMARY:Goodwood Revival
DESCRIPTION:
URL:https://klassikauto.pl/impreza/goodwood-revival-2/
LOCATION:Goodwood
CATEGORIES:Zlot
END:VEVENT
BEGIN:VEVENT
DTSTART;VALUE=DATE:20240906
DTEND;VALUE=DATE:20240910
DTSTAMP:20260423T014113
CREATED:20240526T084252Z
LAST-MODIFIED:20240526T084252Z
UID:102612-1725580800-1725926399@klassikauto.pl
SUMMARY:Goodwood Revival Meeting
DESCRIPTION:
URL:https://klassikauto.pl/impreza/goodwood-revival-meeting-2/
LOCATION:Goodwood
CATEGORIES:Zlot
END:VEVENT
BEGIN:VEVENT
DTSTART;TZID=Europe/Helsinki:20240906T080000
DTEND;TZID=Europe/Helsinki:20241215T170000
DTSTAMP:20260423T014113
CREATED:20240328T181015Z
LAST-MODIFIED:20240328T181015Z
UID:101115-1725609600-1734282000@klassikauto.pl
SUMMARY:When automotive design become art
DESCRIPTION:
URL:https://klassikauto.pl/impreza/when-automotive-design-become-art/
LOCATION:Muzeum Autoworld\, Bruksela\, Belgia
CATEGORIES:Wystawa
END:VEVENT
BEGIN:VEVENT
DTSTART;TZID=Europe/Helsinki:20240906T100000
DTEND;TZID=Europe/Helsinki:20240908T180000
DTSTAMP:20260423T014113
CREATED:20240527T133540Z
LAST-MODIFIED:20240527T133540Z
UID:102775-1725616800-1725818400@klassikauto.pl
SUMMARY:Classic Steam and Vehicle Show
DESCRIPTION:
URL:https://klassikauto.pl/impreza/classic-steam-and-vehicle-show/
LOCATION:Herman’s Cross\, Wielka Brytania
CATEGORIES:Zlot
END:VEVENT
BEGIN:VEVENT
DTSTART;TZID=Europe/Helsinki:20240906T110000
DTEND;TZID=Europe/Helsinki:20240908T140000
DTSTAMP:20260423T014113
CREATED:20240728T162348Z
LAST-MODIFIED:20240728T162348Z
UID:104304-1725620400-1725804000@klassikauto.pl
SUMMARY:9 Międzynarodowy Festival CABRIO POLAND 2024
DESCRIPTION:
URL:https://klassikauto.pl/impreza/9-miedzynarodowy-festival-cabrio-poland-2024/
LOCATION:Sosnówka
CATEGORIES:Zlot
END:VEVENT
BEGIN:VEVENT
DTSTART;TZID=Europe/Helsinki:20240906T120000
DTEND;TZID=Europe/Helsinki:20240908T120000
DTSTAMP:20260423T014113
CREATED:20240326T174213Z
LAST-MODIFIED:20240326T174213Z
UID:100849-1725624000-1725796800@klassikauto.pl
SUMMARY:6. zlot Passat 35i Family
DESCRIPTION:
URL:https://klassikauto.pl/impreza/6-zlot-passat-35i-family/
LOCATION:Jeziorsko
CATEGORIES:Zlot
END:VEVENT
BEGIN:VEVENT
DTSTART;TZID=Europe/Helsinki:20240906T120000
DTEND;TZID=Europe/Helsinki:20240908T130000
DTSTAMP:20260423T014113
CREATED:20240630T073535Z
LAST-MODIFIED:20240630T073535Z
UID:103561-1725624000-1725800400@klassikauto.pl
SUMMARY:XXII TrabiEXPO
DESCRIPTION:
URL:https://klassikauto.pl/impreza/xxii-trabiexpo/
LOCATION:Pińczów
CATEGORIES:Zlot
END:VEVENT
BEGIN:VEVENT
DTSTART;TZID=Europe/Helsinki:20240906T120000
DTEND;TZID=Europe/Helsinki:20240908T170000
DTSTAMP:20260423T014113
CREATED:20240929T073306Z
LAST-MODIFIED:20240929T073306Z
UID:105501-1725624000-1725814800@klassikauto.pl
SUMMARY:United Crew Event #5
DESCRIPTION:
URL:https://klassikauto.pl/impreza/united-crew-event-5/
LOCATION:Rzezawa
CATEGORIES:Zlot
END:VEVENT
BEGIN:VEVENT
DTSTART;TZID=Europe/Helsinki:20240906T160000
DTEND;TZID=Europe/Helsinki:20240908T140000
DTSTAMP:20260423T014113
CREATED:20240129T183705Z
LAST-MODIFIED:20240129T183705Z
UID:98840-1725638400-1725804000@klassikauto.pl
SUMMARY:Kaszëbë Low 2024 – Kaszubska Integracja vol. 4
DESCRIPTION:
URL:https://klassikauto.pl/impreza/kaszebe-low-2024-kaszubska-integracja-vol-4/
LOCATION:Tuchom
CATEGORIES:Zlot
END:VEVENT
BEGIN:VEVENT
DTSTART;TZID=Europe/Helsinki:20240906T170000
DTEND;TZID=Europe/Helsinki:20240908T180000
DTSTAMP:20260423T014113
CREATED:20240728T164513Z
LAST-MODIFIED:20240728T164513Z
UID:104319-1725642000-1725818400@klassikauto.pl
SUMMARY:VIII Rajd 94 Oktany
DESCRIPTION:
URL:https://klassikauto.pl/impreza/viii-rajd-94-oktany/
LOCATION:Pieszyce
CATEGORIES:Rajd
END:VEVENT
BEGIN:VEVENT
DTSTART;TZID=Europe/Helsinki:20240906T180000
DTEND;TZID=Europe/Helsinki:20240908T110000
DTSTAMP:20260423T014113
CREATED:20240728T163756Z
LAST-MODIFIED:20240728T163756Z
UID:104311-1725645600-1725793200@klassikauto.pl
SUMMARY:5 Łemkowski Charytatywny Rajd Malucha
DESCRIPTION:
URL:https://klassikauto.pl/impreza/5-lemkowski-charytatywny-rajd-malucha/
LOCATION:Zdynia
CATEGORIES:Rajd
END:VEVENT
BEGIN:VEVENT
DTSTART;VALUE=DATE:20240907
DTEND;VALUE=DATE:20240909
DTSTAMP:20260423T014113
CREATED:20240423T162808Z
LAST-MODIFIED:20240423T162808Z
UID:101829-1725667200-1725839999@klassikauto.pl
SUMMARY:Tuning Show EXPO
DESCRIPTION:
URL:https://klassikauto.pl/impreza/tuning-show-expo/
LOCATION:Kraków
CATEGORIES:Targi
END:VEVENT
BEGIN:VEVENT
DTSTART;TZID=Europe/Helsinki:20240907T100000
DTEND;TZID=Europe/Helsinki:20240907T100000
DTSTAMP:20260423T014113
CREATED:20240728T130520Z
LAST-MODIFIED:20240728T130520Z
UID:104271-1725703200-1725703200@klassikauto.pl
SUMMARY:Zlot Pojazdów Minionej Epoki
DESCRIPTION:
URL:https://klassikauto.pl/impreza/zlot-pojazdow-minionej-epoki-3/
LOCATION:Czeladź
CATEGORIES:Zlot
END:VEVENT
BEGIN:VEVENT
DTSTART;TZID=Europe/Helsinki:20240907T100000
DTEND;TZID=Europe/Helsinki:20240907T140000
DTSTAMP:20260423T014113
CREATED:20231224T100417Z
LAST-MODIFIED:20231224T100417Z
UID:97732-1725703200-1725717600@klassikauto.pl
SUMMARY:Die Toyota Collection – Corolla & Kleinwagen
DESCRIPTION:
URL:https://klassikauto.pl/impreza/die-toyota-collection-corolla-kleinwagen/
LOCATION:Kolonia\, Niemcy
CATEGORIES:Wystawa
END:VEVENT
BEGIN:VEVENT
DTSTART;TZID=Europe/Helsinki:20240907T100000
DTEND;TZID=Europe/Helsinki:20240908T120000
DTSTAMP:20260423T014113
CREATED:20240129T184451Z
LAST-MODIFIED:20240129T184451Z
UID:98846-1725703200-1725796800@klassikauto.pl
SUMMARY:Royal Stance 2024
DESCRIPTION:
URL:https://klassikauto.pl/impreza/royal-stance-2024/
LOCATION:Golub-Dobrzyń
CATEGORIES:Zlot
END:VEVENT
BEGIN:VEVENT
DTSTART;TZID=Europe/Helsinki:20240907T120000
DTEND;TZID=Europe/Helsinki:20240907T120000
DTSTAMP:20260423T014113
CREATED:20240929T074333Z
LAST-MODIFIED:20240929T074333Z
UID:105512-1725710400-1725710400@klassikauto.pl
SUMMARY:7 Klasyczny Rajd Turystyczny
DESCRIPTION:
URL:https://klassikauto.pl/impreza/7-klasyczny-rajd-turystyczny/
LOCATION:Bielsko-Biała
CATEGORIES:Rajd
END:VEVENT
BEGIN:VEVENT
DTSTART;TZID=Europe/Helsinki:20240907T150000
DTEND;TZID=Europe/Helsinki:20240907T200000
DTSTAMP:20260423T014113
CREATED:20231228T121628Z
LAST-MODIFIED:20231228T121628Z
UID:98073-1725721200-1725739200@klassikauto.pl
SUMMARY:IV Zlot Pojazdów Zabytkowych Rybienko Leśne 2024
DESCRIPTION:
URL:https://klassikauto.pl/impreza/iv-zlot-pojazdow-zabytkowych-rybienko-lesne-2024/
LOCATION:Rybienko Leśne
CATEGORIES:Zlot
END:VEVENT
BEGIN:VEVENT
DTSTART;TZID=Europe/Helsinki:20240907T190000
DTEND;TZID=Europe/Helsinki:20240907T190000
DTSTAMP:20260423T014113
CREATED:20240929T085518Z
LAST-MODIFIED:20240929T085518Z
UID:105555-1725735600-1725735600@klassikauto.pl
SUMMARY:Open Day ClubHouse WRM MC Poland Oława
DESCRIPTION:
URL:https://klassikauto.pl/impreza/open-day-clubhouse-wrm-mc-poland-olawa/
LOCATION:Oława
CATEGORIES:Zlot
END:VEVENT
BEGIN:VEVENT
DTSTART;VALUE=DATE:20240908
DTEND;VALUE=DATE:20240909
DTSTAMP:20260423T014113
CREATED:20240327T184854Z
LAST-MODIFIED:20240327T184854Z
UID:100974-1725753600-1725839999@klassikauto.pl
SUMMARY:7. Lubiński zlot pojazdów zabytkowych
DESCRIPTION:
URL:https://klassikauto.pl/impreza/7-lubinski-zlot-pojazdow-zabytkowych/
LOCATION:Lubin
CATEGORIES:Zlot
END:VEVENT
BEGIN:VEVENT
DTSTART;TZID=Europe/Helsinki:20240908T080000
DTEND;TZID=Europe/Helsinki:20240908T170000
DTSTAMP:20260423T014113
CREATED:20240129T201257Z
LAST-MODIFIED:20240129T201257Z
UID:98919-1725782400-1725814800@klassikauto.pl
SUMMARY:VI Runda Classicauto Cup 2024
DESCRIPTION:Tor Jastrząb
URL:https://klassikauto.pl/impreza/vi-runda-classicauto-cup-2024/
LOCATION:Radom
CATEGORIES:Rajd
END:VEVENT
BEGIN:VEVENT
DTSTART;TZID=Europe/Helsinki:20240908T083000
DTEND;TZID=Europe/Helsinki:20240908T170000
DTSTAMP:20260423T014113
CREATED:20240812T174657Z
LAST-MODIFIED:20240812T174657Z
UID:104677-1725784200-1725814800@klassikauto.pl
SUMMARY:12. Miński Zlot Pojazdów Zabytkowych WARKOT
DESCRIPTION:
URL:https://klassikauto.pl/impreza/12-minski-zlot-pojazdow-zabytkowych-warkot/
LOCATION:Mińsk Mazowiecki
CATEGORIES:Zlot
END:VEVENT
BEGIN:VEVENT
DTSTART;TZID=Europe/Helsinki:20240908T090000
DTEND;TZID=Europe/Helsinki:20240908T090000
DTSTAMP:20260423T014113
CREATED:20240527T165944Z
LAST-MODIFIED:20240527T165944Z
UID:102796-1725786000-1725786000@klassikauto.pl
SUMMARY:20. Klassikertreffen in Rüsselsheim am Main
DESCRIPTION:
URL:https://klassikauto.pl/impreza/20-klassikertreffen-in-russelsheim-am-main/
LOCATION:Rüsselsheim am Main\, Niemcy
CATEGORIES:Zlot
END:VEVENT
BEGIN:VEVENT
DTSTART;TZID=Europe/Helsinki:20240908T090000
DTEND;TZID=Europe/Helsinki:20240908T190000
DTSTAMP:20260423T014113
CREATED:20240812T181133Z
LAST-MODIFIED:20240812T181133Z
UID:104694-1725786000-1725822000@klassikauto.pl
SUMMARY:Classic Spot 2024
DESCRIPTION:
URL:https://klassikauto.pl/impreza/classic-spot-2024/
LOCATION:Wieruszów
CATEGORIES:Zlot
END:VEVENT
BEGIN:VEVENT
DTSTART;TZID=Europe/Helsinki:20240908T100000
DTEND;TZID=Europe/Helsinki:20240908T100000
DTSTAMP:20260423T014113
CREATED:20240929T072647Z
LAST-MODIFIED:20240929T072647Z
UID:105499-1725789600-1725789600@klassikauto.pl
SUMMARY:XII Chojnicki Zlot Pojazdów Zabytkowych
DESCRIPTION:
URL:https://klassikauto.pl/impreza/xii-chojnicki-zlot-pojazdow-zabytkowych/
LOCATION:Chojnice
CATEGORIES:Zlot
END:VEVENT
BEGIN:VEVENT
DTSTART;TZID=Europe/Helsinki:20240908T100000
DTEND;TZID=Europe/Helsinki:20240908T170000
DTSTAMP:20260423T014113
CREATED:20240728T105909Z
LAST-MODIFIED:20240728T105909Z
UID:104187-1725789600-1725814800@klassikauto.pl
SUMMARY:2. NOSW Oldtimertreffen auf’m Hof
DESCRIPTION:
URL:https://klassikauto.pl/impreza/2-nosw-oldtimertreffen-aufm-hof/
LOCATION:Hünxe\, Niemcy
CATEGORIES:Zlot
END:VEVENT
BEGIN:VEVENT
DTSTART;TZID=Europe/Helsinki:20240908T100000
DTEND;TZID=Europe/Helsinki:20240908T180000
DTSTAMP:20260423T014113
CREATED:20240423T163544Z
LAST-MODIFIED:20240423T163544Z
UID:101834-1725789600-1725818400@klassikauto.pl
SUMMARY:Retro Giełda
DESCRIPTION:
URL:https://klassikauto.pl/impreza/retro-gielda/
CATEGORIES:Giełda
END:VEVENT
BEGIN:VEVENT
DTSTART;TZID=Europe/Helsinki:20240908T100000
DTEND;TZID=Europe/Helsinki:20240908T180000
DTSTAMP:20260423T014113
CREATED:20240728T105357Z
LAST-MODIFIED:20240728T105357Z
UID:104181-1725789600-1725818400@klassikauto.pl
SUMMARY:Youngtimer Show - Saisonabschluss
DESCRIPTION:
URL:https://klassikauto.pl/impreza/youngtimer-show-saisonabschluss/
LOCATION:Herten\, Niemcy
CATEGORIES:Zlot
END:VEVENT
BEGIN:VEVENT
DTSTART;TZID=Europe/Helsinki:20240908T100000
DTEND;TZID=Europe/Helsinki:20240908T180000
DTSTAMP:20260423T014113
CREATED:20240728T122156Z
LAST-MODIFIED:20240728T122156Z
UID:104253-1725789600-1725818400@klassikauto.pl
SUMMARY:6. American Horsepower Show
DESCRIPTION:
URL:https://klassikauto.pl/impreza/6-american-horsepower-show/
LOCATION:Dinslaken\, Niemcy
CATEGORIES:Zlot
END:VEVENT
BEGIN:VEVENT
DTSTART;TZID=Europe/Helsinki:20240908T100000
DTEND;TZID=Europe/Helsinki:20240908T180000
DTSTAMP:20260423T014113
CREATED:20240728T123111Z
LAST-MODIFIED:20240728T123111Z
UID:104259-1725789600-1725818400@klassikauto.pl
SUMMARY:Legends – Exclusive Car Event
DESCRIPTION:
URL:https://klassikauto.pl/impreza/legends-exclusive-car-event-2/
LOCATION:Möckmühl\, Niemcy
CATEGORIES:Zlot
END:VEVENT
END:VCALENDAR
<!-- RunCloud Hub 2026-04-23 00:41:13 -->