BEGIN:VCALENDAR
VERSION:2.0
PRODID:-//KlassikAuto.pl - ECPv6.7.0//NONSGML v1.0//EN
CALSCALE:GREGORIAN
METHOD:PUBLISH
X-ORIGINAL-URL:https://klassikauto.pl
X-WR-CALDESC:Wydarzenia dla KlassikAuto.pl
REFRESH-INTERVAL;VALUE=DURATION:PT1H
X-Robots-Tag:noindex
X-PUBLISHED-TTL:PT1H
BEGIN:VTIMEZONE
TZID:Europe/Helsinki
BEGIN:DAYLIGHT
TZOFFSETFROM:+0200
TZOFFSETTO:+0300
TZNAME:EEST
DTSTART:20230326T010000
END:DAYLIGHT
BEGIN:STANDARD
TZOFFSETFROM:+0300
TZOFFSETTO:+0200
TZNAME:EET
DTSTART:20231029T010000
END:STANDARD
BEGIN:DAYLIGHT
TZOFFSETFROM:+0200
TZOFFSETTO:+0300
TZNAME:EEST
DTSTART:20240331T010000
END:DAYLIGHT
BEGIN:STANDARD
TZOFFSETFROM:+0300
TZOFFSETTO:+0200
TZNAME:EET
DTSTART:20241027T010000
END:STANDARD
END:VTIMEZONE
BEGIN:VEVENT
DTSTART;TZID=Europe/Helsinki:20231208T080000
DTEND;TZID=Europe/Helsinki:20240225T170000
DTSTAMP:20260421T172001
CREATED:20230413T150248Z
LAST-MODIFIED:20230413T150248Z
UID:89858-1702022400-1708880400@klassikauto.pl
SUMMARY:Porsche 75 years\, driven by dreams
DESCRIPTION:
URL:https://klassikauto.pl/impreza/porsche-75-years-driven-by-dreams/
LOCATION:Muzeum Autoworld\, Bruksela\, Belgia
CATEGORIES:Wystawa
END:VEVENT
BEGIN:VEVENT
DTSTART;TZID=Europe/Helsinki:20231215T080000
DTEND;TZID=Europe/Helsinki:20240225T170000
DTSTAMP:20260421T172001
CREATED:20231224T094237Z
LAST-MODIFIED:20231224T094237Z
UID:97711-1702627200-1708880400@klassikauto.pl
SUMMARY:Wystawa Ikony Motoryzacji - 3. edycja
DESCRIPTION:
URL:https://klassikauto.pl/impreza/wystawa-ikony-motoryzacji-3-edycja/
LOCATION:Warszawa
CATEGORIES:Wystawa
END:VEVENT
BEGIN:VEVENT
DTSTART;TZID=Europe/Helsinki:20240222T080000
DTEND;TZID=Europe/Helsinki:20240225T170000
DTSTAMP:20260421T172001
CREATED:20231227T071449Z
LAST-MODIFIED:20231227T071449Z
UID:97850-1708588800-1708880400@klassikauto.pl
SUMMARY:MOTORbeurs Utrecht 2024
DESCRIPTION:
URL:https://klassikauto.pl/impreza/motorbeurs-utrecht-2024/
LOCATION:Utrecht\, Holandia
CATEGORIES:Targi
END:VEVENT
BEGIN:VEVENT
DTSTART;VALUE=DATE:20240223
DTEND;VALUE=DATE:20240225
DTSTAMP:20260421T172001
CREATED:20231228T085258Z
LAST-MODIFIED:20231228T085258Z
UID:97935-1708646400-1708819199@klassikauto.pl
SUMMARY:V Bieszczadzki Zimowy Zlot Motocyklowy
DESCRIPTION:
URL:https://klassikauto.pl/impreza/v-bieszczadzki-zimowy-zlot-motocyklowy/
LOCATION:Cisna
CATEGORIES:Zlot
END:VEVENT
BEGIN:VEVENT
DTSTART;TZID=Europe/Helsinki:20240223T080000
DTEND;TZID=Europe/Helsinki:20240225T170000
DTSTAMP:20260421T172001
CREATED:20240130T161507Z
LAST-MODIFIED:20240130T161507Z
UID:98984-1708675200-1708880400@klassikauto.pl
SUMMARY:ClassicAuto Madrid
DESCRIPTION:
URL:https://klassikauto.pl/impreza/classicauto-madrid/
LOCATION:Madryd\, Hiszpania
CATEGORIES:Targi
END:VEVENT
BEGIN:VEVENT
DTSTART;TZID=Europe/Helsinki:20240223T080000
DTEND;TZID=Europe/Helsinki:20240225T170000
DTSTAMP:20260421T172001
CREATED:20240130T161644Z
LAST-MODIFIED:20240130T161644Z
UID:98987-1708675200-1708880400@klassikauto.pl
SUMMARY:Motorclassico
DESCRIPTION:
URL:https://klassikauto.pl/impreza/motorclassico/
LOCATION:Lizbona\, Portugalia
CATEGORIES:Targi
END:VEVENT
BEGIN:VEVENT
DTSTART;TZID=Europe/Helsinki:20240223T080000
DTEND;TZID=Europe/Helsinki:20240225T170000
DTSTAMP:20260421T172001
CREATED:20240130T162507Z
LAST-MODIFIED:20240130T162507Z
UID:98990-1708675200-1708880400@klassikauto.pl
SUMMARY:Race Retro 2024
DESCRIPTION:historic motorsport show \nzob. https://www.raceretro.com/
URL:https://klassikauto.pl/impreza/race-retro-2024/
LOCATION:Stoneleigh Park Kenilworth
CATEGORIES:Targi
END:VEVENT
BEGIN:VEVENT
DTSTART;TZID=Europe/Helsinki:20240223T183000
DTEND;TZID=Europe/Helsinki:20240225T170000
DTSTAMP:20260421T172001
CREATED:20231228T084721Z
LAST-MODIFIED:20231228T084721Z
UID:97931-1708713000-1708880400@klassikauto.pl
SUMMARY:XIII Nasze Wyprawy Motocyklowe
DESCRIPTION:
URL:https://klassikauto.pl/impreza/xiii-nasze-wyprawy-motocyklowe/
LOCATION:Lubaczów
CATEGORIES:Zlot
END:VEVENT
BEGIN:VEVENT
DTSTART;TZID=Europe/Helsinki:20240224T080000
DTEND;TZID=Europe/Helsinki:20240225T170000
DTSTAMP:20260421T172001
CREATED:20231227T071838Z
LAST-MODIFIED:20231227T071838Z
UID:97852-1708761600-1708880400@klassikauto.pl
SUMMARY:Oldtimer Meeting Toruń
DESCRIPTION:
URL:https://klassikauto.pl/impreza/oldtimer-meeting-torun-2/
LOCATION:Toruń
CATEGORIES:Wystawa
END:VEVENT
BEGIN:VEVENT
DTSTART;TZID=Europe/Helsinki:20240224T080000
DTEND;TZID=Europe/Helsinki:20240310T170000
DTSTAMP:20260421T172001
CREATED:20231227T084951Z
LAST-MODIFIED:20231227T084951Z
UID:97882-1708761600-1710090000@klassikauto.pl
SUMMARY:Baltic Sea Circle Winter Edition 2024
DESCRIPTION:
URL:https://klassikauto.pl/impreza/baltic-sea-circle-winter-edition-2024/
LOCATION:Hamburg\, Niemcy
CATEGORIES:Rajd
END:VEVENT
BEGIN:VEVENT
DTSTART;TZID=Europe/Helsinki:20240225T080000
DTEND;TZID=Europe/Helsinki:20240225T170000
DTSTAMP:20260421T172001
CREATED:20240129T195245Z
LAST-MODIFIED:20240129T195245Z
UID:98895-1708848000-1708880400@klassikauto.pl
SUMMARY:2  Królewska Śnieżynka 2024
DESCRIPTION:
URL:https://klassikauto.pl/impreza/2-krolewska-sniezynka-2024/
LOCATION:Józefów
CATEGORIES:Rajd
END:VEVENT
BEGIN:VEVENT
DTSTART;TZID=Europe/Helsinki:20240225T113000
DTEND;TZID=Europe/Helsinki:20240225T183000
DTSTAMP:20260421T172001
CREATED:20240129T174652Z
LAST-MODIFIED:20240129T174652Z
UID:98801-1708860600-1708885800@klassikauto.pl
SUMMARY:Zimowy spot charytatywny dla Dawida i Igora
DESCRIPTION:
URL:https://klassikauto.pl/impreza/zimowy-spot-charytatywny-dla-dawida-i-igora/
LOCATION:Marklowice
CATEGORIES:Spot
END:VEVENT
BEGIN:VEVENT
DTSTART;TZID=Europe/Helsinki:20240301T080000
DTEND;TZID=Europe/Helsinki:20240428T170000
DTSTAMP:20260421T172001
CREATED:20240129T202019Z
LAST-MODIFIED:20240302T102516Z
UID:98925-1709280000-1714323600@klassikauto.pl
SUMMARY:VW Golf 50th Anniversary
DESCRIPTION:
URL:https://klassikauto.pl/impreza/vw-golf-50th-anniversary/
LOCATION:Bruksela\, Belgia
CATEGORIES:Wystawa
END:VEVENT
BEGIN:VEVENT
DTSTART;TZID=Europe/Helsinki:20240301T150000
DTEND;TZID=Europe/Helsinki:20240303T110000
DTSTAMP:20260421T172001
CREATED:20231228T143938Z
LAST-MODIFIED:20231228T143938Z
UID:98125-1709305200-1709463600@klassikauto.pl
SUMMARY:III Zimowy Zlot MINI
DESCRIPTION:
URL:https://klassikauto.pl/impreza/iii-zimowy-zlot-mini/
LOCATION:Karpacz
CATEGORIES:Zlot
END:VEVENT
BEGIN:VEVENT
DTSTART;TZID=Europe/Helsinki:20240302T090000
DTEND;TZID=Europe/Helsinki:20240302T143000
DTSTAMP:20260421T172001
CREATED:20240302T171657Z
LAST-MODIFIED:20240302T171657Z
UID:99964-1709370000-1709389800@klassikauto.pl
SUMMARY:2 runda - EXIDE Szutrowy Puchar Toru Słomczyn 2024
DESCRIPTION:
URL:https://klassikauto.pl/impreza/2-runda-exide-szutrowy-puchar-toru-slomczyn-2024/
LOCATION:Słomczyn
CATEGORIES:Rajd
END:VEVENT
BEGIN:VEVENT
DTSTART;TZID=Europe/Helsinki:20240302T100000
DTEND;TZID=Europe/Helsinki:20240302T140000
DTSTAMP:20260421T172001
CREATED:20231224T095309Z
LAST-MODIFIED:20231224T095309Z
UID:97717-1709373600-1709388000@klassikauto.pl
SUMMARY:Die Toyota Collection - Motorsport
DESCRIPTION:
URL:https://klassikauto.pl/impreza/die-toyota-collection-motorsport/
LOCATION:Kolonia\, Niemcy
CATEGORIES:Wystawa
END:VEVENT
BEGIN:VEVENT
DTSTART;TZID=Europe/Helsinki:20240302T100000
DTEND;TZID=Europe/Helsinki:20240303T180000
DTSTAMP:20260421T172001
CREATED:20231227T073541Z
LAST-MODIFIED:20231227T073541Z
UID:97859-1709373600-1709488800@klassikauto.pl
SUMMARY:10. OSNA-Oldies
DESCRIPTION:Oldtimer-Messe & Teilemarkt
URL:https://klassikauto.pl/impreza/10-osna-oldies/
LOCATION:Osnabruck\, Niemcy
CATEGORIES:Aukcja
END:VEVENT
BEGIN:VEVENT
DTSTART;VALUE=DATE:20240303
DTEND;VALUE=DATE:20240304
DTSTAMP:20260421T172001
CREATED:20240302T185654Z
LAST-MODIFIED:20240302T185654Z
UID:100032-1709424000-1709510399@klassikauto.pl
SUMMARY:Swiss Volvo Classics
DESCRIPTION:
URL:https://klassikauto.pl/impreza/swiss-volvo-classics-2/
LOCATION:Schongau\, Szwajcaria
CATEGORIES:Zlot
END:VEVENT
BEGIN:VEVENT
DTSTART;TZID=Europe/Helsinki:20240303T120000
DTEND;TZID=Europe/Helsinki:20240303T140000
DTSTAMP:20260421T172001
CREATED:20240302T115011Z
LAST-MODIFIED:20240302T115011Z
UID:99860-1709467200-1709474400@klassikauto.pl
SUMMARY:PrzedSezonowy Spot RK 2024
DESCRIPTION:
URL:https://klassikauto.pl/impreza/przedsezonowy-spot-rk-2024/
LOCATION:Radom
CATEGORIES:Spot
END:VEVENT
BEGIN:VEVENT
DTSTART;TZID=Europe/Helsinki:20240303T120000
DTEND;TZID=Europe/Helsinki:20240303T160000
DTSTAMP:20260421T172001
CREATED:20240302T184309Z
LAST-MODIFIED:20240302T184309Z
UID:100015-1709467200-1709481600@klassikauto.pl
SUMMARY:Muzeum Polskiej Motoryzacji w Puszczykowie\, wystawa polskich motocykli sportowych
DESCRIPTION:
URL:https://klassikauto.pl/impreza/muzeum-polskiej-motoryzacji-w-puszczykowie-wystawa-polskich-motocykli-sportowych/
LOCATION:Puszczykowo
CATEGORIES:Wystawa
END:VEVENT
BEGIN:VEVENT
DTSTART;TZID=Europe/Helsinki:20240308T090000
DTEND;TZID=Europe/Helsinki:20240308T090000
DTSTAMP:20260421T172001
CREATED:20240302T173517Z
LAST-MODIFIED:20240302T173517Z
UID:99979-1709888400-1709888400@klassikauto.pl
SUMMARY:100  lat Żużla – wielka wystawa w Świętochłowicach
DESCRIPTION:
URL:https://klassikauto.pl/impreza/100-lat-zuzla-wielka-wystawa-w-swietochlowicach/
LOCATION:Świętochłowice
CATEGORIES:Wystawa
END:VEVENT
BEGIN:VEVENT
DTSTART;VALUE=DATE:20240309
DTEND;VALUE=DATE:20240310
DTSTAMP:20260421T172001
CREATED:20231228T133950Z
LAST-MODIFIED:20231228T133950Z
UID:98097-1709942400-1710028799@klassikauto.pl
SUMMARY:SUPEROES 2024\, III Runda
DESCRIPTION:
URL:https://klassikauto.pl/impreza/superoes-2024-iii-runda/
LOCATION:Miedziana Góra
CATEGORIES:Rajd
END:VEVENT
BEGIN:VEVENT
DTSTART;TZID=Europe/Helsinki:20240309T080000
DTEND;TZID=Europe/Helsinki:20240309T170000
DTSTAMP:20260421T172001
CREATED:20240129T195359Z
LAST-MODIFIED:20240129T195359Z
UID:98897-1709971200-1710003600@klassikauto.pl
SUMMARY:3 Królewska Śnieżynka 2024\, Józefów
DESCRIPTION:
URL:https://klassikauto.pl/impreza/3-krolewska-sniezynka-2024-jozefow/
LOCATION:Józefów
CATEGORIES:Rajd
END:VEVENT
BEGIN:VEVENT
DTSTART;TZID=Europe/Helsinki:20240309T090000
DTEND;TZID=Europe/Helsinki:20240309T183000
DTSTAMP:20260421T172001
CREATED:20240302T104759Z
LAST-MODIFIED:20240302T104759Z
UID:99809-1709974800-1710009000@klassikauto.pl
SUMMARY:Track Day Zachodniopomorskie
DESCRIPTION:
URL:https://klassikauto.pl/impreza/track-day-zachodniopomorskie/
LOCATION:Czaplinek
CATEGORIES:Zlot
END:VEVENT
BEGIN:VEVENT
DTSTART;TZID=Europe/Helsinki:20240309T100000
DTEND;TZID=Europe/Helsinki:20240309T100000
DTSTAMP:20260421T172001
CREATED:20240302T115401Z
LAST-MODIFIED:20240302T115401Z
UID:99862-1709978400-1709978400@klassikauto.pl
SUMMARY:Turystyczny Rajd Z Okazji Dnia Kobiet
DESCRIPTION:
URL:https://klassikauto.pl/impreza/turystyczny-rajd-z-okazji-dnia-kobiet/
LOCATION:Grudziądz
CATEGORIES:Rajd
END:VEVENT
BEGIN:VEVENT
DTSTART;VALUE=DATE:20240310
DTEND;VALUE=DATE:20240311
DTSTAMP:20260421T172001
CREATED:20240302T184926Z
LAST-MODIFIED:20240302T184926Z
UID:100024-1710028800-1710115199@klassikauto.pl
SUMMARY:Auto moto burza Valy u Přelouče
DESCRIPTION:
URL:https://klassikauto.pl/impreza/auto-moto-burza-valy-u-prelouce-3/
LOCATION:Valy u Přelouče\, Czechy
CATEGORIES:Aukcja
END:VEVENT
BEGIN:VEVENT
DTSTART;TZID=Europe/Helsinki:20240310T080000
DTEND;TZID=Europe/Helsinki:20240310T180000
DTSTAMP:20260421T172001
CREATED:20240302T115537Z
LAST-MODIFIED:20240302T115550Z
UID:99864-1710057600-1710093600@klassikauto.pl
SUMMARY:Wielkopolanki za kółkiem 2024
DESCRIPTION:
URL:https://klassikauto.pl/impreza/wielkopolanki-za-kolkiem-2024/
LOCATION:Poznań
CATEGORIES:Rajd
END:VEVENT
BEGIN:VEVENT
DTSTART;TZID=Europe/Helsinki:20240310T090000
DTEND;TZID=Europe/Helsinki:20240310T140000
DTSTAMP:20260421T172001
CREATED:20240302T184634Z
LAST-MODIFIED:20240302T184634Z
UID:100022-1710061200-1710079200@klassikauto.pl
SUMMARY:Wystawa / giełda modeli samochodowych
DESCRIPTION:
URL:https://klassikauto.pl/impreza/wystawa-gielda-modeli-samochodowych/
LOCATION:Łódź
CATEGORIES:Wystawa
END:VEVENT
BEGIN:VEVENT
DTSTART;TZID=Europe/Helsinki:20240310T090000
DTEND;TZID=Europe/Helsinki:20240310T173000
DTSTAMP:20260421T172001
CREATED:20240302T171510Z
LAST-MODIFIED:20240302T171510Z
UID:99961-1710061200-1710091800@klassikauto.pl
SUMMARY:Rajd Pań 2024
DESCRIPTION:
URL:https://klassikauto.pl/impreza/rajd-pan-2024/
LOCATION:Bemowo
CATEGORIES:Rajd
END:VEVENT
BEGIN:VEVENT
DTSTART;TZID=Europe/Helsinki:20240310T090000
DTEND;TZID=Europe/Helsinki:20240310T180000
DTSTAMP:20260421T172001
CREATED:20231227T062630Z
LAST-MODIFIED:20231227T062630Z
UID:97831-1710061200-1710093600@klassikauto.pl
SUMMARY:Kobieta za kółkiem – V edycja
DESCRIPTION:
URL:https://klassikauto.pl/impreza/kobieta-za-kolkiem-v-edycja/
LOCATION:Jawor
CATEGORIES:Zlot
END:VEVENT
END:VCALENDAR
<!-- RunCloud Hub 2026-04-21 16:20:01 -->