BEGIN:VCALENDAR
VERSION:2.0
PRODID:-//KlassikAuto.pl - ECPv6.7.0//NONSGML v1.0//EN
CALSCALE:GREGORIAN
METHOD:PUBLISH
X-ORIGINAL-URL:https://klassikauto.pl
X-WR-CALDESC:Wydarzenia dla KlassikAuto.pl
REFRESH-INTERVAL;VALUE=DURATION:PT1H
X-Robots-Tag:noindex
X-PUBLISHED-TTL:PT1H
BEGIN:VTIMEZONE
TZID:Europe/Helsinki
BEGIN:DAYLIGHT
TZOFFSETFROM:+0200
TZOFFSETTO:+0300
TZNAME:EEST
DTSTART:20230326T010000
END:DAYLIGHT
BEGIN:STANDARD
TZOFFSETFROM:+0300
TZOFFSETTO:+0200
TZNAME:EET
DTSTART:20231029T010000
END:STANDARD
END:VTIMEZONE
BEGIN:VEVENT
DTSTART;TZID=Europe/Helsinki:20230908T080000
DTEND;TZID=Europe/Helsinki:20231203T170000
DTSTAMP:20260423T024943
CREATED:20230413T150057Z
LAST-MODIFIED:20230413T150057Z
UID:89856-1694160000-1701622800@klassikauto.pl
SUMMARY:Bugatti unseen
DESCRIPTION:
URL:https://klassikauto.pl/impreza/bugatti-unseen/
LOCATION:Muzeum Autoworld\, Bruksela\, Belgia
CATEGORIES:Wystawa
END:VEVENT
BEGIN:VEVENT
DTSTART;TZID=Europe/Helsinki:20230914T160000
DTEND;TZID=Europe/Helsinki:20230914T190000
DTSTAMP:20260423T024943
CREATED:20230828T165718Z
LAST-MODIFIED:20230828T165718Z
UID:94648-1694707200-1694718000@klassikauto.pl
SUMMARY:33 Zlot MB/8 Club Poland "Ziemia Łowicka 2023"
DESCRIPTION:
URL:https://klassikauto.pl/impreza/33-zlot-mb-8-club-poland-ziemia-lowicka-2023/
LOCATION:Nieborów
CATEGORIES:Zlot
END:VEVENT
BEGIN:VEVENT
DTSTART;TZID=Europe/Helsinki:20230915T080000
DTEND;TZID=Europe/Helsinki:20230917T170000
DTSTAMP:20260423T024943
CREATED:20230212T133336Z
LAST-MODIFIED:20230212T133336Z
UID:87897-1694764800-1694970000@klassikauto.pl
SUMMARY:ADAC 1000 Kilometer Race
DESCRIPTION:
URL:https://klassikauto.pl/impreza/adac-1000-kilometer-race-2/
LOCATION:Nuerburgring\, Niemcy
CATEGORIES:Rajd
END:VEVENT
BEGIN:VEVENT
DTSTART;TZID=Europe/Helsinki:20230915T120000
DTEND;TZID=Europe/Helsinki:20230917T170000
DTSTAMP:20260423T024943
CREATED:20230831T160024Z
LAST-MODIFIED:20230831T160024Z
UID:94810-1694779200-1694970000@klassikauto.pl
SUMMARY:Dni Tarpana
DESCRIPTION:
URL:https://klassikauto.pl/impreza/dni-tarpana/
LOCATION:Szreniawa
CATEGORIES:Wystawa
END:VEVENT
BEGIN:VEVENT
DTSTART;TZID=Europe/Helsinki:20230915T143000
DTEND;TZID=Europe/Helsinki:20230917T110000
DTSTAMP:20260423T024943
CREATED:20230624T113700Z
LAST-MODIFIED:20230624T113700Z
UID:92249-1694788200-1694948400@klassikauto.pl
SUMMARY:40. Škoda sraz Doksy
DESCRIPTION:
URL:https://klassikauto.pl/impreza/40-skoda-sraz-doksy/
LOCATION:Doksy\, Czechy
CATEGORIES:Zlot
END:VEVENT
BEGIN:VEVENT
DTSTART;TZID=Europe/Helsinki:20230915T153000
DTEND;TZID=Europe/Helsinki:20230917T120000
DTSTAMP:20260423T024943
CREATED:20230624T162002Z
LAST-MODIFIED:20230624T162002Z
UID:92422-1694791800-1694952000@klassikauto.pl
SUMMARY:Motocykliczni Grudziądz
DESCRIPTION:
URL:https://klassikauto.pl/impreza/motocykliczni-grudziadz/
LOCATION:Grudziądz
CATEGORIES:Zlot
END:VEVENT
BEGIN:VEVENT
DTSTART;TZID=Europe/Helsinki:20230915T160000
DTEND;TZID=Europe/Helsinki:20230915T170000
DTSTAMP:20260423T024943
CREATED:20230312T165141Z
LAST-MODIFIED:20230312T165141Z
UID:88869-1694793600-1694797200@klassikauto.pl
SUMMARY:Kamperiada - zlot kamperów na Mazurach
DESCRIPTION:
URL:https://klassikauto.pl/impreza/kamperiada-zlot-kamperow-na-mazurach/
LOCATION:Jedwabno
CATEGORIES:Zlot
END:VEVENT
BEGIN:VEVENT
DTSTART;TZID=Europe/Helsinki:20230915T160000
DTEND;TZID=Europe/Helsinki:20230917T170000
DTSTAMP:20260423T024943
CREATED:20230828T171550Z
LAST-MODIFIED:20230828T171550Z
UID:94651-1694793600-1694970000@klassikauto.pl
SUMMARY:XIII Zlot Aut Amerykańskich I Zabytkowych. 2 Edycja
DESCRIPTION:
URL:https://klassikauto.pl/impreza/xiii-zlot-aut-amerykanskich-i-zabytkowych-2-edycja/
LOCATION:Żnin
CATEGORIES:Zlot
END:VEVENT
BEGIN:VEVENT
DTSTART;TZID=Europe/Helsinki:20230916T080000
DTEND;TZID=Europe/Helsinki:20230916T170000
DTSTAMP:20260423T024943
CREATED:20230831T160554Z
LAST-MODIFIED:20230831T160554Z
UID:94815-1694851200-1694883600@klassikauto.pl
SUMMARY:Piknik Moto Eko Sport
DESCRIPTION:Piknik w Szkole Podstawowej w Cerekwicy
URL:https://klassikauto.pl/impreza/piknik-moto-eko-sport/
LOCATION:Rokietnica
CATEGORIES:Zlot
END:VEVENT
BEGIN:VEVENT
DTSTART;TZID=Europe/Helsinki:20230916T080000
DTEND;TZID=Europe/Helsinki:20230917T170000
DTSTAMP:20260423T024943
CREATED:20230624T121339Z
LAST-MODIFIED:20230624T121339Z
UID:92281-1694851200-1694970000@klassikauto.pl
SUMMARY:Aloha. Carfestival - Beach\, Cars & Beatz
DESCRIPTION:
URL:https://klassikauto.pl/impreza/aloha-carfestival-beach-cars-beatz/
LOCATION:Oberhausen\, Niemcy
CATEGORIES:Zlot
END:VEVENT
BEGIN:VEVENT
DTSTART;TZID=Europe/Helsinki:20230916T080000
DTEND;TZID=Europe/Helsinki:20230917T170000
DTSTAMP:20260423T024943
CREATED:20230625T083144Z
LAST-MODIFIED:20230625T083144Z
UID:92565-1694851200-1694970000@klassikauto.pl
SUMMARY:Moto Weteran Bazar
DESCRIPTION:
URL:https://klassikauto.pl/impreza/moto-weteran-bazar-6/
LOCATION:Łódź
CATEGORIES:Aukcja
END:VEVENT
BEGIN:VEVENT
DTSTART;TZID=Europe/Helsinki:20230916T080000
DTEND;TZID=Europe/Helsinki:20230917T170000
DTSTAMP:20260423T024943
CREATED:20230807T072745Z
LAST-MODIFIED:20230807T072745Z
UID:93929-1694851200-1694970000@klassikauto.pl
SUMMARY:Strumieński Rajd Pojazdów Zabytkowych
DESCRIPTION:
URL:https://klassikauto.pl/impreza/strumienski-rajd-pojazdow-zabytkowych-2/
LOCATION:Strumień
CATEGORIES:Rajd
END:VEVENT
BEGIN:VEVENT
DTSTART;TZID=Europe/Helsinki:20230916T113000
DTEND;TZID=Europe/Helsinki:20230916T180000
DTSTAMP:20260423T024943
CREATED:20230831T143336Z
LAST-MODIFIED:20230831T143336Z
UID:94769-1694863800-1694887200@klassikauto.pl
SUMMARY:I Charytatywny Zlot Samochodów Klasycznych „Misja dla 4 łap”
DESCRIPTION:
URL:https://klassikauto.pl/impreza/i-charytatywny-zlot-samochodow-klasycznych-misja-dla-4-lap/
LOCATION:Głowno
CATEGORIES:Zlot
END:VEVENT
BEGIN:VEVENT
DTSTART;TZID=Europe/Helsinki:20230916T120000
DTEND;TZID=Europe/Helsinki:20230916T170000
DTSTAMP:20260423T024943
CREATED:20230624T140859Z
LAST-MODIFIED:20230624T140859Z
UID:92394-1694865600-1694883600@klassikauto.pl
SUMMARY:NITRO Festiwal 2023 - zlot tuningowanych samochodów
DESCRIPTION:
URL:https://klassikauto.pl/impreza/nitro-festiwal-2023-zlot-tuningowanych-samochodow/
LOCATION:Brzeszcze
CATEGORIES:Zlot
END:VEVENT
BEGIN:VEVENT
DTSTART;TZID=Europe/Helsinki:20230916T120000
DTEND;TZID=Europe/Helsinki:20230916T170000
DTSTAMP:20260423T024943
CREATED:20230625T072725Z
LAST-MODIFIED:20230625T072742Z
UID:92512-1694865600-1694883600@klassikauto.pl
SUMMARY:Jubileusz Polskiego Fiata i Tarpana
DESCRIPTION:Miejsce: Muzeum Narodowe Rolnictwa i Przemysłu Rolno-Spożywczego w Szreniawie
URL:https://klassikauto.pl/impreza/jubileusz-polskiego-fiata-i-tarpana/
LOCATION:Szreniawa
CATEGORIES:Zlot
END:VEVENT
BEGIN:VEVENT
DTSTART;TZID=Europe/Helsinki:20230916T120000
DTEND;TZID=Europe/Helsinki:20230916T220000
DTSTAMP:20260423T024943
CREATED:20230831T182514Z
LAST-MODIFIED:20230831T182514Z
UID:94843-1694865600-1694901600@klassikauto.pl
SUMMARY:I Międzyrzecki Zlot Pojazdów Amerykańskich
DESCRIPTION:
URL:https://klassikauto.pl/impreza/i-miedzyrzecki-zlot-pojazdow-amerykanskich/
LOCATION:Międzyrzecz
CATEGORIES:Zlot
END:VEVENT
BEGIN:VEVENT
DTSTART;TZID=Europe/Helsinki:20230916T140000
DTEND;TZID=Europe/Helsinki:20230916T160000
DTSTAMP:20260423T024943
CREATED:20230212T132413Z
LAST-MODIFIED:20230212T132413Z
UID:87889-1694872800-1694880000@klassikauto.pl
SUMMARY:Royal Stance 2023 – VFGD 10TH Anniversary Edition
DESCRIPTION:
URL:https://klassikauto.pl/impreza/royal-stance-2023-vfgd-10th-anniversary-edition/
LOCATION:Golub-Dobrzyń
CATEGORIES:Zlot
END:VEVENT
BEGIN:VEVENT
DTSTART;TZID=Europe/Helsinki:20230916T163000
DTEND;TZID=Europe/Helsinki:20230916T210000
DTSTAMP:20260423T024943
CREATED:20230828T165001Z
LAST-MODIFIED:20230828T165001Z
UID:94643-1694881800-1694898000@klassikauto.pl
SUMMARY:Seans w klasyku
DESCRIPTION:
URL:https://klassikauto.pl/impreza/seans-w-klasyku/
LOCATION:Trzebinia
CATEGORIES:Zlot
END:VEVENT
BEGIN:VEVENT
DTSTART;TZID=Europe/Helsinki:20230916T190000
DTEND;TZID=Europe/Helsinki:20230916T190000
DTSTAMP:20260423T024943
CREATED:20230514T174217Z
LAST-MODIFIED:20230514T174217Z
UID:90593-1694890800-1694890800@klassikauto.pl
SUMMARY:XIV Rajd Ikarusa
DESCRIPTION:
URL:https://klassikauto.pl/impreza/xiv-rajd-ikarusa/
LOCATION:Trójmiasto
CATEGORIES:Rajd
END:VEVENT
BEGIN:VEVENT
DTSTART;TZID=Europe/Helsinki:20230917T080000
DTEND;TZID=Europe/Helsinki:20230917T140000
DTSTAMP:20260423T024943
CREATED:20230831T162135Z
LAST-MODIFIED:20230831T162135Z
UID:94822-1694937600-1694959200@klassikauto.pl
SUMMARY:Tor Poznań – Event motoryzacyjny Autoprezent.pl\,
DESCRIPTION:
URL:https://klassikauto.pl/impreza/tor-poznan-event-motoryzacyjny-autoprezent-pl/
LOCATION:Poznań
CATEGORIES:Zlot
END:VEVENT
BEGIN:VEVENT
DTSTART;TZID=Europe/Helsinki:20230917T080000
DTEND;TZID=Europe/Helsinki:20230917T170000
DTSTAMP:20260423T024943
CREATED:20230523T180921Z
LAST-MODIFIED:20230523T180921Z
UID:91182-1694937600-1694970000@klassikauto.pl
SUMMARY:I Wystawa pojazdów zabytkowych w Twardogórze
DESCRIPTION:
URL:https://klassikauto.pl/impreza/i-wystawa-pojazdow-zabytkowych-w-twardogorze/
LOCATION:Twardogóra
CATEGORIES:Wystawa
END:VEVENT
BEGIN:VEVENT
DTSTART;TZID=Europe/Helsinki:20230917T090000
DTEND;TZID=Europe/Helsinki:20230917T170000
DTSTAMP:20260423T024943
CREATED:20230312T165435Z
LAST-MODIFIED:20230312T165435Z
UID:88872-1694941200-1694970000@klassikauto.pl
SUMMARY:6.Opel Classic Europatreffen auch Holden\, Bedford\, Daewoo\, Vauxhall\,
DESCRIPTION:
URL:https://klassikauto.pl/impreza/6-opel-classic-europatreffen-auch-holden-bedford-daewoo-vauxhall/
LOCATION:Krefeld\, Niemcy
CATEGORIES:Zlot
END:VEVENT
BEGIN:VEVENT
DTSTART;TZID=Europe/Helsinki:20230917T093000
DTEND;TZID=Europe/Helsinki:20230917T170000
DTSTAMP:20260423T024943
CREATED:20230831T144847Z
LAST-MODIFIED:20230831T144847Z
UID:94774-1694943000-1694970000@klassikauto.pl
SUMMARY:Turystyczny Rajd Samochodowy z okazji 800-lecia miasta Nysa
DESCRIPTION:
URL:https://klassikauto.pl/impreza/turystyczny-rajd-samochodowy-z-okazji-800-lecia-miasta-nysa/
LOCATION:Nysa
CATEGORIES:Rajd
END:VEVENT
BEGIN:VEVENT
DTSTART;TZID=Europe/Helsinki:20230917T100000
DTEND;TZID=Europe/Helsinki:20230917T170000
DTSTAMP:20260423T024943
CREATED:20230624T185834Z
LAST-MODIFIED:20230624T185834Z
UID:92500-1694944800-1694970000@klassikauto.pl
SUMMARY:Cult Cars Meeting 2
DESCRIPTION:
URL:https://klassikauto.pl/impreza/cult-cars-meeting-2/
LOCATION:Inowłódz
CATEGORIES:Zlot
END:VEVENT
BEGIN:VEVENT
DTSTART;TZID=Europe/Helsinki:20230917T120000
DTEND;TZID=Europe/Helsinki:20230917T170000
DTSTAMP:20260423T024943
CREATED:20230410T152320Z
LAST-MODIFIED:20230410T152320Z
UID:89701-1694952000-1694970000@klassikauto.pl
SUMMARY:Święcenie Pojazdów - Mostówka Wesołe Maluchy 126p i goście
DESCRIPTION:
URL:https://klassikauto.pl/impreza/swiecenie-pojazdow-mostowka-wesole-maluchy-126p-i-goscie/
LOCATION:Mostówka
CATEGORIES:Zlot
END:VEVENT
BEGIN:VEVENT
DTSTART;TZID=Europe/Helsinki:20230917T123000
DTEND;TZID=Europe/Helsinki:20230917T170000
DTSTAMP:20260423T024943
CREATED:20230831T142523Z
LAST-MODIFIED:20230831T142523Z
UID:94763-1694953800-1694970000@klassikauto.pl
SUMMARY:Moto Grill - Tarkawica
DESCRIPTION:
URL:https://klassikauto.pl/impreza/moto-grill-tarkawica/
LOCATION:Tarkawica
CATEGORIES:Zlot
END:VEVENT
BEGIN:VEVENT
DTSTART;TZID=Europe/Helsinki:20230917T130000
DTEND;TZID=Europe/Helsinki:20230917T170000
DTSTAMP:20260423T024943
CREATED:20230625T071108Z
LAST-MODIFIED:20230831T192742Z
UID:92503-1694955600-1694970000@klassikauto.pl
SUMMARY:2 Samochodowe zakończenie sezonu
DESCRIPTION:
URL:https://klassikauto.pl/impreza/2-samochodowe-zakonczenie-sezonu/
LOCATION:Wągrowiec
CATEGORIES:Zlot
END:VEVENT
BEGIN:VEVENT
DTSTART;TZID=Europe/Helsinki:20230917T150000
DTEND;TZID=Europe/Helsinki:20230917T190000
DTSTAMP:20260423T024943
CREATED:20230831T151531Z
LAST-MODIFIED:20230831T151531Z
UID:94795-1694962800-1694977200@klassikauto.pl
SUMMARY:Najgłośniejsze zakończenie sezonu z NJB
DESCRIPTION:
URL:https://klassikauto.pl/impreza/najglosniejsze-zakonczenie-sezonu-z-njb/
LOCATION:Bytom
CATEGORIES:Zlot
END:VEVENT
BEGIN:VEVENT
DTSTART;TZID=Europe/Helsinki:20230920T080000
DTEND;TZID=Europe/Helsinki:20230920T170000
DTSTAMP:20260423T024943
CREATED:20230519T153112Z
LAST-MODIFIED:20230519T153112Z
UID:90872-1695196800-1695229200@klassikauto.pl
SUMMARY:Bydgoskie Klasyki Nocą - vol. 8
DESCRIPTION:
URL:https://klassikauto.pl/impreza/bydgoskie-klasyki-noca-vol-8/
LOCATION:Bydgoszcz
CATEGORIES:Zlot
END:VEVENT
BEGIN:VEVENT
DTSTART;TZID=Europe/Helsinki:20230922T100000
DTEND;TZID=Europe/Helsinki:20230924T140000
DTSTAMP:20260423T024943
CREATED:20230831T150029Z
LAST-MODIFIED:20230831T150029Z
UID:94780-1695376800-1695564000@klassikauto.pl
SUMMARY:III Dolnośląski Rajd Zabytków Techniki
DESCRIPTION:
URL:https://klassikauto.pl/impreza/iii-dolnoslaski-rajd-zabytkow-techniki/
LOCATION:Dolny Śląsk
CATEGORIES:Rajd
END:VEVENT
END:VCALENDAR
<!-- RunCloud Hub 2026-04-23 01:49:43 -->