BEGIN:VCALENDAR
VERSION:2.0
PRODID:-//KlassikAuto.pl - ECPv6.7.0//NONSGML v1.0//EN
CALSCALE:GREGORIAN
METHOD:PUBLISH
X-ORIGINAL-URL:https://klassikauto.pl
X-WR-CALDESC:Wydarzenia dla KlassikAuto.pl
REFRESH-INTERVAL;VALUE=DURATION:PT1H
X-Robots-Tag:noindex
X-PUBLISHED-TTL:PT1H
BEGIN:VTIMEZONE
TZID:Europe/Helsinki
BEGIN:DAYLIGHT
TZOFFSETFROM:+0200
TZOFFSETTO:+0300
TZNAME:EEST
DTSTART:20220327T010000
END:DAYLIGHT
BEGIN:STANDARD
TZOFFSETFROM:+0300
TZOFFSETTO:+0200
TZNAME:EET
DTSTART:20221030T010000
END:STANDARD
BEGIN:DAYLIGHT
TZOFFSETFROM:+0200
TZOFFSETTO:+0300
TZNAME:EEST
DTSTART:20230326T010000
END:DAYLIGHT
BEGIN:STANDARD
TZOFFSETFROM:+0300
TZOFFSETTO:+0200
TZNAME:EET
DTSTART:20231029T010000
END:STANDARD
END:VTIMEZONE
BEGIN:VEVENT
DTSTART;TZID=Europe/Helsinki:20220930T080000
DTEND;TZID=Europe/Helsinki:20221002T170000
DTSTAMP:20260421T152252
CREATED:20220313T115000Z
LAST-MODIFIED:20220313T115000Z
UID:81973-1664524800-1664730000@klassikauto.pl
SUMMARY:ADAC/RGB Season Finale
DESCRIPTION:
URL:https://klassikauto.pl/impreza/adac-rgb-season-finale/
LOCATION:Nuerburgring\, Niemcy
CATEGORIES:Rajd
END:VEVENT
BEGIN:VEVENT
DTSTART;TZID=Europe/Helsinki:20221014T080000
DTEND;TZID=Europe/Helsinki:20221016T170000
DTSTAMP:20260421T152252
CREATED:20220313T115115Z
LAST-MODIFIED:20220313T115115Z
UID:81977-1665734400-1665939600@klassikauto.pl
SUMMARY:ADAC Westfalen Trophy
DESCRIPTION:
URL:https://klassikauto.pl/impreza/adac-westfalen-trophy/
LOCATION:Nuerburgring\, Niemcy
CATEGORIES:Rajd
END:VEVENT
BEGIN:VEVENT
DTSTART;TZID=Europe/Helsinki:20221014T150000
DTEND;TZID=Europe/Helsinki:20221015T190000
DTSTAMP:20260421T152252
CREATED:20220313T094226Z
LAST-MODIFIED:20220313T094226Z
UID:81904-1665759600-1665860400@klassikauto.pl
SUMMARY:XI Zlot Samochodów Amerykańskich i Zabytkowych w Mega Parku
DESCRIPTION:
URL:https://klassikauto.pl/impreza/xi-zlot-samochodow-amerykanskich-i-zabytkowych-w-mega-parku-2/
LOCATION:Grudziądz
CATEGORIES:Zlot
END:VEVENT
BEGIN:VEVENT
DTSTART;TZID=Europe/Helsinki:20221023T080000
DTEND;TZID=Europe/Helsinki:20221204T170000
DTSTAMP:20260421T152252
CREATED:20220313T120652Z
LAST-MODIFIED:20220313T120652Z
UID:82002-1666512000-1670173200@klassikauto.pl
SUMMARY:75 anni di Ferrari
DESCRIPTION:
URL:https://klassikauto.pl/impreza/75-anni-di-ferrari/
LOCATION:Museum Autoworld\, Bruksela\, Belgia
CATEGORIES:Wystawa
END:VEVENT
BEGIN:VEVENT
DTSTART;TZID=Europe/Helsinki:20221028T080000
DTEND;TZID=Europe/Helsinki:20221030T170000
DTSTAMP:20260421T152252
CREATED:20220629T171823Z
LAST-MODIFIED:20220629T171823Z
UID:83953-1666944000-1667149200@klassikauto.pl
SUMMARY:Retro Motor Show 2022
DESCRIPTION:Międzynarodowe Targi Poznańskie
URL:https://klassikauto.pl/impreza/retro-motor-show-2022/
LOCATION:Poznań
CATEGORIES:Targi
END:VEVENT
BEGIN:VEVENT
DTSTART;TZID=Europe/Helsinki:20221105T100000
DTEND;TZID=Europe/Helsinki:20221105T170000
DTSTAMP:20260421T152252
CREATED:20220703T152355Z
LAST-MODIFIED:20220703T152355Z
UID:84016-1667642400-1667667600@klassikauto.pl
SUMMARY:71 Rocznica Rozpoczęcia Produkcji w Fabryce Samochodów Osobowych
DESCRIPTION:
URL:https://klassikauto.pl/impreza/71-rocznica-rozpoczecia-produkcji-w-fabryce-samochodow-osobowych/
LOCATION:Żerań
CATEGORIES:Zlot
END:VEVENT
BEGIN:VEVENT
DTSTART;TZID=Europe/Helsinki:20221105T100000
DTEND;TZID=Europe/Helsinki:20221105T170000
DTSTAMP:20260421T152252
CREATED:20220829T164015Z
LAST-MODIFIED:20220829T164015Z
UID:84948-1667642400-1667667600@klassikauto.pl
SUMMARY:71 Rocznica Rozpoczęcia Produkcji w Fabryce Samochodów Osobowych
DESCRIPTION:
URL:https://klassikauto.pl/impreza/71-rocznica-rozpoczecia-produkcji-w-fabryce-samochodow-osobowych-2/
LOCATION:Żerań
CATEGORIES:Wystawa
END:VEVENT
BEGIN:VEVENT
DTSTART;TZID=Europe/Helsinki:20221110T080000
DTEND;TZID=Europe/Helsinki:20221113T170000
DTSTAMP:20260421T152252
CREATED:20221108T172627Z
LAST-MODIFIED:20221108T172627Z
UID:86265-1668067200-1668358800@klassikauto.pl
SUMMARY:35. Auto Zürich
DESCRIPTION:
URL:https://klassikauto.pl/impreza/35-auto-zurich/
LOCATION:Zurich\, Szwajcaria
CATEGORIES:Targi
END:VEVENT
BEGIN:VEVENT
DTSTART;TZID=Europe/Helsinki:20221111T100000
DTEND;TZID=Europe/Helsinki:20221111T170000
DTSTAMP:20260421T152252
CREATED:20221108T170216Z
LAST-MODIFIED:20221108T170216Z
UID:86254-1668160800-1668186000@klassikauto.pl
SUMMARY:Classic Parada z okazji Święta Niepodległości
DESCRIPTION:
URL:https://klassikauto.pl/impreza/classic-parada-z-okazji-swieta-niepodleglosci/
LOCATION:Radomsko
CATEGORIES:Zlot
END:VEVENT
BEGIN:VEVENT
DTSTART;TZID=Europe/Helsinki:20221111T110000
DTEND;TZID=Europe/Helsinki:20221111T170000
DTSTAMP:20260421T152252
CREATED:20221108T182728Z
LAST-MODIFIED:20221108T182728Z
UID:86277-1668164400-1668186000@klassikauto.pl
SUMMARY:IV Spotkanie Klasycznej Motoryzacji
DESCRIPTION:
URL:https://klassikauto.pl/impreza/iv-spotkanie-klasycznej-motoryzacji/
LOCATION:Sulejówek
CATEGORIES:Zlot
END:VEVENT
BEGIN:VEVENT
DTSTART;TZID=Europe/Helsinki:20221112T080000
DTEND;TZID=Europe/Helsinki:20221112T170000
DTSTAMP:20260421T152252
CREATED:20221108T164901Z
LAST-MODIFIED:20221108T164901Z
UID:86242-1668240000-1668272400@klassikauto.pl
SUMMARY:Přednáška Triumph vs. Norton
DESCRIPTION:
URL:https://klassikauto.pl/impreza/prednaska-triumph-vs-norton-2/
LOCATION:Liberec\, Czechy
CATEGORIES:Wystawa
END:VEVENT
BEGIN:VEVENT
DTSTART;TZID=Europe/Helsinki:20221112T080000
DTEND;TZID=Europe/Helsinki:20221112T170000
DTSTAMP:20260421T152252
CREATED:20221108T165021Z
LAST-MODIFIED:20221108T165021Z
UID:86244-1668240000-1668272400@klassikauto.pl
SUMMARY:Podzimní Retro Garáž (auto-moto veterán burza)
DESCRIPTION:
URL:https://klassikauto.pl/impreza/podzimni-retro-garaz-auto-moto-veteran-burza-2/
LOCATION:Lysa nad Labem\, Czechy
CATEGORIES:Aukcja
END:VEVENT
BEGIN:VEVENT
DTSTART;TZID=Europe/Helsinki:20221112T130000
DTEND;TZID=Europe/Helsinki:20221112T183000
DTSTAMP:20260421T152252
CREATED:20221108T184109Z
LAST-MODIFIED:20221108T184109Z
UID:86284-1668258000-1668277800@klassikauto.pl
SUMMARY:Piknikowe Zakończenie Sezonu z JSMM
DESCRIPTION:
URL:https://klassikauto.pl/impreza/piknikowe-zakonczenie-sezonu-z-jsmm/
LOCATION:Jawornik
CATEGORIES:Zlot
END:VEVENT
BEGIN:VEVENT
DTSTART;TZID=Europe/Helsinki:20221113T080000
DTEND;TZID=Europe/Helsinki:20221113T170000
DTSTAMP:20260421T152252
CREATED:20221108T165219Z
LAST-MODIFIED:20221108T165601Z
UID:86246-1668326400-1668358800@klassikauto.pl
SUMMARY:Auto-Moto-burza
DESCRIPTION:
URL:https://klassikauto.pl/impreza/auto-moto-burza/
LOCATION:Valy u Přelouče\, Czechy
CATEGORIES:Aukcja
END:VEVENT
BEGIN:VEVENT
DTSTART;TZID=Europe/Helsinki:20221113T123000
DTEND;TZID=Europe/Helsinki:20221113T170000
DTSTAMP:20260421T152252
CREATED:20221108T184336Z
LAST-MODIFIED:20221108T184336Z
UID:86287-1668342600-1668358800@klassikauto.pl
SUMMARY:Zakończenie sezonu 2022
DESCRIPTION:Zamech Czocha
URL:https://klassikauto.pl/impreza/zakonczenie-sezonu-2022/
LOCATION:Jelenia Góra
CATEGORIES:Zlot
END:VEVENT
BEGIN:VEVENT
DTSTART;TZID=Europe/Helsinki:20221118T080000
DTEND;TZID=Europe/Helsinki:20221118T170000
DTSTAMP:20260421T152252
CREATED:20220312T121438Z
LAST-MODIFIED:20220312T121438Z
UID:81762-1668758400-1668790800@klassikauto.pl
SUMMARY:6\,7 Królewski Puchar Turystyczny 2021 "Włóczykij"
DESCRIPTION:
URL:https://klassikauto.pl/impreza/67-krolewski-puchar-turystyczny-2021-wloczykij/
LOCATION:Warszawa
CATEGORIES:Rajd
END:VEVENT
BEGIN:VEVENT
DTSTART;TZID=Europe/Helsinki:20221118T080000
DTEND;TZID=Europe/Helsinki:20221120T170000
DTSTAMP:20260421T152252
CREATED:20220829T173110Z
LAST-MODIFIED:20220829T173110Z
UID:84979-1668758400-1668963600@klassikauto.pl
SUMMARY:Classic Car Show Brussels\, 75 years Ferrari
DESCRIPTION:
URL:https://klassikauto.pl/impreza/classic-car-show-brussels-75-years-ferrari/
LOCATION:Bruksela\, Belgia
CATEGORIES:Targi
END:VEVENT
BEGIN:VEVENT
DTSTART;TZID=Europe/Helsinki:20221119T140000
DTEND;TZID=Europe/Helsinki:20221119T170000
DTSTAMP:20260421T152252
CREATED:20221108T183501Z
LAST-MODIFIED:20221108T183501Z
UID:86282-1668866400-1668877200@klassikauto.pl
SUMMARY:III Zlot amcarów
DESCRIPTION:
URL:https://klassikauto.pl/impreza/iii-zlot-amcarow/
LOCATION:Warszawa
CATEGORIES:Zlot
END:VEVENT
BEGIN:VEVENT
DTSTART;TZID=Europe/Helsinki:20221120T080000
DTEND;TZID=Europe/Helsinki:20221120T170000
DTSTAMP:20260421T152252
CREATED:20221108T164536Z
LAST-MODIFIED:20221108T164536Z
UID:86240-1668931200-1668963600@klassikauto.pl
SUMMARY:Oldtimerbazar 2022
DESCRIPTION:
URL:https://klassikauto.pl/impreza/oldtimerbazar-2022/
LOCATION:Wrocław\, Wrocław\, Poland
CATEGORIES:Aukcja
END:VEVENT
BEGIN:VEVENT
DTSTART;TZID=Europe/Helsinki:20221120T080000
DTEND;TZID=Europe/Helsinki:20221120T170000
DTSTAMP:20260421T152252
CREATED:20221108T165722Z
LAST-MODIFIED:20221108T165722Z
UID:86248-1668931200-1668963600@klassikauto.pl
SUMMARY:Auto moto burza Svitavy
DESCRIPTION:
URL:https://klassikauto.pl/impreza/auto-moto-burza-svitavy-2/
LOCATION:Svitavy\, Czechy
CATEGORIES:Aukcja
END:VEVENT
BEGIN:VEVENT
DTSTART;TZID=Europe/Helsinki:20221127T103000
DTEND;TZID=Europe/Helsinki:20221127T170000
DTSTAMP:20260421T152252
CREATED:20221108T171543Z
LAST-MODIFIED:20221108T171543Z
UID:86260-1669545000-1669568400@klassikauto.pl
SUMMARY:Bytomska Barbórka 2022
DESCRIPTION:
URL:https://klassikauto.pl/impreza/bytomska-barborka-2022/
LOCATION:Bytom
CATEGORIES:Rajd
END:VEVENT
BEGIN:VEVENT
DTSTART;TZID=Europe/Helsinki:20221127T120000
DTEND;TZID=Europe/Helsinki:20221127T170000
DTSTAMP:20260421T152252
CREATED:20220313T095211Z
LAST-MODIFIED:20220313T095211Z
UID:81915-1669550400-1669568400@klassikauto.pl
SUMMARY:Rajzowa Paka 2022
DESCRIPTION:
URL:https://klassikauto.pl/impreza/rajzowa-paka-2022/
LOCATION:Świętochłowice
CATEGORIES:Zlot
END:VEVENT
BEGIN:VEVENT
DTSTART;TZID=Europe/Helsinki:20221201T080000
DTEND;TZID=Europe/Helsinki:20221204T170000
DTSTAMP:20260421T152252
CREATED:20221108T172248Z
LAST-MODIFIED:20221108T172248Z
UID:86262-1669881600-1670173200@klassikauto.pl
SUMMARY:Retro Classic Bavaria
DESCRIPTION:
URL:https://klassikauto.pl/impreza/retro-classic-bavaria/
LOCATION:Nürnberg\, Niemcy
CATEGORIES:Targi
END:VEVENT
BEGIN:VEVENT
DTSTART;TZID=Europe/Helsinki:20221203T080000
DTEND;TZID=Europe/Helsinki:20221211T170000
DTSTAMP:20260421T152252
CREATED:20220410T111527Z
LAST-MODIFIED:20220416T140100Z
UID:82654-1670054400-1670778000@klassikauto.pl
SUMMARY:Essen Motor Show
DESCRIPTION:
URL:https://klassikauto.pl/impreza/essen-motor-show-2/
LOCATION:Essen\, Niemcy
CATEGORIES:Targi
END:VEVENT
BEGIN:VEVENT
DTSTART;TZID=Europe/Helsinki:20221203T170000
DTEND;TZID=Europe/Helsinki:20221203T210000
DTSTAMP:20260421T152252
CREATED:20221108T171259Z
LAST-MODIFIED:20221108T171259Z
UID:86258-1670086800-1670101200@klassikauto.pl
SUMMARY:Mikołajkowy Zlot Charytatywny z ISB
DESCRIPTION:
URL:https://klassikauto.pl/impreza/mikolajkowy-zlot-charytatywny-z-isb/
LOCATION:Bytom
CATEGORIES:Zlot
END:VEVENT
BEGIN:VEVENT
DTSTART;TZID=Europe/Helsinki:20221203T170000
DTEND;TZID=Europe/Helsinki:20221203T213000
DTSTAMP:20260421T152252
CREATED:20221108T171119Z
LAST-MODIFIED:20221108T171119Z
UID:86256-1670086800-1670103000@klassikauto.pl
SUMMARY:Charytatywny Zlot Mikołajkowy z TurboFamily
DESCRIPTION:
URL:https://klassikauto.pl/impreza/charytatywny-zlot-mikolajkowy-z-turbofamily/
LOCATION:Wrocław\, Wrocław\, Poland
CATEGORIES:Zlot
END:VEVENT
BEGIN:VEVENT
DTSTART;TZID=Europe/Helsinki:20221209T080000
DTEND;TZID=Europe/Helsinki:20230129T170000
DTSTAMP:20260421T152252
CREATED:20221222T135738Z
LAST-MODIFIED:20221222T135738Z
UID:86893-1670572800-1675011600@klassikauto.pl
SUMMARY:Supercars 2 - Road vs Race Edition
DESCRIPTION:
URL:https://klassikauto.pl/impreza/supercars-2-road-vs-race-edition/
LOCATION:Muzeum Autoworld\, Bruksela\, Belgia
CATEGORIES:Wystawa
END:VEVENT
BEGIN:VEVENT
DTSTART;TZID=Europe/Helsinki:20221210T080000
DTEND;TZID=Europe/Helsinki:20221210T170000
DTSTAMP:20260421T152252
CREATED:20221108T165832Z
LAST-MODIFIED:20221108T165832Z
UID:86250-1670659200-1670691600@klassikauto.pl
SUMMARY:Burza historických vozidel a dílů Chotusice
DESCRIPTION:
URL:https://klassikauto.pl/impreza/burza-historickych-vozidel-a-dilu-chotusice/
LOCATION:Chotusice u Čáslavi\, Czechy
CATEGORIES:Aukcja
END:VEVENT
BEGIN:VEVENT
DTSTART;TZID=Europe/Helsinki:20221211T080000
DTEND;TZID=Europe/Helsinki:20221211T170000
DTSTAMP:20260421T152252
CREATED:20221108T170012Z
LAST-MODIFIED:20221108T170012Z
UID:86252-1670745600-1670778000@klassikauto.pl
SUMMARY:Auto-Moto-burza Valy
DESCRIPTION:
URL:https://klassikauto.pl/impreza/auto-moto-burza-valy-9/
LOCATION:Valy u Přelouče\, Czechy
CATEGORIES:Aukcja
END:VEVENT
BEGIN:VEVENT
DTSTART;TZID=Europe/Helsinki:20221211T080000
DTEND;TZID=Europe/Helsinki:20221211T170000
DTSTAMP:20260421T152252
CREATED:20221108T183229Z
LAST-MODIFIED:20221108T183229Z
UID:86280-1670745600-1670778000@klassikauto.pl
SUMMARY:Ogólnopolska Giełda Modeli Samochodów im. Sławoja Gwiazdowskiego
DESCRIPTION:
URL:https://klassikauto.pl/impreza/ogolnopolska-gielda-modeli-samochodow-im-slawoja-gwiazdowskiego-8/
CATEGORIES:Aukcja
END:VEVENT
END:VCALENDAR
<!-- RunCloud Hub 2026-04-21 14:22:52 -->