BEGIN:VCALENDAR
VERSION:2.0
PRODID:-//KlassikAuto.pl - ECPv6.7.0//NONSGML v1.0//EN
CALSCALE:GREGORIAN
METHOD:PUBLISH
X-ORIGINAL-URL:https://klassikauto.pl
X-WR-CALDESC:Wydarzenia dla KlassikAuto.pl
REFRESH-INTERVAL;VALUE=DURATION:PT1H
X-Robots-Tag:noindex
X-PUBLISHED-TTL:PT1H
BEGIN:VTIMEZONE
TZID:Europe/Helsinki
BEGIN:DAYLIGHT
TZOFFSETFROM:+0200
TZOFFSETTO:+0300
TZNAME:EEST
DTSTART:20210328T010000
END:DAYLIGHT
BEGIN:STANDARD
TZOFFSETFROM:+0300
TZOFFSETTO:+0200
TZNAME:EET
DTSTART:20211031T010000
END:STANDARD
END:VTIMEZONE
BEGIN:VEVENT
DTSTART;TZID=Europe/Helsinki:20210129T080000
DTEND;TZID=Europe/Helsinki:20210328T170000
DTSTAMP:20260420T184238
CREATED:20210209T170608Z
LAST-MODIFIED:20210209T170608Z
UID:76377-1611907200-1616950800@klassikauto.pl
SUMMARY:In the spotlight: Volkswagen Milestones - wystawa
DESCRIPTION:
URL:https://klassikauto.pl/impreza/in-the-spotlight-volkswagen-milestones-wystawa/
LOCATION:Muzeum Autoworld\, Bruksela\, Belgia
CATEGORIES:Wystawa
END:VEVENT
BEGIN:VEVENT
DTSTART;VALUE=DATE:20210327
DTEND;VALUE=DATE:20210328
DTSTAMP:20260420T184238
CREATED:20210209T175022Z
LAST-MODIFIED:20210209T175034Z
UID:76402-1616803200-1616889599@klassikauto.pl
SUMMARY:Silverstone Auction Race Retro -ONLINE
DESCRIPTION:
URL:https://klassikauto.pl/impreza/aukcja-silverstone-auction-race-retro-online/
CATEGORIES:Aukcja
END:VEVENT
BEGIN:VEVENT
DTSTART;VALUE=DATE:20210327
DTEND;VALUE=DATE:20210329
DTSTAMP:20260420T184238
CREATED:20210209T175215Z
LAST-MODIFIED:20210209T175215Z
UID:76405-1616803200-1616975999@klassikauto.pl
SUMMARY:45. Oldtimer & Teilemarkt Fribourg
DESCRIPTION:
URL:https://klassikauto.pl/impreza/45-oldtimer-teilemarkt-fribourg/
LOCATION:Fribourg\, Szwajcaria
CATEGORIES:Aukcja
END:VEVENT
BEGIN:VEVENT
DTSTART;TZID=Europe/Helsinki:20210327T080000
DTEND;TZID=Europe/Helsinki:20210327T170000
DTSTAMP:20260420T184238
CREATED:20210209T174845Z
LAST-MODIFIED:20210209T174845Z
UID:76399-1616832000-1616864400@klassikauto.pl
SUMMARY:Messe Magdeburg
DESCRIPTION:
URL:https://klassikauto.pl/impreza/messe-magdeburg/
LOCATION:Magdeburg\, Niemcy
CATEGORIES:Targi
END:VEVENT
BEGIN:VEVENT
DTSTART;TZID=Europe/Helsinki:20210327T080000
DTEND;TZID=Europe/Helsinki:20210327T170000
DTSTAMP:20260420T184238
CREATED:20210213T091825Z
LAST-MODIFIED:20210213T091825Z
UID:76612-1616832000-1616864400@klassikauto.pl
SUMMARY:"Classic cars & motorcycles"\, AUKCJA\, Oldtimer Galerie Toffen
DESCRIPTION:
URL:https://klassikauto.pl/impreza/classic-cars-motorcycles-aukcja-oldtimer-galerie-toffen/
LOCATION:Toffen\, Szwajcaria
CATEGORIES:Aukcja
END:VEVENT
BEGIN:VEVENT
DTSTART;TZID=Europe/Helsinki:20210402T080000
DTEND;TZID=Europe/Helsinki:20210530T170000
DTSTAMP:20260420T184238
CREATED:20210209T180034Z
LAST-MODIFIED:20210209T180034Z
UID:76410-1617350400-1622394000@klassikauto.pl
SUMMARY:In the Spotlight: Breaks & Station Wagons - wystawa
DESCRIPTION:
URL:https://klassikauto.pl/impreza/in-the-spotlight-breaks-station-wagons-wystawa/
LOCATION:Muzeum Autoworld\, Bruksela\, Belgia
CATEGORIES:Wystawa
END:VEVENT
BEGIN:VEVENT
DTSTART;TZID=Europe/Helsinki:20210402T193000
DTEND;TZID=Europe/Helsinki:20210402T230000
DTSTAMP:20260420T184238
CREATED:20210213T074634Z
LAST-MODIFIED:20210213T074634Z
UID:76559-1617391800-1617404400@klassikauto.pl
SUMMARY:WielkaNOCNY - spotkanie miłośników Fiata 126p
DESCRIPTION:
URL:https://klassikauto.pl/impreza/wielkanocny-spotkanie-milosnikow-fiata-126p/
LOCATION:Łódź
CATEGORIES:Zlot
END:VEVENT
BEGIN:VEVENT
DTSTART;TZID=Europe/Helsinki:20210403T090000
DTEND;TZID=Europe/Helsinki:20210403T180000
DTSTAMP:20260420T184238
CREATED:20210213T065925Z
LAST-MODIFIED:20210213T065925Z
UID:76526-1617440400-1617472800@klassikauto.pl
SUMMARY:2ème Bretagne Classic Auto Plouay
DESCRIPTION:
URL:https://klassikauto.pl/impreza/2eme-bretagne-classic-auto-plouay/
LOCATION:Plouay\, Francja
CATEGORIES:Zlot
END:VEVENT
BEGIN:VEVENT
DTSTART;TZID=Europe/Helsinki:20210407T080000
DTEND;TZID=Europe/Helsinki:20210411T170000
DTSTAMP:20260420T184238
CREATED:20210209T180206Z
LAST-MODIFIED:20210209T180206Z
UID:76412-1617782400-1618160400@klassikauto.pl
SUMMARY:Techno-Classica
DESCRIPTION:
URL:https://klassikauto.pl/impreza/techno-classica/
LOCATION:Essen\, Niemcy
CATEGORIES:Targi
END:VEVENT
BEGIN:VEVENT
DTSTART;TZID=Europe/Helsinki:20210409T080000
DTEND;TZID=Europe/Helsinki:20210411T170000
DTSTAMP:20260420T184238
CREATED:20210209T180347Z
LAST-MODIFIED:20210209T180347Z
UID:76414-1617955200-1618160400@klassikauto.pl
SUMMARY:EuroMotor®\, Die exklusive Lifestyle-Messe
DESCRIPTION:
URL:https://klassikauto.pl/impreza/euromotor-die-exklusive-lifestyle-messe/
LOCATION:Stuttgart\, Niemcy
CATEGORIES:Targi
END:VEVENT
BEGIN:VEVENT
DTSTART;TZID=Europe/Helsinki:20210411T100000
DTEND;TZID=Europe/Helsinki:20210411T180000
DTSTAMP:20260420T184238
CREATED:20210209T180602Z
LAST-MODIFIED:20210209T180642Z
UID:76416-1618135200-1618164000@klassikauto.pl
SUMMARY:Motorworld-Saisonauftakt und „Dreams of Luxery“
DESCRIPTION:
URL:https://klassikauto.pl/impreza/motorworld-saisonauftakt-und-dreams-of-luxery/
LOCATION:Kolonia\, Niemcy
CATEGORIES:Zlot
END:VEVENT
BEGIN:VEVENT
DTSTART;TZID=Europe/Helsinki:20210411T140000
DTEND;TZID=Europe/Helsinki:20210411T170000
DTSTAMP:20260420T184238
CREATED:20210213T065017Z
LAST-MODIFIED:20210213T065017Z
UID:76520-1618149600-1618160400@klassikauto.pl
SUMMARY:Miasto budzi się...
DESCRIPTION:
URL:https://klassikauto.pl/impreza/miasto-budzi-sie/
LOCATION:Warszawa
CATEGORIES:Zlot
END:VEVENT
BEGIN:VEVENT
DTSTART;TZID=Europe/Helsinki:20210417T080000
DTEND;TZID=Europe/Helsinki:20210417T170000
DTSTAMP:20260420T184238
CREATED:20210417T103931Z
LAST-MODIFIED:20210417T103931Z
UID:77441-1618646400-1618678800@klassikauto.pl
SUMMARY:VIII Rajd Autosana
DESCRIPTION:
URL:https://klassikauto.pl/impreza/viii-rajd-autosana-2/
LOCATION:Pomorze
CATEGORIES:Rajd
END:VEVENT
BEGIN:VEVENT
DTSTART;TZID=Europe/Helsinki:20210418T080000
DTEND;TZID=Europe/Helsinki:20210418T170000
DTSTAMP:20260420T184238
CREATED:20210209T180745Z
LAST-MODIFIED:20210209T180745Z
UID:76418-1618732800-1618765200@klassikauto.pl
SUMMARY:36. Oldtimertreffen mit Teilemarkt
DESCRIPTION:
URL:https://klassikauto.pl/impreza/36-oldtimertreffen-mit-teilemarkt/
LOCATION:Ellringen\, Niemcy
CATEGORIES:Zlot
END:VEVENT
BEGIN:VEVENT
DTSTART;TZID=Europe/Helsinki:20210418T080000
DTEND;TZID=Europe/Helsinki:20210418T170000
DTSTAMP:20260420T184238
CREATED:20210209T180838Z
LAST-MODIFIED:20210209T181036Z
UID:76421-1618732800-1618765200@klassikauto.pl
SUMMARY:Classic Car 2021 - Rozpoczęcie Sezon
DESCRIPTION:
URL:https://klassikauto.pl/impreza/classic-car-2021-rozpoczecie-sezon/
LOCATION:Nowa Iwiczna
CATEGORIES:Zlot
END:VEVENT
BEGIN:VEVENT
DTSTART;TZID=Europe/Helsinki:20210418T080000
DTEND;TZID=Europe/Helsinki:20210418T170000
DTSTAMP:20260420T184238
CREATED:20210417T154536Z
LAST-MODIFIED:20210417T154536Z
UID:77503-1618732800-1618765200@klassikauto.pl
SUMMARY:Rozpoczęcie sezonu Częstochowski Ruch Klasyków
DESCRIPTION:
URL:https://klassikauto.pl/impreza/rozpoczecie-sezonu-czestochowski-ruch-klasykow-2/
LOCATION:online
CATEGORIES:Zlot
END:VEVENT
BEGIN:VEVENT
DTSTART;TZID=Europe/Helsinki:20210418T100000
DTEND;TZID=Europe/Helsinki:20210418T170000
DTSTAMP:20260420T184238
CREATED:20210417T154842Z
LAST-MODIFIED:20210417T155236Z
UID:77505-1618740000-1618765200@klassikauto.pl
SUMMARY:Rozpoczęcie Sezonu Pojazdów Zabytkowych 2021
DESCRIPTION:
URL:https://klassikauto.pl/impreza/rozpoczecie-sezonu-pojazdow-zabytkowych-2021/
LOCATION:Stalowa Wola\, Poland
CATEGORIES:Zlot
END:VEVENT
BEGIN:VEVENT
DTSTART;TZID=Europe/Helsinki:20210423T080000
DTEND;TZID=Europe/Helsinki:20210425T170000
DTSTAMP:20260420T184238
CREATED:20210209T181150Z
LAST-MODIFIED:20210209T181150Z
UID:76423-1619164800-1619370000@klassikauto.pl
SUMMARY:12th Grand Prix de Monaco Historique
DESCRIPTION:
URL:https://klassikauto.pl/impreza/12th-grand-prix-de-monaco-historique/
LOCATION:Monte Carlo\, Monaco
CATEGORIES:Rajd
END:VEVENT
BEGIN:VEVENT
DTSTART;TZID=Europe/Helsinki:20210423T080000
DTEND;TZID=Europe/Helsinki:20210425T170000
DTSTAMP:20260420T184238
CREATED:20210209T181337Z
LAST-MODIFIED:20210209T181337Z
UID:76425-1619164800-1619370000@klassikauto.pl
SUMMARY:Veterama
DESCRIPTION:
URL:https://klassikauto.pl/impreza/veterama-2/
LOCATION:Hockenheim\, Germany
CATEGORIES:Zlot
END:VEVENT
BEGIN:VEVENT
DTSTART;TZID=Europe/Helsinki:20210423T080000
DTEND;TZID=Europe/Helsinki:20210425T170000
DTSTAMP:20260420T184238
CREATED:20210209T181535Z
LAST-MODIFIED:20210209T181535Z
UID:76427-1619164800-1619370000@klassikauto.pl
SUMMARY:Alpe-Adria Classic Legends
DESCRIPTION:
URL:https://klassikauto.pl/impreza/alpe-adria-classic-legends/
LOCATION:Klagenfurth\, Niemcy
CATEGORIES:Zlot
END:VEVENT
BEGIN:VEVENT
DTSTART;TZID=Europe/Helsinki:20210423T140000
DTEND;TZID=Europe/Helsinki:20210423T180000
DTSTAMP:20260420T184238
CREATED:20210213T070159Z
LAST-MODIFIED:20210213T070159Z
UID:76529-1619186400-1619200800@klassikauto.pl
SUMMARY:Salon Auto Moto Classic Strasbourg
DESCRIPTION:www wydarzenia
URL:https://klassikauto.pl/impreza/salon-auto-moto-classic-strasbourg/
LOCATION:Strassburg\, Belgia
CATEGORIES:Targi
END:VEVENT
BEGIN:VEVENT
DTSTART;TZID=Europe/Helsinki:20210423T190000
DTEND;TZID=Europe/Helsinki:20210423T210000
DTSTAMP:20260420T184238
CREATED:20210417T115322Z
LAST-MODIFIED:20210417T115322Z
UID:77466-1619204400-1619211600@klassikauto.pl
SUMMARY:Pierwszy Spot Sądeckich Klasyków Nocą!!!
DESCRIPTION:
URL:https://klassikauto.pl/impreza/pierwszy-spot-sadeckich-klasykow-noca/
LOCATION:online
CATEGORIES:Zlot
END:VEVENT
BEGIN:VEVENT
DTSTART;TZID=Europe/Helsinki:20210424T080000
DTEND;TZID=Europe/Helsinki:20210424T170000
DTSTAMP:20260420T184238
CREATED:20210212T164001Z
LAST-MODIFIED:20210212T164001Z
UID:76477-1619251200-1619283600@klassikauto.pl
SUMMARY:Tradiční kladenská burza historických vozidel
DESCRIPTION:
URL:https://klassikauto.pl/impreza/tradicni-kladenska-burza-historickych-vozidel/
LOCATION:Kladno\, Velka Dobra\, Czechy
CATEGORIES:Aukcja
END:VEVENT
BEGIN:VEVENT
DTSTART;TZID=Europe/Helsinki:20210424T080000
DTEND;TZID=Europe/Helsinki:20210424T170000
DTSTAMP:20260420T184238
CREATED:20210212T164422Z
LAST-MODIFIED:20210212T164422Z
UID:76480-1619251200-1619283600@klassikauto.pl
SUMMARY:Cestujeme veteránem 250 let po cestách F.L.Věka
DESCRIPTION:
URL:https://klassikauto.pl/impreza/cestujeme-veteranem-250-let-po-cestach-f-l-veka/
LOCATION:Dobruska\, Czechy
CATEGORIES:Zlot
END:VEVENT
BEGIN:VEVENT
DTSTART;TZID=Europe/Helsinki:20210424T080000
DTEND;TZID=Europe/Helsinki:20210425T170000
DTSTAMP:20260420T184238
CREATED:20210209T182026Z
LAST-MODIFIED:20210209T182026Z
UID:76432-1619251200-1619370000@klassikauto.pl
SUMMARY:Grünewald Classics
DESCRIPTION:
URL:https://klassikauto.pl/impreza/grunewald-classics/
LOCATION:Solingen\, Niemcy
CATEGORIES:Zlot
END:VEVENT
BEGIN:VEVENT
DTSTART;TZID=Europe/Helsinki:20210424T090000
DTEND;TZID=Europe/Helsinki:20210424T200000
DTSTAMP:20260420T184238
CREATED:20210213T073233Z
LAST-MODIFIED:20210213T073233Z
UID:76545-1619254800-1619294400@klassikauto.pl
SUMMARY:IX Ogólnopolskie otwarcie sezonu motocyklowego Licheń 2021
DESCRIPTION:
URL:https://klassikauto.pl/impreza/ix-ogolnopolskie-otwarcie-sezonu-motocyklowego-lichen-2021/
LOCATION:Licheń
CATEGORIES:Zlot
END:VEVENT
BEGIN:VEVENT
DTSTART;TZID=Europe/Helsinki:20210424T093000
DTEND;TZID=Europe/Helsinki:20210424T170000
DTSTAMP:20260420T184238
CREATED:20210417T170605Z
LAST-MODIFIED:20210417T170904Z
UID:77552-1619256600-1619283600@klassikauto.pl
SUMMARY:START! Fiat 126p WAD/KRK
DESCRIPTION:
URL:https://klassikauto.pl/impreza/start-fiat-126p-wad-krk/
CATEGORIES:Rajd
END:VEVENT
BEGIN:VEVENT
DTSTART;TZID=Europe/Helsinki:20210424T100000
DTEND;TZID=Europe/Helsinki:20210424T170000
DTSTAMP:20260420T184238
CREATED:20210209T181737Z
LAST-MODIFIED:20210209T181903Z
UID:76430-1619258400-1619283600@klassikauto.pl
SUMMARY:Grand Veteran 2021
DESCRIPTION:
URL:https://klassikauto.pl/impreza/grand-veteran-2021/
LOCATION:Praga\, Czechy
CATEGORIES:Zlot
END:VEVENT
BEGIN:VEVENT
DTSTART;TZID=Europe/Helsinki:20210424T100000
DTEND;TZID=Europe/Helsinki:20210424T170000
DTSTAMP:20260420T184238
CREATED:20210417T164448Z
LAST-MODIFIED:20210417T164448Z
UID:77539-1619258400-1619283600@klassikauto.pl
SUMMARY:Rozpoczęcie sezonu grupy Wesołe Maluchy126p
DESCRIPTION:
URL:https://klassikauto.pl/impreza/rozpoczecie-sezonu-grupy-wesole-maluchy126p/
LOCATION:Glinki w Zielonce
CATEGORIES:Rajd
END:VEVENT
BEGIN:VEVENT
DTSTART;TZID=Europe/Helsinki:20210424T120000
DTEND;TZID=Europe/Helsinki:20210424T170000
DTSTAMP:20260420T184238
CREATED:20210417T154222Z
LAST-MODIFIED:20210417T154222Z
UID:77501-1619265600-1619283600@klassikauto.pl
SUMMARY:Start Sezonu 2021 wraz z III Urodzinami Amcary Trójmiasto
DESCRIPTION:
URL:https://klassikauto.pl/impreza/start-sezonu-2021-wraz-z-iii-urodzinami-amcary-trojmiasto/
LOCATION:Sopot
CATEGORIES:Zlot
END:VEVENT
END:VCALENDAR
<!-- RunCloud Hub 2026-04-20 17:42:38 -->