BEGIN:VCALENDAR
VERSION:2.0
PRODID:-//KlassikAuto.pl - ECPv6.7.0//NONSGML v1.0//EN
CALSCALE:GREGORIAN
METHOD:PUBLISH
X-ORIGINAL-URL:https://klassikauto.pl
X-WR-CALDESC:Wydarzenia dla KlassikAuto.pl
REFRESH-INTERVAL;VALUE=DURATION:PT1H
X-Robots-Tag:noindex
X-PUBLISHED-TTL:PT1H
BEGIN:VTIMEZONE
TZID:Europe/Helsinki
BEGIN:DAYLIGHT
TZOFFSETFROM:+0200
TZOFFSETTO:+0300
TZNAME:EEST
DTSTART:20200329T010000
END:DAYLIGHT
BEGIN:STANDARD
TZOFFSETFROM:+0300
TZOFFSETTO:+0200
TZNAME:EET
DTSTART:20201025T010000
END:STANDARD
END:VTIMEZONE
BEGIN:VEVENT
DTSTART;TZID=Europe/Helsinki:20200701T080000
DTEND;TZID=Europe/Helsinki:20200831T170000
DTSTAMP:20260423T181610
CREATED:20191117T075823Z
LAST-MODIFIED:20191117T075823Z
UID:70499-1593590400-1598893200@klassikauto.pl
SUMMARY:Sköda 125 Years
DESCRIPTION:
URL:https://klassikauto.pl/impreza/skoda-125-years/
LOCATION:Muzeum Autoworld\, Bruksela\, Belgia
CATEGORIES:Wystawa
END:VEVENT
BEGIN:VEVENT
DTSTART;TZID=Europe/Helsinki:20200826T080000
DTEND;TZID=Europe/Helsinki:20200829T170000
DTSTAMP:20260423T181610
CREATED:20200206T171233Z
LAST-MODIFIED:20200206T171233Z
UID:71586-1598428800-1598720400@klassikauto.pl
SUMMARY:IX Droga Kaszubska. Rajd Motocykli Zabytkowych do 1945r.
DESCRIPTION:
URL:https://klassikauto.pl/impreza/ix-droga-kaszubska-rajd-motocykli-zabytkowych-do-1945r/
LOCATION:Przywidz
CATEGORIES:Rajd
END:VEVENT
BEGIN:VEVENT
DTSTART;TZID=Europe/Helsinki:20200828T080000
DTEND;TZID=Europe/Helsinki:20200830T170000
DTSTAMP:20260423T181610
CREATED:20200407T171851Z
LAST-MODIFIED:20200407T171851Z
UID:72628-1598601600-1598806800@klassikauto.pl
SUMMARY:XXII. mezinárodní sraz motocyklů Čechie - Bohmerland
DESCRIPTION:
URL:https://klassikauto.pl/impreza/xxii-mezinarodni-sraz-motocyklu-cechie-bohmerland/
LOCATION:Krásná Lípa\, Czechy
CATEGORIES:Zlot
END:VEVENT
BEGIN:VEVENT
DTSTART;TZID=Europe/Helsinki:20200828T180000
DTEND;TZID=Europe/Helsinki:20200831T180000
DTSTAMP:20260423T181610
CREATED:20200206T191322Z
LAST-MODIFIED:20200206T191322Z
UID:71674-1598637600-1598896800@klassikauto.pl
SUMMARY:Auto Potop 2020 – zlot pojazdów zabytkowych w Szwecji
DESCRIPTION:
URL:https://klassikauto.pl/impreza/auto-potop-2020-zlot-pojazdow-zabytkowych-w-szwecji/
LOCATION:Gdynia
CATEGORIES:Zlot
END:VEVENT
BEGIN:VEVENT
DTSTART;TZID=Europe/Helsinki:20200829T073000
DTEND;TZID=Europe/Helsinki:20200829T170000
DTSTAMP:20260423T181610
CREATED:20200320T171614Z
LAST-MODIFIED:20200320T171614Z
UID:72181-1598686200-1598720400@klassikauto.pl
SUMMARY:Rajd bez klimy 2
DESCRIPTION:
URL:https://klassikauto.pl/impreza/rajd-bez-klimy-2/
LOCATION:Łódź
CATEGORIES:Rajd
END:VEVENT
BEGIN:VEVENT
DTSTART;TZID=Europe/Helsinki:20200829T080000
DTEND;TZID=Europe/Helsinki:20200829T120000
DTSTAMP:20260423T181610
CREATED:20200110T153343Z
LAST-MODIFIED:20200110T153343Z
UID:71208-1598688000-1598702400@klassikauto.pl
SUMMARY:XII Považskobystrický motocykel 2020
DESCRIPTION:
URL:https://klassikauto.pl/impreza/xii-povazskobystricky-motocykel-2020/
LOCATION:Powaska Bystrzyca\, Słowacja
CATEGORIES:Rajd
END:VEVENT
BEGIN:VEVENT
DTSTART;TZID=Europe/Helsinki:20200829T080000
DTEND;TZID=Europe/Helsinki:20200829T170000
DTSTAMP:20260423T181610
CREATED:20200818T094102Z
LAST-MODIFIED:20200818T094102Z
UID:74242-1598688000-1598720400@klassikauto.pl
SUMMARY:II Zlot Klasycznych Mustangów
DESCRIPTION:
URL:https://klassikauto.pl/impreza/ii-zlot-klasycznych-mustangow/
LOCATION:Warszawa
CATEGORIES:Zlot
END:VEVENT
BEGIN:VEVENT
DTSTART;TZID=Europe/Helsinki:20200829T080000
DTEND;TZID=Europe/Helsinki:20200830T170000
DTSTAMP:20260423T181610
CREATED:20200108T204837Z
LAST-MODIFIED:20200820T101033Z
UID:71113-1598688000-1598806800@klassikauto.pl
SUMMARY:Warsaw Oldtimer Show 2020
DESCRIPTION:
URL:https://klassikauto.pl/impreza/warsaw-oldtimer-show-2020/
LOCATION:Warszawa
CATEGORIES:Targi
END:VEVENT
BEGIN:VEVENT
DTSTART;TZID=Europe/Helsinki:20200829T080000
DTEND;TZID=Europe/Helsinki:20200830T170000
DTSTAMP:20260423T181610
CREATED:20200206T194443Z
LAST-MODIFIED:20200206T194443Z
UID:71690-1598688000-1598806800@klassikauto.pl
SUMMARY:III Motoryzacyjny Zlot Piastowski
DESCRIPTION:
URL:https://klassikauto.pl/impreza/iii-motoryzacyjny-zlot-piastowski/
LOCATION:Wołów
CATEGORIES:Zlot
END:VEVENT
BEGIN:VEVENT
DTSTART;TZID=Europe/Helsinki:20200829T080000
DTEND;TZID=Europe/Helsinki:20200830T170000
DTSTAMP:20260423T181610
CREATED:20200320T173815Z
LAST-MODIFIED:20200428T140550Z
UID:72199-1598688000-1598806800@klassikauto.pl
SUMMARY:IV Rajd Monte Lanckorona 2020
DESCRIPTION:
URL:https://klassikauto.pl/impreza/iv-rajd-monte-lanckorona-2020/
LOCATION:Lanckorona
CATEGORIES:Rajd
END:VEVENT
BEGIN:VEVENT
DTSTART;TZID=Europe/Helsinki:20200829T090000
DTEND;TZID=Europe/Helsinki:20200829T170000
DTSTAMP:20260423T181610
CREATED:20200818T085231Z
LAST-MODIFIED:20200818T085231Z
UID:74211-1598691600-1598720400@klassikauto.pl
SUMMARY:Rajd Czarny Jastrząb II
DESCRIPTION:
URL:https://klassikauto.pl/impreza/rajd-czarny-jastrzab-ii/
LOCATION:Jastrzębie Zdrój
CATEGORIES:Rajd
END:VEVENT
BEGIN:VEVENT
DTSTART;TZID=Europe/Helsinki:20200829T090000
DTEND;TZID=Europe/Helsinki:20200829T170000
DTSTAMP:20260423T181610
CREATED:20200818T093504Z
LAST-MODIFIED:20200818T093504Z
UID:74238-1598691600-1598720400@klassikauto.pl
SUMMARY:II Jakiś Rajd
DESCRIPTION:
URL:https://klassikauto.pl/impreza/ii-jakis-rajd/
LOCATION:Złotów
CATEGORIES:Rajd
END:VEVENT
BEGIN:VEVENT
DTSTART;TZID=Europe/Helsinki:20200829T140000
DTEND;TZID=Europe/Helsinki:20200829T190000
DTSTAMP:20260423T181610
CREATED:20200320T191049Z
LAST-MODIFIED:20200320T191049Z
UID:72222-1598709600-1598727600@klassikauto.pl
SUMMARY:III Moto Piknik Pojazdów Zabytkowych
DESCRIPTION:
URL:https://klassikauto.pl/impreza/iii-moto-piknik-pojazdow-zabytkowych/
LOCATION:Łaziska
CATEGORIES:Zlot
END:VEVENT
BEGIN:VEVENT
DTSTART;TZID=Europe/Helsinki:20200830T080000
DTEND;TZID=Europe/Helsinki:20200830T160000
DTSTAMP:20260423T181610
CREATED:20200206T160658Z
LAST-MODIFIED:20200206T160658Z
UID:71514-1598774400-1598803200@klassikauto.pl
SUMMARY:XI Classic Mania
DESCRIPTION:Zabytkowe Pojazdy Uprzywilejowane Radiowozy
URL:https://klassikauto.pl/impreza/xi-classic-mania/
LOCATION:Sosnowiec
CATEGORIES:Zlot
END:VEVENT
BEGIN:VEVENT
DTSTART;TZID=Europe/Helsinki:20200830T080000
DTEND;TZID=Europe/Helsinki:20200831T170000
DTSTAMP:20260423T181610
CREATED:20200210T174955Z
LAST-MODIFIED:20200818T093216Z
UID:71763-1598774400-1598893200@klassikauto.pl
SUMMARY:IV Wystawa Pojazdów Zabytkowych w Złotowie
DESCRIPTION:
URL:https://klassikauto.pl/impreza/ii-jakis-rajd-i-iv-wystawa-pojazdow-zabytkowych-w-zlotowie/
LOCATION:Złotów
CATEGORIES:Wystawa,Zlot
END:VEVENT
BEGIN:VEVENT
DTSTART;TZID=Europe/Helsinki:20200830T100000
DTEND;TZID=Europe/Helsinki:20200830T170000
DTSTAMP:20260423T181610
CREATED:20200206T191927Z
LAST-MODIFIED:20200206T191927Z
UID:71678-1598781600-1598806800@klassikauto.pl
SUMMARY:Zlot klasyków w Poznaniu
DESCRIPTION:
URL:https://klassikauto.pl/impreza/zlot-klasykow-w-poznaniu/
LOCATION:Poznań
CATEGORIES:Zlot
END:VEVENT
BEGIN:VEVENT
DTSTART;TZID=Europe/Helsinki:20200830T100000
DTEND;TZID=Europe/Helsinki:20200830T170000
DTSTAMP:20260423T181610
CREATED:20200322T101902Z
LAST-MODIFIED:20200322T101902Z
UID:72246-1598781600-1598806800@klassikauto.pl
SUMMARY:Zjazd fanów Car Audio w Poznaniu
DESCRIPTION:
URL:https://klassikauto.pl/impreza/zjazd-fanow-car-audio-w-poznaniu/
LOCATION:Poznań
CATEGORIES:Zlot
END:VEVENT
BEGIN:VEVENT
DTSTART;TZID=Europe/Helsinki:20200830T120000
DTEND;TZID=Europe/Helsinki:20200830T200000
DTSTAMP:20260423T181610
CREATED:20200206T180151Z
LAST-MODIFIED:20200206T180151Z
UID:71627-1598788800-1598817600@klassikauto.pl
SUMMARY:X Jubileuszowy Zlot Pojazdów Zabytkowych 2020
DESCRIPTION:
URL:https://klassikauto.pl/impreza/x-jubileuszowy-zlot-pojazdow-zabytkowych-2020/
LOCATION:Mielec
CATEGORIES:Zlot
END:VEVENT
BEGIN:VEVENT
DTSTART;TZID=Europe/Helsinki:20200902T080000
DTEND;TZID=Europe/Helsinki:20200902T170000
DTSTAMP:20260423T181610
CREATED:20200823T094621Z
LAST-MODIFIED:20200823T094621Z
UID:74341-1599033600-1599066000@klassikauto.pl
SUMMARY:Vol.5 - Bydgoskie Klasyki Nocą
DESCRIPTION:
URL:https://klassikauto.pl/impreza/vol-5-bydgoskie-klasyki-noca/
LOCATION:Bydgoszcz
CATEGORIES:Zlot
END:VEVENT
BEGIN:VEVENT
DTSTART;TZID=Europe/Helsinki:20200903T120000
DTEND;TZID=Europe/Helsinki:20200906T120000
DTSTAMP:20260423T181610
CREATED:20200322T103903Z
LAST-MODIFIED:20200322T103903Z
UID:72260-1599134400-1599393600@klassikauto.pl
SUMMARY:VI Ogólnopolski Zjazd VolvoRWD.pl
DESCRIPTION:
URL:https://klassikauto.pl/impreza/vi-ogolnopolski-zjazd-volvorwd-pl/
LOCATION:Ślesin
CATEGORIES:Zlot
END:VEVENT
BEGIN:VEVENT
DTSTART;TZID=Europe/Helsinki:20200904T080000
DTEND;TZID=Europe/Helsinki:20200906T170000
DTSTAMP:20260423T181610
CREATED:20200108T165939Z
LAST-MODIFIED:20200407T180902Z
UID:71053-1599206400-1599411600@klassikauto.pl
SUMMARY:II Turystyczny Rajd MINI
DESCRIPTION:W obliczu pandemii koronawirusa COVID-19\, sytuacja stała się na tyle poważna\, że decyzja o przesunięciu terminu „II – go Turystycznego Rajdu MIN” jest najlepszym z możliwych rozwiązań. Podjąłem decyzję o przeniesieniu terminu na wrzesień. Nowy termin Rajdu to 4-6 września 2020 r. Wierzę w zrozumienie i w to\, że wszyscy będziemy mogli spotkać się na Rajdzie we wrześniu. Mam także\, nadzieję\, że nasze wcześniejsze ustalenia pozostaną bez zmian. Życzę zdrowia i do zobaczenia!
URL:https://klassikauto.pl/impreza/ii-turystyczny-rajd-mini/
LOCATION:Istebna
CATEGORIES:Rajd
END:VEVENT
BEGIN:VEVENT
DTSTART;TZID=Europe/Helsinki:20200904T080000
DTEND;TZID=Europe/Helsinki:20200906T170000
DTSTAMP:20260423T181610
CREATED:20200407T171713Z
LAST-MODIFIED:20200407T171713Z
UID:72626-1599206400-1599411600@klassikauto.pl
SUMMARY:51. ročník Mezinárodní Tatra veterán rallye Beskydy 2020
DESCRIPTION:
URL:https://klassikauto.pl/impreza/51-rocnik-mezinarodni-tatra-veteran-rallye-beskydy-2020/
LOCATION:Koprivnice\, Czechy
CATEGORIES:Rajd
END:VEVENT
BEGIN:VEVENT
DTSTART;TZID=Europe/Helsinki:20200904T080000
DTEND;TZID=Europe/Helsinki:20200906T170000
DTSTAMP:20260423T181610
CREATED:20200818T085952Z
LAST-MODIFIED:20200818T085952Z
UID:74216-1599206400-1599411600@klassikauto.pl
SUMMARY:I Zlot Kamperów na MotoLegends 2020
DESCRIPTION:
URL:https://klassikauto.pl/impreza/i-zlot-kamperow-na-motolegends-2020/
LOCATION:Sosnowiec
CATEGORIES:Zlot
END:VEVENT
BEGIN:VEVENT
DTSTART;TZID=Europe/Helsinki:20200904T080000
DTEND;TZID=Europe/Helsinki:20200906T170000
DTSTAMP:20260423T181610
CREATED:20200823T092549Z
LAST-MODIFIED:20200823T092549Z
UID:74335-1599206400-1599411600@klassikauto.pl
SUMMARY:4 Ogólnopolski Zlot "Skodomania"
DESCRIPTION:
URL:https://klassikauto.pl/impreza/4-ogolnopolski-zlot-skodomania/
LOCATION:Sielpia Wielka
CATEGORIES:Zlot
END:VEVENT
BEGIN:VEVENT
DTSTART;TZID=Europe/Helsinki:20200904T080000
DTEND;TZID=Europe/Helsinki:20200906T170000
DTSTAMP:20260423T181610
CREATED:20200823T124848Z
LAST-MODIFIED:20200823T124848Z
UID:74348-1599206400-1599411600@klassikauto.pl
SUMMARY:XIII Zlot Motocyklowy MKM Junak
DESCRIPTION:
URL:https://klassikauto.pl/impreza/xiii-zlot-motocyklowy-mkm-junak/
LOCATION:Sieraków
CATEGORIES:Zlot
END:VEVENT
BEGIN:VEVENT
DTSTART;TZID=Europe/Helsinki:20200904T080000
DTEND;TZID=Europe/Helsinki:20200906T170000
DTSTAMP:20260423T181610
CREATED:20200823T125229Z
LAST-MODIFIED:20200823T125229Z
UID:74351-1599206400-1599411600@klassikauto.pl
SUMMARY:Ponadpodziałowy Zlot Motocyklowy - Przesieka 2020
DESCRIPTION:
URL:https://klassikauto.pl/impreza/ponadpodzialowy-zlot-motocyklowy-przesieka-2020/
LOCATION:Podgórzyn
CATEGORIES:Zlot
END:VEVENT
BEGIN:VEVENT
DTSTART;TZID=Europe/Helsinki:20200904T080000
DTEND;TZID=Europe/Helsinki:20200906T170000
DTSTAMP:20260423T181610
CREATED:20200823T125439Z
LAST-MODIFIED:20200823T125439Z
UID:74354-1599206400-1599411600@klassikauto.pl
SUMMARY:Wyprawa CABRIO POLAND Wataha w Bieszczadach
DESCRIPTION:
URL:https://klassikauto.pl/impreza/wyprawa-cabrio-poland-wataha-w-bieszczadach/
CATEGORIES:Zlot
END:VEVENT
BEGIN:VEVENT
DTSTART;TZID=Europe/Helsinki:20200904T150000
DTEND;TZID=Europe/Helsinki:20200906T120000
DTSTAMP:20260423T181610
CREATED:20200823T095227Z
LAST-MODIFIED:20200823T095227Z
UID:74345-1599231600-1599393600@klassikauto.pl
SUMMARY:X Wrangleriada
DESCRIPTION:
URL:https://klassikauto.pl/impreza/x-wrangleriada/
LOCATION:Kliczków
CATEGORIES:Zlot
END:VEVENT
BEGIN:VEVENT
DTSTART;TZID=Europe/Helsinki:20200904T150000
DTEND;TZID=Europe/Helsinki:20200906T170000
DTSTAMP:20260423T181610
CREATED:20200818T092504Z
LAST-MODIFIED:20200818T092504Z
UID:74232-1599231600-1599411600@klassikauto.pl
SUMMARY:XVIII TrabiEXPO
DESCRIPTION:
URL:https://klassikauto.pl/impreza/xviii-trabiexpo/
LOCATION:Gdów
CATEGORIES:Zlot
END:VEVENT
BEGIN:VEVENT
DTSTART;TZID=Europe/Helsinki:20200904T170000
DTEND;TZID=Europe/Helsinki:20200906T130000
DTSTAMP:20260423T181610
CREATED:20200110T164041Z
LAST-MODIFIED:20200511T165629Z
UID:71230-1599238800-1599397200@klassikauto.pl
SUMMARY:X Zlot Aut Amerykańskich i Zabytkowych
DESCRIPTION:
URL:https://klassikauto.pl/impreza/x-zlot-aut-amerykanskich-i-zabytkowych/
LOCATION:Bożejewice
CATEGORIES:Zlot
END:VEVENT
END:VCALENDAR
<!-- RunCloud Hub 2026-04-23 17:16:10 -->