BEGIN:VCALENDAR
VERSION:2.0
PRODID:-//KlassikAuto.pl - ECPv6.7.0//NONSGML v1.0//EN
CALSCALE:GREGORIAN
METHOD:PUBLISH
X-ORIGINAL-URL:https://klassikauto.pl
X-WR-CALDESC:Wydarzenia dla KlassikAuto.pl
REFRESH-INTERVAL;VALUE=DURATION:PT1H
X-Robots-Tag:noindex
X-PUBLISHED-TTL:PT1H
BEGIN:VTIMEZONE
TZID:Europe/Helsinki
BEGIN:DAYLIGHT
TZOFFSETFROM:+0200
TZOFFSETTO:+0300
TZNAME:EEST
DTSTART:20200329T010000
END:DAYLIGHT
BEGIN:STANDARD
TZOFFSETFROM:+0300
TZOFFSETTO:+0200
TZNAME:EET
DTSTART:20201025T010000
END:STANDARD
END:VTIMEZONE
BEGIN:VEVENT
DTSTART;TZID=Europe/Helsinki:20200701T080000
DTEND;TZID=Europe/Helsinki:20200831T170000
DTSTAMP:20260423T201914
CREATED:20191117T075823Z
LAST-MODIFIED:20191117T075823Z
UID:70499-1593590400-1598893200@klassikauto.pl
SUMMARY:Sköda 125 Years
DESCRIPTION:
URL:https://klassikauto.pl/impreza/skoda-125-years/
LOCATION:Muzeum Autoworld\, Bruksela\, Belgia
CATEGORIES:Wystawa
END:VEVENT
BEGIN:VEVENT
DTSTART;TZID=Europe/Helsinki:20200709T080000
DTEND;TZID=Europe/Helsinki:20200712T170000
DTSTAMP:20260423T201914
CREATED:20200322T131549Z
LAST-MODIFIED:20200322T131549Z
UID:72325-1594281600-1594573200@klassikauto.pl
SUMMARY:Zlot Zabytkowych Pojazdów Pożarniczych „Operacja Karlino `20"
DESCRIPTION:
URL:https://klassikauto.pl/impreza/zlot-zabytkowych-pojazdow-pozarniczych-operacja-karlino-20/
LOCATION:Karlino
CATEGORIES:Zlot
END:VEVENT
BEGIN:VEVENT
DTSTART;TZID=Europe/Helsinki:20200717T113000
DTEND;TZID=Europe/Helsinki:20200718T180000
DTSTAMP:20260423T201914
CREATED:20200322T131847Z
LAST-MODIFIED:20200322T131847Z
UID:72327-1594985400-1595095200@klassikauto.pl
SUMMARY:Zlot Weteranów Szos - Historia na kołach 2020
DESCRIPTION:
URL:https://klassikauto.pl/impreza/zlot-weteranow-szos-historia-na-kolach-2020/
LOCATION:Starogard Gdański
CATEGORIES:Zlot
END:VEVENT
BEGIN:VEVENT
DTSTART;TZID=Europe/Helsinki:20200717T140000
DTEND;TZID=Europe/Helsinki:20200719T150000
DTSTAMP:20260423T201914
CREATED:20200322T102715Z
LAST-MODIFIED:20200322T102715Z
UID:72252-1594994400-1595170800@klassikauto.pl
SUMMARY:VIII Skalny Zlot Motocyklowy w Myszkowie
DESCRIPTION:
URL:https://klassikauto.pl/impreza/viii-skalny-zlot-motocyklowy-w-myszkowie/
LOCATION:Myszków
CATEGORIES:Zlot
END:VEVENT
BEGIN:VEVENT
DTSTART;TZID=Europe/Helsinki:20200718T080000
DTEND;TZID=Europe/Helsinki:20200718T160000
DTSTAMP:20260423T201914
CREATED:20200322T115525Z
LAST-MODIFIED:20200322T115525Z
UID:72305-1595059200-1595088000@klassikauto.pl
SUMMARY:X. Chebská veterán rallye
DESCRIPTION:
URL:https://klassikauto.pl/impreza/x-chebska-veteran-rallye/
LOCATION:Cheb\, Czechy
CATEGORIES:Rajd
END:VEVENT
BEGIN:VEVENT
DTSTART;TZID=Europe/Helsinki:20200718T080000
DTEND;TZID=Europe/Helsinki:20200718T170000
DTSTAMP:20260423T201914
CREATED:20191117T074247Z
LAST-MODIFIED:20200320T174250Z
UID:70491-1595059200-1595091600@klassikauto.pl
SUMMARY:MOTO SHOW Bielsko-Biała
DESCRIPTION:
URL:https://klassikauto.pl/impreza/moto-show-bielsko-biala/
LOCATION:Bielsko-Biała
CATEGORIES:Targi
END:VEVENT
BEGIN:VEVENT
DTSTART;TZID=Europe/Helsinki:20200718T080000
DTEND;TZID=Europe/Helsinki:20200718T170000
DTSTAMP:20260423T201914
CREATED:20200206T175733Z
LAST-MODIFIED:20200206T175733Z
UID:71623-1595059200-1595091600@klassikauto.pl
SUMMARY:Auto Moto Fest 3
DESCRIPTION:
URL:https://klassikauto.pl/impreza/auto-moto-fest-3/
LOCATION:Teresin
CATEGORIES:Zlot
END:VEVENT
BEGIN:VEVENT
DTSTART;TZID=Europe/Helsinki:20200718T080000
DTEND;TZID=Europe/Helsinki:20200718T170000
DTSTAMP:20260423T201914
CREATED:20200407T164418Z
LAST-MODIFIED:20200407T164418Z
UID:72593-1595059200-1595091600@klassikauto.pl
SUMMARY:Ústecká veterán rallye
DESCRIPTION:
URL:https://klassikauto.pl/impreza/ustecka-veteran-rallye/
LOCATION:Usti nad Labem\, Czechy
CATEGORIES:Rajd
END:VEVENT
BEGIN:VEVENT
DTSTART;TZID=Europe/Helsinki:20200718T090000
DTEND;TZID=Europe/Helsinki:20200718T180000
DTSTAMP:20260423T201914
CREATED:20200110T153843Z
LAST-MODIFIED:20200110T153843Z
UID:71214-1595062800-1595095200@klassikauto.pl
SUMMARY:Máme radi autá 2020
DESCRIPTION:
URL:https://klassikauto.pl/impreza/mame-radi-auta-2020/
LOCATION:Komarno\, Słowacja
CATEGORIES:Zlot
END:VEVENT
BEGIN:VEVENT
DTSTART;TZID=Europe/Helsinki:20200718T100000
DTEND;TZID=Europe/Helsinki:20200719T190000
DTSTAMP:20260423T201914
CREATED:20200320T172308Z
LAST-MODIFIED:20200320T172308Z
UID:72188-1595066400-1595185200@klassikauto.pl
SUMMARY:Zlot Pojazdów Zabytkowych
DESCRIPTION:Wydarzenie w ramach Moto Show Bielsko-Biała
URL:https://klassikauto.pl/impreza/zlot-pojazdow-zabytkowych-2/
LOCATION:Bielsko-Biała
CATEGORIES:Rajd
END:VEVENT
BEGIN:VEVENT
DTSTART;TZID=Europe/Helsinki:20200719T120000
DTEND;TZID=Europe/Helsinki:20200719T170000
DTSTAMP:20260423T201914
CREATED:20200206T162819Z
LAST-MODIFIED:20200206T162819Z
UID:71527-1595160000-1595178000@klassikauto.pl
SUMMARY:IV Rajd Klasyków
DESCRIPTION:
URL:https://klassikauto.pl/impreza/iv-rajd-klasykow/
LOCATION:Proszowice
CATEGORIES:Rajd
END:VEVENT
BEGIN:VEVENT
DTSTART;TZID=Europe/Helsinki:20200722T080000
DTEND;TZID=Europe/Helsinki:20200725T170000
DTSTAMP:20260423T201914
CREATED:20200108T173431Z
LAST-MODIFIED:20200108T173431Z
UID:71090-1595404800-1595696400@klassikauto.pl
SUMMARY:Ennstal-Classic 2020
DESCRIPTION:
URL:https://klassikauto.pl/impreza/ennstal-classic-2020/
LOCATION:Grobming\, Austria
CATEGORIES:Rajd
END:VEVENT
BEGIN:VEVENT
DTSTART;TZID=Europe/Helsinki:20200724T080000
DTEND;TZID=Europe/Helsinki:20200726T170000
DTSTAMP:20260423T201914
CREATED:20200108T172704Z
LAST-MODIFIED:20200108T172704Z
UID:71087-1595577600-1595782800@klassikauto.pl
SUMMARY:7. Dinotreffen
DESCRIPTION:
URL:https://klassikauto.pl/impreza/7-dinotreffen/
LOCATION:Fürstenau\, Niemcy
CATEGORIES:Zlot
END:VEVENT
BEGIN:VEVENT
DTSTART;TZID=Europe/Helsinki:20200724T160000
DTEND;TZID=Europe/Helsinki:20200726T120000
DTSTAMP:20260423T201914
CREATED:20200206T193328Z
LAST-MODIFIED:20200206T193328Z
UID:71684-1595606400-1595764800@klassikauto.pl
SUMMARY:12 Zlot GarBusów Garborbanie
DESCRIPTION:
URL:https://klassikauto.pl/impreza/12-zlot-garbusow-garborbanie/
LOCATION:Zielona Góra
CATEGORIES:Zlot
END:VEVENT
BEGIN:VEVENT
DTSTART;TZID=Europe/Helsinki:20200725T080000
DTEND;TZID=Europe/Helsinki:20200725T170000
DTSTAMP:20260423T201914
CREATED:20200407T164558Z
LAST-MODIFIED:20200407T164558Z
UID:72596-1595664000-1595696400@klassikauto.pl
SUMMARY:Chotusice - burza historických vozidel\, dílů a starožitností
DESCRIPTION:
URL:https://klassikauto.pl/impreza/chotusice-burza-historickych-vozidel-dilu-a-starozitnosti/
LOCATION:Chotusice u Čáslavi\, Czechy
CATEGORIES:Aukcja
END:VEVENT
BEGIN:VEVENT
DTSTART;TZID=Europe/Helsinki:20200725T080000
DTEND;TZID=Europe/Helsinki:20200725T170000
DTSTAMP:20260423T201914
CREATED:20200407T164848Z
LAST-MODIFIED:20200407T164848Z
UID:72599-1595664000-1595696400@klassikauto.pl
SUMMARY:Veterán rallye Vrbno
DESCRIPTION:
URL:https://klassikauto.pl/impreza/veteran-rallye-vrbno/
LOCATION:Vrbno pod Pradědem\, Czechy
CATEGORIES:Rajd
END:VEVENT
BEGIN:VEVENT
DTSTART;TZID=Europe/Helsinki:20200725T080000
DTEND;TZID=Europe/Helsinki:20200725T170000
DTSTAMP:20260423T201914
CREATED:20200407T165314Z
LAST-MODIFIED:20200407T165314Z
UID:72605-1595664000-1595696400@klassikauto.pl
SUMMARY:Adamovské Jazerá 2020
DESCRIPTION:
URL:https://klassikauto.pl/impreza/adamovske-jazera-2020/
LOCATION:Adamov\, Czechy
CATEGORIES:Zlot
END:VEVENT
BEGIN:VEVENT
DTSTART;TZID=Europe/Helsinki:20200725T100000
DTEND;TZID=Europe/Helsinki:20200725T170000
DTSTAMP:20260423T201914
CREATED:20200210T175350Z
LAST-MODIFIED:20200210T175350Z
UID:71766-1595671200-1595696400@klassikauto.pl
SUMMARY:Cafe Racer Sprint
DESCRIPTION:
URL:https://klassikauto.pl/impreza/cafe-racer-sprint/
LOCATION:Człuchów
CATEGORIES:Rajd
END:VEVENT
BEGIN:VEVENT
DTSTART;TZID=Europe/Helsinki:20200726T120000
DTEND;TZID=Europe/Helsinki:20200726T160000
DTSTAMP:20260423T201914
CREATED:20200320T182337Z
LAST-MODIFIED:20200320T182337Z
UID:72213-1595764800-1595779200@klassikauto.pl
SUMMARY:Přehlídka veteránů
DESCRIPTION:
URL:https://klassikauto.pl/impreza/prehlidka-veteranu/
LOCATION:Adrspach\, Czechy
CATEGORIES:Zlot
END:VEVENT
BEGIN:VEVENT
DTSTART;TZID=Europe/Helsinki:20200731T080000
DTEND;TZID=Europe/Helsinki:20200802T170000
DTSTAMP:20260423T201914
CREATED:20200110T153613Z
LAST-MODIFIED:20200110T153613Z
UID:71210-1596182400-1596387600@klassikauto.pl
SUMMARY:Retroopekačka 2020 - Stretnutie majiteľov veteránov
DESCRIPTION:
URL:https://klassikauto.pl/impreza/retroopekacka-2020-stretnutie-majitelov-veteranov/
LOCATION:Mošovce\, Słowacja
CATEGORIES:Zlot
END:VEVENT
BEGIN:VEVENT
DTSTART;TZID=Europe/Helsinki:20200731T080000
DTEND;TZID=Europe/Helsinki:20200802T170000
DTSTAMP:20260423T201914
CREATED:20200110T165939Z
LAST-MODIFIED:20200110T165939Z
UID:71233-1596182400-1596387600@klassikauto.pl
SUMMARY:Amcars River Bank Mikoszewo
DESCRIPTION:
URL:https://klassikauto.pl/impreza/amcars-river-bank-mikoszewo/
LOCATION:Mikoszewo
CATEGORIES:Zlot
END:VEVENT
BEGIN:VEVENT
DTSTART;TZID=Europe/Helsinki:20200731T160000
DTEND;TZID=Europe/Helsinki:20200801T170000
DTSTAMP:20260423T201914
CREATED:20200110T154313Z
LAST-MODIFIED:20200110T154313Z
UID:71217-1596211200-1596301200@klassikauto.pl
SUMMARY:Lada Meeting 2020
DESCRIPTION:
URL:https://klassikauto.pl/impreza/lada-meeting-2020/
LOCATION:Duchonka\, Słowacja
CATEGORIES:Zlot
END:VEVENT
BEGIN:VEVENT
DTSTART;TZID=Europe/Helsinki:20200801T080000
DTEND;TZID=Europe/Helsinki:20200801T170000
DTSTAMP:20260423T201914
CREATED:20200407T170618Z
LAST-MODIFIED:20200407T170618Z
UID:72608-1596268800-1596301200@klassikauto.pl
SUMMARY:Tatra sraz Lednice 2020
DESCRIPTION:
URL:https://klassikauto.pl/impreza/tatra-sraz-lednice-2020/
LOCATION:Lednice\, Czechy
CATEGORIES:Zlot
END:VEVENT
BEGIN:VEVENT
DTSTART;TZID=Europe/Helsinki:20200805T080000
DTEND;TZID=Europe/Helsinki:20200809T170000
DTSTAMP:20260423T201914
CREATED:20200210T175559Z
LAST-MODIFIED:20200210T175559Z
UID:71769-1596614400-1596992400@klassikauto.pl
SUMMARY:17. Międzynarodowy Zlot Klubów Citroena ICCCR2020
DESCRIPTION:
URL:https://klassikauto.pl/impreza/17-miedzynarodowy-zlot-klubow-citroena-icccr2020/
LOCATION:Toruń
CATEGORIES:Zlot
END:VEVENT
BEGIN:VEVENT
DTSTART;TZID=Europe/Helsinki:20200807T080000
DTEND;TZID=Europe/Helsinki:20200809T170000
DTSTAMP:20260423T201914
CREATED:20200322T130341Z
LAST-MODIFIED:20200322T130341Z
UID:72318-1596787200-1596992400@klassikauto.pl
SUMMARY:AvD-Oldtimer-Grand-Prix
DESCRIPTION:
URL:https://klassikauto.pl/impreza/avd-oldtimer-grand-prix/
LOCATION:Nuerburgring\, Niemcy
CATEGORIES:Rajd
END:VEVENT
BEGIN:VEVENT
DTSTART;TZID=Europe/Helsinki:20200807T080000
DTEND;TZID=Europe/Helsinki:20200809T170000
DTSTAMP:20260423T201914
CREATED:20200407T170749Z
LAST-MODIFIED:20200407T170749Z
UID:72611-1596787200-1596992400@klassikauto.pl
SUMMARY:2.ročník sokolovské Soutěže elegance hist. vozidel
DESCRIPTION:
URL:https://klassikauto.pl/impreza/2-rocnik-sokolovske-souteze-elegance-hist-vozidel/
LOCATION:Sokolov\, Czechy
CATEGORIES:Zlot
END:VEVENT
BEGIN:VEVENT
DTSTART;TZID=Europe/Helsinki:20200807T120000
DTEND;TZID=Europe/Helsinki:20200809T120000
DTSTAMP:20260423T201914
CREATED:20200206T193530Z
LAST-MODIFIED:20200206T193530Z
UID:71686-1596801600-1596974400@klassikauto.pl
SUMMARY:II Zlot VW Gar Bus
DESCRIPTION:
URL:https://klassikauto.pl/impreza/ii-zlot-vw-gar-bus/
LOCATION:Ciechanów
CATEGORIES:Zlot
END:VEVENT
BEGIN:VEVENT
DTSTART;TZID=Europe/Helsinki:20200808T080000
DTEND;TZID=Europe/Helsinki:20200808T170000
DTSTAMP:20260423T201914
CREATED:20200407T170936Z
LAST-MODIFIED:20200407T170936Z
UID:72614-1596873600-1596906000@klassikauto.pl
SUMMARY:XV.Memoriál Fr. Proseckého sen.
DESCRIPTION:
URL:https://klassikauto.pl/impreza/xv-memorial-fr-proseckeho-sen/
LOCATION:Bystřice nad Pernštejnem\, Czechy
CATEGORIES:Zlot
END:VEVENT
BEGIN:VEVENT
DTSTART;TZID=Europe/Helsinki:20200808T090000
DTEND;TZID=Europe/Helsinki:20200809T173000
DTSTAMP:20260423T201914
CREATED:20200206T161412Z
LAST-MODIFIED:20200505T173442Z
UID:71519-1596877200-1596994200@klassikauto.pl
SUMMARY:XII Zlot Pojazdów Zabytkowych "Retro"
DESCRIPTION:IMPREZA ODWOŁANA \ninfo : zlotretro@interia.pl lub telef. Urszula 503-018-320 Jacek 501-786-907
URL:https://klassikauto.pl/impreza/xii-zlot-pojazdow-zabytkowych-retro/
LOCATION:Rytro
CATEGORIES:Zlot
END:VEVENT
BEGIN:VEVENT
DTSTART;TZID=Europe/Helsinki:20200809T080000
DTEND;TZID=Europe/Helsinki:20200809T170000
DTSTAMP:20260423T201915
CREATED:20200407T171047Z
LAST-MODIFIED:20200407T171047Z
UID:72617-1596960000-1596992400@klassikauto.pl
SUMMARY:Auto-moto-burza Valy
DESCRIPTION:
URL:https://klassikauto.pl/impreza/auto-moto-burza-valy-6/
LOCATION:Valy u Přelouče\, Czechy
CATEGORIES:Aukcja
END:VEVENT
END:VCALENDAR
<!-- RunCloud Hub 2026-04-23 19:19:15 -->