BEGIN:VCALENDAR
VERSION:2.0
PRODID:-//KlassikAuto.pl - ECPv6.7.0//NONSGML v1.0//EN
CALSCALE:GREGORIAN
METHOD:PUBLISH
X-ORIGINAL-URL:https://klassikauto.pl
X-WR-CALDESC:Wydarzenia dla KlassikAuto.pl
REFRESH-INTERVAL;VALUE=DURATION:PT1H
X-Robots-Tag:noindex
X-PUBLISHED-TTL:PT1H
BEGIN:VTIMEZONE
TZID:Europe/Helsinki
BEGIN:DAYLIGHT
TZOFFSETFROM:+0200
TZOFFSETTO:+0300
TZNAME:EEST
DTSTART:20200329T010000
END:DAYLIGHT
BEGIN:STANDARD
TZOFFSETFROM:+0300
TZOFFSETTO:+0200
TZNAME:EET
DTSTART:20201025T010000
END:STANDARD
END:VTIMEZONE
BEGIN:VEVENT
DTSTART;TZID=Europe/Helsinki:20200418T090000
DTEND;TZID=Europe/Helsinki:20200630T120000
DTSTAMP:20260423T201731
CREATED:20200206T190439Z
LAST-MODIFIED:20200206T190439Z
UID:71666-1587200400-1593518400@klassikauto.pl
SUMMARY:VIII Rajd Autosana
DESCRIPTION:
URL:https://klassikauto.pl/impreza/viii-rajd-autosana/
LOCATION:Pomorze
CATEGORIES:Rajd
END:VEVENT
BEGIN:VEVENT
DTSTART;TZID=Europe/Helsinki:20200619T150000
DTEND;TZID=Europe/Helsinki:20200621T120000
DTSTAMP:20260423T201731
CREATED:20200206T192446Z
LAST-MODIFIED:20200206T192446Z
UID:71680-1592578800-1592740800@klassikauto.pl
SUMMARY:XX Jubileuszowy Zlot VW Garbusa & Co
DESCRIPTION:
URL:https://klassikauto.pl/impreza/xx-jubileuszowy-zlot-vw-garbusa-co/
LOCATION:Przybrodzin
CATEGORIES:Zlot
END:VEVENT
BEGIN:VEVENT
DTSTART;TZID=Europe/Helsinki:20200621T080000
DTEND;TZID=Europe/Helsinki:20200621T170000
DTSTAMP:20260423T201731
CREATED:20200108T213642Z
LAST-MODIFIED:20200108T213642Z
UID:71152-1592726400-1592758800@klassikauto.pl
SUMMARY:Oldtimerbazar
DESCRIPTION:
URL:https://klassikauto.pl/impreza/oldtimerbazar-23/
LOCATION:Wrocław\, Wrocław\, Poland
CATEGORIES:Aukcja
END:VEVENT
BEGIN:VEVENT
DTSTART;TZID=Europe/Helsinki:20200621T080000
DTEND;TZID=Europe/Helsinki:20200621T170000
DTSTAMP:20260423T201731
CREATED:20200320T192400Z
LAST-MODIFIED:20200320T192400Z
UID:72230-1592726400-1592758800@klassikauto.pl
SUMMARY:Zlot Weteranów Szos Koźminek 2020
DESCRIPTION:
URL:https://klassikauto.pl/impreza/zlot-weteranow-szos-kozminek-2020/
LOCATION:Koźminek
CATEGORIES:Zlot
END:VEVENT
BEGIN:VEVENT
DTSTART;TZID=Europe/Helsinki:20200621T080000
DTEND;TZID=Europe/Helsinki:20200621T170000
DTSTAMP:20260423T201731
CREATED:20200407T163441Z
LAST-MODIFIED:20200407T163441Z
UID:72584-1592726400-1592758800@klassikauto.pl
SUMMARY:Klatovská auto-moto-burza
DESCRIPTION:
URL:https://klassikauto.pl/impreza/klatovska-auto-moto-burza/
LOCATION:Klatovy\, Czechy
CATEGORIES:Aukcja
END:VEVENT
BEGIN:VEVENT
DTSTART;TZID=Europe/Helsinki:20200621T093000
DTEND;TZID=Europe/Helsinki:20200621T220000
DTSTAMP:20260423T201731
CREATED:20200206T180411Z
LAST-MODIFIED:20200206T180411Z
UID:71629-1592731800-1592776800@klassikauto.pl
SUMMARY:Międzynarodowy Zlot Pojazdów Zabytkowych
DESCRIPTION:
URL:https://klassikauto.pl/impreza/miedzynarodowy-zlot-pojazdow-zabytkowych/
LOCATION:Głuchołazy Zdrój
CATEGORIES:Zlot
END:VEVENT
BEGIN:VEVENT
DTSTART;TZID=Europe/Helsinki:20200621T100000
DTEND;TZID=Europe/Helsinki:20200621T140000
DTSTAMP:20260423T201731
CREATED:20200110T152836Z
LAST-MODIFIED:20200110T152836Z
UID:71200-1592733600-1592748000@klassikauto.pl
SUMMARY:Giełda Modeli Samochodowych
DESCRIPTION:
URL:https://klassikauto.pl/impreza/gielda-modeli-samochodowych-2/
LOCATION:Warszawa
CATEGORIES:Aukcja
END:VEVENT
BEGIN:VEVENT
DTSTART;TZID=Europe/Helsinki:20200621T120000
DTEND;TZID=Europe/Helsinki:20200621T180000
DTSTAMP:20260423T201731
CREATED:20200108T212143Z
LAST-MODIFIED:20200108T212143Z
UID:71139-1592740800-1592762400@klassikauto.pl
SUMMARY:Wehikuł Czasu 2020
DESCRIPTION:
URL:https://klassikauto.pl/impreza/wehikul-czasu-2020/
LOCATION:Pilzno
CATEGORIES:Zlot
END:VEVENT
BEGIN:VEVENT
DTSTART;TZID=Europe/Helsinki:20200625T130000
DTEND;TZID=Europe/Helsinki:20200701T120000
DTSTAMP:20260423T201731
CREATED:20200110T162836Z
LAST-MODIFIED:20200110T162836Z
UID:71226-1593090000-1593604800@klassikauto.pl
SUMMARY:Gran Turismo Polonia 2020
DESCRIPTION:
URL:https://klassikauto.pl/impreza/gran-turismo-polonia-2020/
LOCATION:Wrocław\, Wrocław\, Poland
CATEGORIES:Rajd
END:VEVENT
BEGIN:VEVENT
DTSTART;TZID=Europe/Helsinki:20200626T080000
DTEND;TZID=Europe/Helsinki:20200628T170000
DTSTAMP:20260423T201731
CREATED:20200108T170116Z
LAST-MODIFIED:20200108T170116Z
UID:71055-1593158400-1593363600@klassikauto.pl
SUMMARY:Classówka Baukrane A M F 2020
DESCRIPTION:
URL:https://klassikauto.pl/impreza/classowka-baukrane-a-m-f-2020/
LOCATION:Gdańsk
CATEGORIES:Zlot
END:VEVENT
BEGIN:VEVENT
DTSTART;TZID=Europe/Helsinki:20200626T080000
DTEND;TZID=Europe/Helsinki:20200628T170000
DTSTAMP:20260423T201731
CREATED:20200110T153217Z
LAST-MODIFIED:20200110T153217Z
UID:71206-1593158400-1593363600@klassikauto.pl
SUMMARY:Strážov Classic 2020
DESCRIPTION:
URL:https://klassikauto.pl/impreza/strazov-classic-2020/
LOCATION:Powaska Bystrzyca\, Słowacja
CATEGORIES:Rajd
END:VEVENT
BEGIN:VEVENT
DTSTART;TZID=Europe/Helsinki:20200626T080000
DTEND;TZID=Europe/Helsinki:20200628T170000
DTSTAMP:20260423T201731
CREATED:20200322T113746Z
LAST-MODIFIED:20210417T122744Z
UID:72284-1593158400-1593363600@klassikauto.pl
SUMMARY:I Zlot VolvoFan Kalisz - Sudety 2020
DESCRIPTION:
URL:https://klassikauto.pl/impreza/i-zlot-volvofan-kalisz-sudety-2020/
LOCATION:Bystrzyca Górna
CATEGORIES:Zlot
END:VEVENT
BEGIN:VEVENT
DTSTART;TZID=Europe/Helsinki:20200626T120000
DTEND;TZID=Europe/Helsinki:20200627T123000
DTSTAMP:20260423T201731
CREATED:20200206T171633Z
LAST-MODIFIED:20200206T171633Z
UID:71591-1593172800-1593261000@klassikauto.pl
SUMMARY:XIV Rajd Motocykli Zabytkowych "Śladami Piastów"
DESCRIPTION:
URL:https://klassikauto.pl/impreza/xiv-rajd-motocykli-zabytkowych-sladami-piastow/
LOCATION:Gąsawa
CATEGORIES:Rajd
END:VEVENT
BEGIN:VEVENT
DTSTART;TZID=Europe/Helsinki:20200626T123000
DTEND;TZID=Europe/Helsinki:20200628T123000
DTSTAMP:20260423T201731
CREATED:20200206T185028Z
LAST-MODIFIED:20200206T185028Z
UID:71651-1593174600-1593347400@klassikauto.pl
SUMMARY:Rajd Pojazdów Zabytkowych "Śladami Historii"
DESCRIPTION:
URL:https://klassikauto.pl/impreza/rajd-pojazdow-zabytkowych-sladami-historii/
LOCATION:Krotoszyce
CATEGORIES:Rajd
END:VEVENT
BEGIN:VEVENT
DTSTART;TZID=Europe/Helsinki:20200626T140000
DTEND;TZID=Europe/Helsinki:20200628T170000
DTSTAMP:20260423T201731
CREATED:20200110T170144Z
LAST-MODIFIED:20200110T170144Z
UID:71236-1593180000-1593363600@klassikauto.pl
SUMMARY:American Cars Mania VIII Edycja
DESCRIPTION:
URL:https://klassikauto.pl/impreza/american-cars-mania-viii-edycja/
LOCATION:Oleśnica
CATEGORIES:Zlot
END:VEVENT
BEGIN:VEVENT
DTSTART;TZID=Europe/Helsinki:20200627T080000
DTEND;TZID=Europe/Helsinki:20200627T170000
DTSTAMP:20260423T201731
CREATED:20200407T163547Z
LAST-MODIFIED:20200407T163547Z
UID:72586-1593244800-1593277200@klassikauto.pl
SUMMARY:XXXII. ročník jízdy do vrchu Knovíz - Olšany
DESCRIPTION:
URL:https://klassikauto.pl/impreza/xxxii-rocnik-jizdy-do-vrchu-knoviz-olsany/
LOCATION:Knovíz – Olšany\, Czechy
CATEGORIES:Rajd
END:VEVENT
BEGIN:VEVENT
DTSTART;TZID=Europe/Helsinki:20200627T080000
DTEND;TZID=Europe/Helsinki:20200628T170000
DTSTAMP:20260423T201731
CREATED:20200407T164019Z
LAST-MODIFIED:20200407T164019Z
UID:72588-1593244800-1593363600@klassikauto.pl
SUMMARY:XII Międzynarodowy Zlot Pojazdów Zabytkowych
DESCRIPTION:Kontakt: Marian Studnic\, tel. +48 601 084 501\, e-mail: ekoland@zabelkow.pl
URL:https://klassikauto.pl/impreza/xii-miedzynarodowy-zlot-pojazdow-zabytkowych/
LOCATION:Zabełków
CATEGORIES:Zlot
END:VEVENT
BEGIN:VEVENT
DTSTART;TZID=Europe/Helsinki:20200627T090000
DTEND;TZID=Europe/Helsinki:20200627T230000
DTSTAMP:20260423T201731
CREATED:20191117T073554Z
LAST-MODIFIED:20191117T073554Z
UID:70482-1593248400-1593298800@klassikauto.pl
SUMMARY:30 tka KULTOWEGO IKARUSA - Z Kultowym Ikarusem
DESCRIPTION:
URL:https://klassikauto.pl/impreza/30-tka-kultowego-ikarusa-z-kultowym-ikarusem-2/
LOCATION:Gdańsk
CATEGORIES:Zlot
END:VEVENT
BEGIN:VEVENT
DTSTART;TZID=Europe/Helsinki:20200628T100000
DTEND;TZID=Europe/Helsinki:20200628T170000
DTSTAMP:20260423T201731
CREATED:20200320T183026Z
LAST-MODIFIED:20200320T183026Z
UID:72219-1593338400-1593363600@klassikauto.pl
SUMMARY:VI Piaseczyński Rajd Pojazdów Zabytkowych
DESCRIPTION:
URL:https://klassikauto.pl/impreza/vi-piaseczynski-rajd-pojazdow-zabytkowych/
LOCATION:Piaseczno
CATEGORIES:Rajd
END:VEVENT
BEGIN:VEVENT
DTSTART;TZID=Europe/Helsinki:20200701T080000
DTEND;TZID=Europe/Helsinki:20200831T170000
DTSTAMP:20260423T201731
CREATED:20191117T075823Z
LAST-MODIFIED:20191117T075823Z
UID:70499-1593590400-1598893200@klassikauto.pl
SUMMARY:Sköda 125 Years
DESCRIPTION:
URL:https://klassikauto.pl/impreza/skoda-125-years/
LOCATION:Muzeum Autoworld\, Bruksela\, Belgia
CATEGORIES:Wystawa
END:VEVENT
BEGIN:VEVENT
DTSTART;TZID=Europe/Helsinki:20200703T080000
DTEND;TZID=Europe/Helsinki:20200705T170000
DTSTAMP:20260423T201731
CREATED:20200210T180556Z
LAST-MODIFIED:20200210T180556Z
UID:71780-1593763200-1593968400@klassikauto.pl
SUMMARY:XVIII Ostrowski Rajd Pojazdów Zabytkowych
DESCRIPTION:
URL:https://klassikauto.pl/impreza/xviii-ostrowski-rajd-pojazdow-zabytkowych/
LOCATION:Ostrów Wielkopolski
CATEGORIES:Zlot
END:VEVENT
BEGIN:VEVENT
DTSTART;TZID=Europe/Helsinki:20200704T080000
DTEND;TZID=Europe/Helsinki:20200704T170000
DTSTAMP:20260423T201731
CREATED:20200206T163911Z
LAST-MODIFIED:20200206T163911Z
UID:71535-1593849600-1593882000@klassikauto.pl
SUMMARY:Klasyczny Koneser po raz drugi. Wystawa klasycznej motoryzacji
DESCRIPTION:
URL:https://klassikauto.pl/impreza/klasyczny-koneser-po-raz-drugi-wystawa-klasycznej-motoryzacji/
LOCATION:Warszawa
CATEGORIES:Wystawa
END:VEVENT
BEGIN:VEVENT
DTSTART;TZID=Europe/Helsinki:20200704T080000
DTEND;TZID=Europe/Helsinki:20200704T170000
DTSTAMP:20260423T201731
CREATED:20200407T164157Z
LAST-MODIFIED:20200407T164157Z
UID:72590-1593849600-1593882000@klassikauto.pl
SUMMARY:21. sraz HV v Marianskych Lazních
DESCRIPTION:
URL:https://klassikauto.pl/impreza/21-sraz-hv-v-marianskych-laznich/
LOCATION:Marianskie Laznie\, Czechy
CATEGORIES:Zlot
END:VEVENT
BEGIN:VEVENT
DTSTART;TZID=Europe/Helsinki:20200704T090000
DTEND;TZID=Europe/Helsinki:20200704T130000
DTSTAMP:20260423T201731
CREATED:20200322T115342Z
LAST-MODIFIED:20200322T115342Z
UID:72302-1593853200-1593867600@klassikauto.pl
SUMMARY:Setkání historických vozidel v pivovaru 2020
DESCRIPTION:
URL:https://klassikauto.pl/impreza/setkani-historickych-vozidel-v-pivovaru-2020/
LOCATION:Chodovar\, Czechy
CATEGORIES:Zlot
END:VEVENT
BEGIN:VEVENT
DTSTART;TZID=Europe/Helsinki:20200704T110000
DTEND;TZID=Europe/Helsinki:20200704T170000
DTSTAMP:20260423T201731
CREATED:20200320T170953Z
LAST-MODIFIED:20200320T170953Z
UID:72175-1593860400-1593882000@klassikauto.pl
SUMMARY:Antonin MOTO-MANIA 2020
DESCRIPTION:
URL:https://klassikauto.pl/impreza/antonin-moto-mania-2020/
LOCATION:Antonin
CATEGORIES:Zlot
END:VEVENT
BEGIN:VEVENT
DTSTART;TZID=Europe/Helsinki:20200705T100000
DTEND;TZID=Europe/Helsinki:20200705T170000
DTSTAMP:20260423T201731
CREATED:20200206T165558Z
LAST-MODIFIED:20200206T165558Z
UID:71568-1593943200-1593968400@klassikauto.pl
SUMMARY:Nieśmiertelny - II Edycja
DESCRIPTION:
URL:https://klassikauto.pl/impreza/niesmiertelny-ii-edycja/
LOCATION:Łódź
CATEGORIES:Zlot
END:VEVENT
BEGIN:VEVENT
DTSTART;TZID=Europe/Helsinki:20200705T100000
DTEND;TZID=Europe/Helsinki:20200705T180000
DTSTAMP:20260423T201731
CREATED:20200206T165207Z
LAST-MODIFIED:20200206T165207Z
UID:71550-1593943200-1593972000@klassikauto.pl
SUMMARY:Fury Pełne Życia - III zlot w Muzeum Dwóch Imperiów
DESCRIPTION:
URL:https://klassikauto.pl/impreza/fury-pelne-zycia-iii-zlot-w-muzeum-dwoch-imperiow/
LOCATION:Witaszyce
CATEGORIES:Zlot
END:VEVENT
BEGIN:VEVENT
DTSTART;TZID=Europe/Helsinki:20200709T080000
DTEND;TZID=Europe/Helsinki:20200712T170000
DTSTAMP:20260423T201731
CREATED:20200322T131549Z
LAST-MODIFIED:20200322T131549Z
UID:72325-1594281600-1594573200@klassikauto.pl
SUMMARY:Zlot Zabytkowych Pojazdów Pożarniczych „Operacja Karlino `20"
DESCRIPTION:
URL:https://klassikauto.pl/impreza/zlot-zabytkowych-pojazdow-pozarniczych-operacja-karlino-20/
LOCATION:Karlino
CATEGORIES:Zlot
END:VEVENT
BEGIN:VEVENT
DTSTART;TZID=Europe/Helsinki:20200717T113000
DTEND;TZID=Europe/Helsinki:20200718T180000
DTSTAMP:20260423T201731
CREATED:20200322T131847Z
LAST-MODIFIED:20200322T131847Z
UID:72327-1594985400-1595095200@klassikauto.pl
SUMMARY:Zlot Weteranów Szos - Historia na kołach 2020
DESCRIPTION:
URL:https://klassikauto.pl/impreza/zlot-weteranow-szos-historia-na-kolach-2020/
LOCATION:Starogard Gdański
CATEGORIES:Zlot
END:VEVENT
BEGIN:VEVENT
DTSTART;TZID=Europe/Helsinki:20200717T140000
DTEND;TZID=Europe/Helsinki:20200719T150000
DTSTAMP:20260423T201731
CREATED:20200322T102715Z
LAST-MODIFIED:20200322T102715Z
UID:72252-1594994400-1595170800@klassikauto.pl
SUMMARY:VIII Skalny Zlot Motocyklowy w Myszkowie
DESCRIPTION:
URL:https://klassikauto.pl/impreza/viii-skalny-zlot-motocyklowy-w-myszkowie/
LOCATION:Myszków
CATEGORIES:Zlot
END:VEVENT
END:VCALENDAR
<!-- RunCloud Hub 2026-04-23 19:17:31 -->