BEGIN:VCALENDAR
VERSION:2.0
PRODID:-//KlassikAuto.pl - ECPv6.7.0//NONSGML v1.0//EN
CALSCALE:GREGORIAN
METHOD:PUBLISH
X-ORIGINAL-URL:https://klassikauto.pl
X-WR-CALDESC:Wydarzenia dla KlassikAuto.pl
REFRESH-INTERVAL;VALUE=DURATION:PT1H
X-Robots-Tag:noindex
X-PUBLISHED-TTL:PT1H
BEGIN:VTIMEZONE
TZID:Europe/Helsinki
BEGIN:DAYLIGHT
TZOFFSETFROM:+0200
TZOFFSETTO:+0300
TZNAME:EEST
DTSTART:20200329T010000
END:DAYLIGHT
BEGIN:STANDARD
TZOFFSETFROM:+0300
TZOFFSETTO:+0200
TZNAME:EET
DTSTART:20201025T010000
END:STANDARD
END:VTIMEZONE
BEGIN:VEVENT
DTSTART;TZID=Europe/Helsinki:20200418T090000
DTEND;TZID=Europe/Helsinki:20200630T120000
DTSTAMP:20260423T234610
CREATED:20200206T190439Z
LAST-MODIFIED:20200206T190439Z
UID:71666-1587200400-1593518400@klassikauto.pl
SUMMARY:VIII Rajd Autosana
DESCRIPTION:
URL:https://klassikauto.pl/impreza/viii-rajd-autosana/
LOCATION:Pomorze
CATEGORIES:Rajd
END:VEVENT
BEGIN:VEVENT
DTSTART;TZID=Europe/Helsinki:20200508T080000
DTEND;TZID=Europe/Helsinki:20200620T170000
DTSTAMP:20260423T234610
CREATED:20191117T075640Z
LAST-MODIFIED:20191117T075640Z
UID:70497-1588924800-1592672400@klassikauto.pl
SUMMARY:Touring 125 years
DESCRIPTION:
URL:https://klassikauto.pl/impreza/touring-125-years/
LOCATION:Muzeum Autoworld\, Bruksela\, Belgia
CATEGORIES:Wystawa
END:VEVENT
BEGIN:VEVENT
DTSTART;TZID=Europe/Helsinki:20200529T120000
DTEND;TZID=Europe/Helsinki:20200531T110000
DTSTAMP:20260423T234610
CREATED:20200320T191811Z
LAST-MODIFIED:20200320T191811Z
UID:72225-1590753600-1590922800@klassikauto.pl
SUMMARY:I Zlot VW klasyków i piknik rokendrolowy "Co w stawie plumko"
DESCRIPTION:
URL:https://klassikauto.pl/impreza/i-zlot-vw-klasykow-i-piknik-rokendrolowy-co-w-stawie-plumko/
LOCATION:Wilczkowice
CATEGORIES:Zlot
END:VEVENT
BEGIN:VEVENT
DTSTART;TZID=Europe/Helsinki:20200529T200000
DTEND;TZID=Europe/Helsinki:20200531T220000
DTSTAMP:20260423T234610
CREATED:20200322T124728Z
LAST-MODIFIED:20200322T124728Z
UID:72313-1590782400-1590962400@klassikauto.pl
SUMMARY:7. sraz socialistických vozidel
DESCRIPTION:
URL:https://klassikauto.pl/impreza/7-sraz-socialistickych-vozidel/
LOCATION:Hnacov\, Czechy
CATEGORIES:Zlot
END:VEVENT
BEGIN:VEVENT
DTSTART;TZID=Europe/Helsinki:20200530T080000
DTEND;TZID=Europe/Helsinki:20200531T170000
DTSTAMP:20260423T234610
CREATED:20200108T170841Z
LAST-MODIFIED:20200108T170841Z
UID:71066-1590825600-1590944400@klassikauto.pl
SUMMARY:IV Małomiasteczkowy Zlot Oldtimerów 2020
DESCRIPTION:
URL:https://klassikauto.pl/impreza/iv-malomiasteczkowy-zlot-oldtimerow-2020/
LOCATION:Marklowice
CATEGORIES:Zlot
END:VEVENT
BEGIN:VEVENT
DTSTART;TZID=Europe/Helsinki:20200531T120000
DTEND;TZID=Europe/Helsinki:20200531T150000
DTSTAMP:20260423T234610
CREATED:20200322T115805Z
LAST-MODIFIED:20200322T115805Z
UID:72307-1590926400-1590937200@klassikauto.pl
SUMMARY:Klasyczne Blokowanie McDonalda VOL.6 w Pruszczu Gdańskim
DESCRIPTION:
URL:https://klassikauto.pl/impreza/klasyczne-blokowanie-mcdonalda-vol-6-w-pruszczu-gdanskim/
LOCATION:Pruszcz Gdański
CATEGORIES:Zlot
END:VEVENT
BEGIN:VEVENT
DTSTART;TZID=Europe/Helsinki:20200531T130000
DTEND;TZID=Europe/Helsinki:20200531T220000
DTSTAMP:20260423T234610
CREATED:20200206T172901Z
LAST-MODIFIED:20200206T172901Z
UID:71598-1590930000-1590962400@klassikauto.pl
SUMMARY:Moto Weteran 3
DESCRIPTION:
URL:https://klassikauto.pl/impreza/moto-weteran-3/
LOCATION:Kraków
CATEGORIES:Zlot
END:VEVENT
BEGIN:VEVENT
DTSTART;TZID=Europe/Helsinki:20200531T130000
DTEND;TZID=Europe/Helsinki:20200531T230000
DTSTAMP:20260423T234610
CREATED:20200320T172533Z
LAST-MODIFIED:20200320T172533Z
UID:72190-1590930000-1590966000@klassikauto.pl
SUMMARY:Old-Rol II
DESCRIPTION:
URL:https://klassikauto.pl/impreza/old-rol-ii/
LOCATION:Opole
CATEGORIES:Zlot
END:VEVENT
BEGIN:VEVENT
DTSTART;TZID=Europe/Helsinki:20200605T080000
DTEND;TZID=Europe/Helsinki:20200606T180000
DTSTAMP:20260423T234610
CREATED:20200206T165341Z
LAST-MODIFIED:20200818T090715Z
UID:71554-1591344000-1591466400@klassikauto.pl
SUMMARY:I Odolanowski Zlot Fiata 126
DESCRIPTION:
URL:https://klassikauto.pl/impreza/i-odolanowski-zlot-fiata-126/
LOCATION:Odolanów
CATEGORIES:Zlot
END:VEVENT
BEGIN:VEVENT
DTSTART;TZID=Europe/Helsinki:20200605T120000
DTEND;TZID=Europe/Helsinki:20200607T150000
DTSTAMP:20260423T234610
CREATED:20200322T114958Z
LAST-MODIFIED:20200322T114958Z
UID:72297-1591358400-1591542000@klassikauto.pl
SUMMARY:4. Sraz Mercedesů Brno
DESCRIPTION:
URL:https://klassikauto.pl/impreza/4-sraz-mercedesu-brno/
LOCATION:Brno\, Czechy
CATEGORIES:Zlot
END:VEVENT
BEGIN:VEVENT
DTSTART;TZID=Europe/Helsinki:20200605T120000
DTEND;TZID=Europe/Helsinki:20200607T170000
DTSTAMP:20260423T234610
CREATED:20200110T152005Z
LAST-MODIFIED:20200110T152005Z
UID:71191-1591358400-1591549200@klassikauto.pl
SUMMARY:II Zlot Klasyki & Busiki
DESCRIPTION:
URL:https://klassikauto.pl/impreza/ii-zlot-klasyki-busiki/
LOCATION:Zdwórz
CATEGORIES:Zlot
END:VEVENT
BEGIN:VEVENT
DTSTART;TZID=Europe/Helsinki:20200605T160000
DTEND;TZID=Europe/Helsinki:20200607T130000
DTSTAMP:20260423T234610
CREATED:20200206T184557Z
LAST-MODIFIED:20200206T184557Z
UID:71646-1591372800-1591534800@klassikauto.pl
SUMMARY:IV Zlot Klasycznych Pojazdów w Stegnie.Klasyczny Biwak
DESCRIPTION:
URL:https://klassikauto.pl/impreza/iv-zlot-klasycznych-pojazdow-w-stegnie-klasyczny-biwak/
LOCATION:Stegna
CATEGORIES:Zlot
END:VEVENT
BEGIN:VEVENT
DTSTART;VALUE=DATE:20200606
DTEND;VALUE=DATE:20200607
DTSTAMP:20260423T234610
CREATED:20200322T132852Z
LAST-MODIFIED:20200322T132852Z
UID:72333-1591401600-1591487999@klassikauto.pl
SUMMARY:Pierwszy Klasyczny Rajd Doliny Dolnej Wisły.
DESCRIPTION:
URL:https://klassikauto.pl/impreza/pierwszy-klasyczny-rajd-doliny-dolnej-wisly/
LOCATION:Bydgoszcz
CATEGORIES:Rajd
END:VEVENT
BEGIN:VEVENT
DTSTART;TZID=Europe/Helsinki:20200606T080000
DTEND;TZID=Europe/Helsinki:20200606T170000
DTSTAMP:20260423T234610
CREATED:20200407T161738Z
LAST-MODIFIED:20200407T161738Z
UID:72574-1591430400-1591462800@klassikauto.pl
SUMMARY:2. Dobelský sraz auto-moto legend
DESCRIPTION:
URL:https://klassikauto.pl/impreza/2-dobelsky-sraz-auto-moto-legend/
LOCATION:Dobelice\, Czechy
CATEGORIES:Zlot
END:VEVENT
BEGIN:VEVENT
DTSTART;TZID=Europe/Helsinki:20200606T100000
DTEND;TZID=Europe/Helsinki:20200607T180000
DTSTAMP:20260423T234610
CREATED:20200322T130743Z
LAST-MODIFIED:20200322T130743Z
UID:72320-1591437600-1591552800@klassikauto.pl
SUMMARY:II Zlot Starych Ciągników w Krakowie
DESCRIPTION:
URL:https://klassikauto.pl/impreza/ii-zlot-starych-ciagnikow-w-krakowie/
LOCATION:Kraków
CATEGORIES:Zlot
END:VEVENT
BEGIN:VEVENT
DTSTART;TZID=Europe/Helsinki:20200606T120000
DTEND;TZID=Europe/Helsinki:20200607T233000
DTSTAMP:20260423T234610
CREATED:20200206T185420Z
LAST-MODIFIED:20200206T185420Z
UID:71657-1591444800-1591572600@klassikauto.pl
SUMMARY:Ratujmy Klasyki III - lokalnie jest fajnie
DESCRIPTION:
URL:https://klassikauto.pl/impreza/ratujmy-klasyki-iii-lokalnie-jest-fajnie/
LOCATION:Kąty Wrocławskie
CATEGORIES:Zlot
END:VEVENT
BEGIN:VEVENT
DTSTART;TZID=Europe/Helsinki:20200607T080000
DTEND;TZID=Europe/Helsinki:20200607T170000
DTSTAMP:20260423T234610
CREATED:20200108T213559Z
LAST-MODIFIED:20200108T213559Z
UID:71150-1591516800-1591549200@klassikauto.pl
SUMMARY:Oldtimerbazar
DESCRIPTION:
URL:https://klassikauto.pl/impreza/oldtimerbazar-22/
LOCATION:Sosnowiec
CATEGORIES:Aukcja
END:VEVENT
BEGIN:VEVENT
DTSTART;TZID=Europe/Helsinki:20200607T113000
DTEND;TZID=Europe/Helsinki:20200607T143000
DTSTAMP:20260423T234610
CREATED:20200320T182002Z
LAST-MODIFIED:20200320T182002Z
UID:72211-1591529400-1591540200@klassikauto.pl
SUMMARY:Rozpoczęcie Sezonu Zawierciańskich Klasyków
DESCRIPTION:
URL:https://klassikauto.pl/impreza/rozpoczecie-sezonu-zawiercianskich-klasykow/
LOCATION:Łazy
CATEGORIES:Zlot
END:VEVENT
BEGIN:VEVENT
DTSTART;TZID=Europe/Helsinki:20200611T080000
DTEND;TZID=Europe/Helsinki:20200614T170000
DTSTAMP:20260423T234610
CREATED:20200206T161934Z
LAST-MODIFIED:20200206T161934Z
UID:71522-1591862400-1592154000@klassikauto.pl
SUMMARY:4. Pomerania Classic - Nadmorski Festiwal Pojazdów Zabytkowych
DESCRIPTION:
URL:https://klassikauto.pl/impreza/4-pomerania-classic-nadmorski-festiwal-pojazdow-zabytkowych/
LOCATION:Łazy
CATEGORIES:Zlot
END:VEVENT
BEGIN:VEVENT
DTSTART;TZID=Europe/Helsinki:20200611T080000
DTEND;TZID=Europe/Helsinki:20200614T170000
DTSTAMP:20260423T234610
CREATED:20200210T174351Z
LAST-MODIFIED:20200210T174351Z
UID:71758-1591862400-1592154000@klassikauto.pl
SUMMARY:VII Zlot Starych Traktorów
DESCRIPTION:
URL:https://klassikauto.pl/impreza/vii-zlot-starych-traktorow/
LOCATION:Łazy
CATEGORIES:Zlot
END:VEVENT
BEGIN:VEVENT
DTSTART;TZID=Europe/Helsinki:20200611T120000
DTEND;TZID=Europe/Helsinki:20200615T080000
DTSTAMP:20260423T234610
CREATED:20200320T171411Z
LAST-MODIFIED:20200320T171411Z
UID:72179-1591876800-1592208000@klassikauto.pl
SUMMARY:Małe Fiaty i PRL-owskie klimaty 3
DESCRIPTION:
URL:https://klassikauto.pl/impreza/male-fiaty-i-prl-owskie-klimaty-3/
LOCATION:Krynica Morska
CATEGORIES:Zlot
END:VEVENT
BEGIN:VEVENT
DTSTART;TZID=Europe/Helsinki:20200612T080000
DTEND;TZID=Europe/Helsinki:20200614T170000
DTSTAMP:20260423T234610
CREATED:20200322T112622Z
LAST-MODIFIED:20200322T112622Z
UID:72275-1591948800-1592154000@klassikauto.pl
SUMMARY:IV Zlot Żuka
DESCRIPTION:
URL:https://klassikauto.pl/impreza/iv-zlot-zuka/
LOCATION:Duszniki
CATEGORIES:Zlot
END:VEVENT
BEGIN:VEVENT
DTSTART;TZID=Europe/Helsinki:20200612T080000
DTEND;TZID=Europe/Helsinki:20200614T170000
DTSTAMP:20260423T234610
CREATED:20200322T130147Z
LAST-MODIFIED:20200322T130147Z
UID:72316-1591948800-1592154000@klassikauto.pl
SUMMARY:Nürburgring Classic
DESCRIPTION:
URL:https://klassikauto.pl/impreza/nurburgring-classic/
LOCATION:Nuerburgring\, Niemcy
CATEGORIES:Rajd
END:VEVENT
BEGIN:VEVENT
DTSTART;TZID=Europe/Helsinki:20200613T080000
DTEND;TZID=Europe/Helsinki:20200615T170000
DTSTAMP:20260423T234610
CREATED:20200210T174651Z
LAST-MODIFIED:20200210T174651Z
UID:71760-1592035200-1592240400@klassikauto.pl
SUMMARY:Spotkanie Miłośników Starych Ciągników Moto Rock
DESCRIPTION:
URL:https://klassikauto.pl/impreza/spotkanie-milosnikow-starych-ciagnikow-moto-rock/
LOCATION:Sasino
CATEGORIES:Zlot
END:VEVENT
BEGIN:VEVENT
DTSTART;TZID=Europe/Helsinki:20200613T090000
DTEND;TZID=Europe/Helsinki:20200613T160000
DTSTAMP:20260423T234610
CREATED:20200322T114154Z
LAST-MODIFIED:20200322T114300Z
UID:72288-1592038800-1592064000@klassikauto.pl
SUMMARY:Výstava vozů Rolls-Royce a Bentley na zámku
DESCRIPTION:
URL:https://klassikauto.pl/impreza/vystava-vozu-rolls-royce-a-bentley-na-zamku/
LOCATION:Vlasim\, Czechy
CATEGORIES:Wystawa
END:VEVENT
BEGIN:VEVENT
DTSTART;TZID=Europe/Helsinki:20200613T090000
DTEND;TZID=Europe/Helsinki:20200613T170000
DTSTAMP:20260423T234610
CREATED:20200206T181505Z
LAST-MODIFIED:20200206T181505Z
UID:71641-1592038800-1592067600@klassikauto.pl
SUMMARY:47. urodziny Fiata 126p
DESCRIPTION:
URL:https://klassikauto.pl/impreza/47-urodziny-fiata-126p/
LOCATION:Warszawa
CATEGORIES:Zlot
END:VEVENT
BEGIN:VEVENT
DTSTART;TZID=Europe/Helsinki:20200613T120000
DTEND;TZID=Europe/Helsinki:20200613T233000
DTSTAMP:20260423T234610
CREATED:20200206T180848Z
LAST-MODIFIED:20200206T180848Z
UID:71634-1592049600-1592091000@klassikauto.pl
SUMMARY:XI Zlot Zabytkowej Motoryzacji i Rajd im. Ks. Władysława Druckiego-Lubeckiego
DESCRIPTION:
URL:https://klassikauto.pl/impreza/xi-zlot-zabytkowej-motoryzacji-i-rajd-im-ks-wladyslawa-druckiego-lubeckiego/
LOCATION:Strzyżew Parcele
CATEGORIES:Zlot
END:VEVENT
BEGIN:VEVENT
DTSTART;TZID=Europe/Helsinki:20200614T080000
DTEND;TZID=Europe/Helsinki:20200614T170000
DTSTAMP:20260423T234610
CREATED:20200407T161943Z
LAST-MODIFIED:20200407T161943Z
UID:72577-1592121600-1592154000@klassikauto.pl
SUMMARY:Auto-moto-burza Valy
DESCRIPTION:
URL:https://klassikauto.pl/impreza/auto-moto-burza-valy-5/
LOCATION:Valy u Přelouče\, Czechy
CATEGORIES:Aukcja
END:VEVENT
BEGIN:VEVENT
DTSTART;TZID=Europe/Helsinki:20200614T100000
DTEND;TZID=Europe/Helsinki:20200614T130000
DTSTAMP:20260423T234610
CREATED:20200320T182555Z
LAST-MODIFIED:20200320T182555Z
UID:72216-1592128800-1592139600@klassikauto.pl
SUMMARY:8. Zámecká neděle s auto-moto veterány
DESCRIPTION:
URL:https://klassikauto.pl/impreza/8-zamecka-nedele-s-auto-moto-veterany/
LOCATION:Kvasiny\, Czechy
CATEGORIES:Zlot
END:VEVENT
BEGIN:VEVENT
DTSTART;TZID=Europe/Helsinki:20200619T150000
DTEND;TZID=Europe/Helsinki:20200621T120000
DTSTAMP:20260423T234610
CREATED:20200206T192446Z
LAST-MODIFIED:20200206T192446Z
UID:71680-1592578800-1592740800@klassikauto.pl
SUMMARY:XX Jubileuszowy Zlot VW Garbusa & Co
DESCRIPTION:
URL:https://klassikauto.pl/impreza/xx-jubileuszowy-zlot-vw-garbusa-co/
LOCATION:Przybrodzin
CATEGORIES:Zlot
END:VEVENT
END:VCALENDAR
<!-- RunCloud Hub 2026-04-23 22:46:10 -->