BEGIN:VCALENDAR
VERSION:2.0
PRODID:-//KlassikAuto.pl - ECPv6.7.0//NONSGML v1.0//EN
CALSCALE:GREGORIAN
METHOD:PUBLISH
X-ORIGINAL-URL:https://klassikauto.pl
X-WR-CALDESC:Wydarzenia dla KlassikAuto.pl
REFRESH-INTERVAL;VALUE=DURATION:PT1H
X-Robots-Tag:noindex
X-PUBLISHED-TTL:PT1H
BEGIN:VTIMEZONE
TZID:Europe/Helsinki
BEGIN:DAYLIGHT
TZOFFSETFROM:+0200
TZOFFSETTO:+0300
TZNAME:EEST
DTSTART:20200329T010000
END:DAYLIGHT
BEGIN:STANDARD
TZOFFSETFROM:+0300
TZOFFSETTO:+0200
TZNAME:EET
DTSTART:20201025T010000
END:STANDARD
END:VTIMEZONE
BEGIN:VEVENT
DTSTART;TZID=Europe/Helsinki:20200418T090000
DTEND;TZID=Europe/Helsinki:20200630T120000
DTSTAMP:20260423T233348
CREATED:20200206T190439Z
LAST-MODIFIED:20200206T190439Z
UID:71666-1587200400-1593518400@klassikauto.pl
SUMMARY:VIII Rajd Autosana
DESCRIPTION:
URL:https://klassikauto.pl/impreza/viii-rajd-autosana/
LOCATION:Pomorze
CATEGORIES:Rajd
END:VEVENT
BEGIN:VEVENT
DTSTART;TZID=Europe/Helsinki:20200508T080000
DTEND;TZID=Europe/Helsinki:20200510T170000
DTSTAMP:20260423T233348
CREATED:20200108T204542Z
LAST-MODIFIED:20200108T204542Z
UID:71111-1588924800-1589130000@klassikauto.pl
SUMMARY:12 Grand Prix de Monaco Historique
DESCRIPTION:
URL:https://klassikauto.pl/impreza/12-grand-prix-de-monaco-historique/
LOCATION:Monte Carlo\, Monaco
CATEGORIES:Rajd
END:VEVENT
BEGIN:VEVENT
DTSTART;TZID=Europe/Helsinki:20200508T080000
DTEND;TZID=Europe/Helsinki:20200510T170000
DTSTAMP:20260423T233348
CREATED:20200108T205953Z
LAST-MODIFIED:20200108T205953Z
UID:71121-1588924800-1589130000@klassikauto.pl
SUMMARY:Moto Weteran Bazar
DESCRIPTION:
URL:https://klassikauto.pl/impreza/moto-weteran-bazar-3/
LOCATION:Łódź
CATEGORIES:Aukcja
END:VEVENT
BEGIN:VEVENT
DTSTART;TZID=Europe/Helsinki:20200508T080000
DTEND;TZID=Europe/Helsinki:20200620T170000
DTSTAMP:20260423T233348
CREATED:20191117T075640Z
LAST-MODIFIED:20191117T075640Z
UID:70497-1588924800-1592672400@klassikauto.pl
SUMMARY:Touring 125 years
DESCRIPTION:
URL:https://klassikauto.pl/impreza/touring-125-years/
LOCATION:Muzeum Autoworld\, Bruksela\, Belgia
CATEGORIES:Wystawa
END:VEVENT
BEGIN:VEVENT
DTSTART;TZID=Europe/Helsinki:20200508T160000
DTEND;TZID=Europe/Helsinki:20200510T190000
DTSTAMP:20260423T233348
CREATED:20200206T170728Z
LAST-MODIFIED:20200206T170728Z
UID:71580-1588953600-1589137200@klassikauto.pl
SUMMARY:X Zlot Samochodów Amerykańskich i Zabytkowych
DESCRIPTION:
URL:https://klassikauto.pl/impreza/x-zlot-samochodow-amerykanskich-i-zabytkowych/
LOCATION:Grudziądz
CATEGORIES:Zlot
END:VEVENT
BEGIN:VEVENT
DTSTART;TZID=Europe/Helsinki:20200510T100000
DTEND;TZID=Europe/Helsinki:20200510T180000
DTSTAMP:20260423T233348
CREATED:20200320T174050Z
LAST-MODIFIED:20200320T174050Z
UID:72201-1589104800-1589133600@klassikauto.pl
SUMMARY:Zlot Samochodów Zabytkowych i Amerykańskich
DESCRIPTION:
URL:https://klassikauto.pl/impreza/zlot-samochodow-zabytkowych-i-amerykanskich-2/
LOCATION:Andrychów
CATEGORIES:Zlot
END:VEVENT
BEGIN:VEVENT
DTSTART;TZID=Europe/Helsinki:20200510T110000
DTEND;TZID=Europe/Helsinki:20200510T153000
DTSTAMP:20260423T233348
CREATED:20200322T135543Z
LAST-MODIFIED:20200322T135543Z
UID:72335-1589108400-1589124600@klassikauto.pl
SUMMARY:Oldtimer Veranstaltung 4.Classic Cars am Klosterhof
DESCRIPTION:
URL:https://klassikauto.pl/impreza/oldtimer-veranstaltung-4-classic-cars-am-klosterhof/
LOCATION:Dormagen\, Niemcy
CATEGORIES:Zlot
END:VEVENT
BEGIN:VEVENT
DTSTART;TZID=Europe/Helsinki:20200510T120000
DTEND;TZID=Europe/Helsinki:20200510T190000
DTSTAMP:20260423T233348
CREATED:20200210T180422Z
LAST-MODIFIED:20200210T180422Z
UID:71777-1589112000-1589137200@klassikauto.pl
SUMMARY:II Ostrzeszowski zlot pojazdów zabytkowych
DESCRIPTION:
URL:https://klassikauto.pl/impreza/ii-ostrzeszowski-zlot-pojazdow-zabytkowych/
LOCATION:Ostrzeszów
CATEGORIES:Zlot
END:VEVENT
BEGIN:VEVENT
DTSTART;TZID=Europe/Helsinki:20200513T080000
DTEND;TZID=Europe/Helsinki:20200513T170000
DTSTAMP:20260423T233348
CREATED:20200407T161210Z
LAST-MODIFIED:20200407T161210Z
UID:72568-1589356800-1589389200@klassikauto.pl
SUMMARY:S veterány Českolipskem
DESCRIPTION:
URL:https://klassikauto.pl/impreza/s-veterany-ceskolipskem/
LOCATION:Novy Bor\, Czechy
CATEGORIES:Zlot
END:VEVENT
BEGIN:VEVENT
DTSTART;TZID=Europe/Helsinki:20200515T160000
DTEND;TZID=Europe/Helsinki:20200517T100000
DTSTAMP:20260423T233348
CREATED:20200108T214607Z
LAST-MODIFIED:20200108T214607Z
UID:71168-1589558400-1589709600@klassikauto.pl
SUMMARY:XXV Mazowiecki Rajd Weteranów Szos "Magnet 2020"
DESCRIPTION:
URL:https://klassikauto.pl/impreza/xxv-mazowiecki-rajd-weteranow-szos-magnet-2020/
LOCATION:Mińsk Mazowiecki
CATEGORIES:Rajd
END:VEVENT
BEGIN:VEVENT
DTSTART;TZID=Europe/Helsinki:20200516T080000
DTEND;TZID=Europe/Helsinki:20200516T230000
DTSTAMP:20260423T233348
CREATED:20200206T181045Z
LAST-MODIFIED:20200206T181045Z
UID:71636-1589616000-1589670000@klassikauto.pl
SUMMARY:15. Rajd Nocy Muzeów - Rajd i Zlot Zabytkowych Pojazdów
DESCRIPTION:
URL:https://klassikauto.pl/impreza/15-rajd-nocy-muzeow-rajd-i-zlot-zabytkowych-pojazdow/
LOCATION:Boguchwała
CATEGORIES:Rajd
END:VEVENT
BEGIN:VEVENT
DTSTART;TZID=Europe/Helsinki:20200516T080000
DTEND;TZID=Europe/Helsinki:20200517T170000
DTSTAMP:20260423T233348
CREATED:20200210T181559Z
LAST-MODIFIED:20200210T181559Z
UID:71785-1589616000-1589734800@klassikauto.pl
SUMMARY:Zlot Auto-Moto Gołańcz
DESCRIPTION:
URL:https://klassikauto.pl/impreza/zlot-auto-moto-golancz/
LOCATION:Gołańcz
CATEGORIES:Zlot
END:VEVENT
BEGIN:VEVENT
DTSTART;TZID=Europe/Helsinki:20200516T093000
DTEND;TZID=Europe/Helsinki:20200516T150000
DTSTAMP:20260423T233348
CREATED:20200320T171809Z
LAST-MODIFIED:20200320T171809Z
UID:72183-1589621400-1589641200@klassikauto.pl
SUMMARY:Wystawa pojazdów zabytkowych Miasteczko Profiauto
DESCRIPTION:
URL:https://klassikauto.pl/impreza/wystawa-pojazdow-zabytkowych-miasteczko-profiauto/
LOCATION:Kostrzyn
CATEGORIES:Wystawa
END:VEVENT
BEGIN:VEVENT
DTSTART;TZID=Europe/Helsinki:20200516T100000
DTEND;TZID=Europe/Helsinki:20200517T190000
DTSTAMP:20260423T233348
CREATED:20200206T174118Z
LAST-MODIFIED:20200206T174118Z
UID:71609-1589623200-1589742000@klassikauto.pl
SUMMARY:33. Oldtimer Tage Berlin-Brandenburg
DESCRIPTION:
URL:https://klassikauto.pl/impreza/33-oldtimer-tage-berlin-brandenburg/
LOCATION:Berlin
CATEGORIES:Zlot
END:VEVENT
BEGIN:VEVENT
DTSTART;TZID=Europe/Helsinki:20200516T120000
DTEND;TZID=Europe/Helsinki:20200516T230000
DTSTAMP:20260423T233348
CREATED:20200206T160250Z
LAST-MODIFIED:20200206T160250Z
UID:71512-1589630400-1589670000@klassikauto.pl
SUMMARY:ClassicMania NIGHT 7
DESCRIPTION:Nocny Międzynarodowy Zlot Pojazdów Zabytkowych w ramach NOCY MUZEÓW trasami Górnego Śląska i Zagłębia
URL:https://klassikauto.pl/impreza/classicmania-night-7/
LOCATION:Sosnowiec
CATEGORIES:Zlot
END:VEVENT
BEGIN:VEVENT
DTSTART;TZID=Europe/Helsinki:20200516T120000
DTEND;TZID=Europe/Helsinki:20200517T180000
DTSTAMP:20260423T233348
CREATED:20200322T113952Z
LAST-MODIFIED:20200322T113952Z
UID:72286-1589630400-1589738400@klassikauto.pl
SUMMARY:Automobilové klenoty - 3. ročník
DESCRIPTION:
URL:https://klassikauto.pl/impreza/automobilove-klenoty-3-rocnik/
LOCATION:Praga\, Czechy
CATEGORIES:Zlot
END:VEVENT
BEGIN:VEVENT
DTSTART;TZID=Europe/Helsinki:20200516T170000
DTEND;TZID=Europe/Helsinki:20200516T220000
DTSTAMP:20260423T233348
CREATED:20200206T191736Z
LAST-MODIFIED:20200206T191736Z
UID:71676-1589648400-1589666400@klassikauto.pl
SUMMARY:Rozpoczęcie Sezonu Pojazdów Zabytkowych Przemyśl - Noc w Muzeum
DESCRIPTION:
URL:https://klassikauto.pl/impreza/rozpoczecie-sezonu-pojazdow-zabytkowych-przemysl-noc-w-muzeum/
LOCATION:Przemyśl
CATEGORIES:Zlot
END:VEVENT
BEGIN:VEVENT
DTSTART;TZID=Europe/Helsinki:20200517T100000
DTEND;TZID=Europe/Helsinki:20200517T230000
DTSTAMP:20260423T233348
CREATED:20200206T164130Z
LAST-MODIFIED:20200206T164130Z
UID:71537-1589709600-1589756400@klassikauto.pl
SUMMARY:III Rajd JakTajmera
DESCRIPTION:
URL:https://klassikauto.pl/impreza/iii-rajd-jaktajmera/
LOCATION:Białystok
CATEGORIES:Rajd
END:VEVENT
BEGIN:VEVENT
DTSTART;TZID=Europe/Helsinki:20200522T080000
DTEND;TZID=Europe/Helsinki:20200524T170000
DTSTAMP:20260423T233348
CREATED:20200210T194340Z
LAST-MODIFIED:20200210T194340Z
UID:71807-1590134400-1590339600@klassikauto.pl
SUMMARY:I Lubaski Zlot Fiata 126p
DESCRIPTION:
URL:https://klassikauto.pl/impreza/i-lubaski-zlot-fiata-126p/
LOCATION:Lubasz
CATEGORIES:Zlot
END:VEVENT
BEGIN:VEVENT
DTSTART;TZID=Europe/Helsinki:20200523T080000
DTEND;TZID=Europe/Helsinki:20200524T170000
DTSTAMP:20260423T233348
CREATED:20200110T151817Z
LAST-MODIFIED:20200110T151817Z
UID:71189-1590220800-1590339600@klassikauto.pl
SUMMARY:II zlot pojazdów zabytkowych Bieszczadzka Brama
DESCRIPTION:
URL:https://klassikauto.pl/impreza/ii-zlot-pojazdow-zabytkowych-bieszczadzka-brama/
LOCATION:Odrzechowa
CATEGORIES:Zlot
END:VEVENT
BEGIN:VEVENT
DTSTART;TZID=Europe/Helsinki:20200523T093000
DTEND;TZID=Europe/Helsinki:20200523T160000
DTSTAMP:20260423T233348
CREATED:20200322T115216Z
LAST-MODIFIED:20200322T115216Z
UID:72299-1590226200-1590249600@klassikauto.pl
SUMMARY:Výstava sportovních a historických vozů 2020
DESCRIPTION:
URL:https://klassikauto.pl/impreza/vystava-sportovnich-a-historickych-vozu-2020/
LOCATION:Zakava\, Czechy
CATEGORIES:Zlot
END:VEVENT
BEGIN:VEVENT
DTSTART;TZID=Europe/Helsinki:20200523T100000
DTEND;TZID=Europe/Helsinki:20200523T150000
DTSTAMP:20260423T233348
CREATED:20200206T173801Z
LAST-MODIFIED:20200206T173813Z
UID:71607-1590228000-1590246000@klassikauto.pl
SUMMARY:5 zlot pojazdów zabytkowych - Klasykiem Wokół Komina
DESCRIPTION:
URL:https://klassikauto.pl/impreza/5-zlot-pojazdow-zabytkowych-klasykiem-wokol-komina/
LOCATION:Siemianowice Śląskie
CATEGORIES:Zlot
END:VEVENT
BEGIN:VEVENT
DTSTART;TZID=Europe/Helsinki:20200524T090000
DTEND;TZID=Europe/Helsinki:20200524T173000
DTSTAMP:20260423T233348
CREATED:20200322T102454Z
LAST-MODIFIED:20200322T102454Z
UID:72250-1590310800-1590341400@klassikauto.pl
SUMMARY:Wycieczka Motocyklowa na Zamek w Toszku - XV Rajd Motocyklowy
DESCRIPTION:
URL:https://klassikauto.pl/impreza/wycieczka-motocyklowa-na-zamek-w-toszku-xv-rajd-motocyklowy/
LOCATION:Tarnowskie Góry
CATEGORIES:Zlot
END:VEVENT
BEGIN:VEVENT
DTSTART;TZID=Europe/Helsinki:20200524T100000
DTEND;TZID=Europe/Helsinki:20200524T180000
DTSTAMP:20260423T233348
CREATED:20200108T170522Z
LAST-MODIFIED:20200108T170522Z
UID:71062-1590314400-1590343200@klassikauto.pl
SUMMARY:II Zlot Klasyków\, czyli klasyczne rozpoczęcie sezonu w Kowarach
DESCRIPTION:
URL:https://klassikauto.pl/impreza/ii-zlot-klasykow-czyli-klasyczne-rozpoczecie-sezonu-w-kowarach/
LOCATION:Kowary
CATEGORIES:Zlot
END:VEVENT
BEGIN:VEVENT
DTSTART;TZID=Europe/Helsinki:20200524T100000
DTEND;TZID=Europe/Helsinki:20200524T180000
DTSTAMP:20260423T233348
CREATED:20200206T164717Z
LAST-MODIFIED:20200206T164717Z
UID:71545-1590314400-1590343200@klassikauto.pl
SUMMARY:Rozpoczęcie Sezonu Motoryzacyjnego z WMMC
DESCRIPTION:
URL:https://klassikauto.pl/impreza/rozpoczecie-sezonu-motoryzacyjnego-z-wmmc/
LOCATION:Giżycko
CATEGORIES:Zlot
END:VEVENT
BEGIN:VEVENT
DTSTART;TZID=Europe/Helsinki:20200529T120000
DTEND;TZID=Europe/Helsinki:20200531T110000
DTSTAMP:20260423T233348
CREATED:20200320T191811Z
LAST-MODIFIED:20200320T191811Z
UID:72225-1590753600-1590922800@klassikauto.pl
SUMMARY:I Zlot VW klasyków i piknik rokendrolowy "Co w stawie plumko"
DESCRIPTION:
URL:https://klassikauto.pl/impreza/i-zlot-vw-klasykow-i-piknik-rokendrolowy-co-w-stawie-plumko/
LOCATION:Wilczkowice
CATEGORIES:Zlot
END:VEVENT
BEGIN:VEVENT
DTSTART;TZID=Europe/Helsinki:20200529T200000
DTEND;TZID=Europe/Helsinki:20200531T220000
DTSTAMP:20260423T233348
CREATED:20200322T124728Z
LAST-MODIFIED:20200322T124728Z
UID:72313-1590782400-1590962400@klassikauto.pl
SUMMARY:7. sraz socialistických vozidel
DESCRIPTION:
URL:https://klassikauto.pl/impreza/7-sraz-socialistickych-vozidel/
LOCATION:Hnacov\, Czechy
CATEGORIES:Zlot
END:VEVENT
BEGIN:VEVENT
DTSTART;TZID=Europe/Helsinki:20200530T080000
DTEND;TZID=Europe/Helsinki:20200530T170000
DTSTAMP:20260423T233348
CREATED:20200407T161540Z
LAST-MODIFIED:20200407T161540Z
UID:72571-1590825600-1590858000@klassikauto.pl
SUMMARY:XXXI. Jízda historických vozidel okolím Plzně
DESCRIPTION:
URL:https://klassikauto.pl/impreza/xxxi-jizda-historickych-vozidel-okolim-plzne/
LOCATION:Plzen\, Czechy
CATEGORIES:Rajd
END:VEVENT
BEGIN:VEVENT
DTSTART;TZID=Europe/Helsinki:20200530T080000
DTEND;TZID=Europe/Helsinki:20200530T190000
DTSTAMP:20260423T233348
CREATED:20200320T171947Z
LAST-MODIFIED:20200320T171947Z
UID:72186-1590825600-1590865200@klassikauto.pl
SUMMARY:Veteran Rallye Ostrava 2020
DESCRIPTION:
URL:https://klassikauto.pl/impreza/veteran-rallye-ostrava-2020/
LOCATION:Ostrawa\, Czechy
CATEGORIES:Rajd
END:VEVENT
BEGIN:VEVENT
DTSTART;TZID=Europe/Helsinki:20200530T080000
DTEND;TZID=Europe/Helsinki:20200531T170000
DTSTAMP:20260423T233348
CREATED:20200108T170841Z
LAST-MODIFIED:20200108T170841Z
UID:71066-1590825600-1590944400@klassikauto.pl
SUMMARY:IV Małomiasteczkowy Zlot Oldtimerów 2020
DESCRIPTION:
URL:https://klassikauto.pl/impreza/iv-malomiasteczkowy-zlot-oldtimerow-2020/
LOCATION:Marklowice
CATEGORIES:Zlot
END:VEVENT
END:VCALENDAR
<!-- RunCloud Hub 2026-04-23 22:33:48 -->