BEGIN:VCALENDAR
VERSION:2.0
PRODID:-//KlassikAuto.pl - ECPv6.7.0//NONSGML v1.0//EN
CALSCALE:GREGORIAN
METHOD:PUBLISH
X-ORIGINAL-URL:https://klassikauto.pl
X-WR-CALDESC:Wydarzenia dla KlassikAuto.pl
REFRESH-INTERVAL;VALUE=DURATION:PT1H
X-Robots-Tag:noindex
X-PUBLISHED-TTL:PT1H
BEGIN:VTIMEZONE
TZID:Europe/Helsinki
BEGIN:DAYLIGHT
TZOFFSETFROM:+0200
TZOFFSETTO:+0300
TZNAME:EEST
DTSTART:20200329T010000
END:DAYLIGHT
BEGIN:STANDARD
TZOFFSETFROM:+0300
TZOFFSETTO:+0200
TZNAME:EET
DTSTART:20201025T010000
END:STANDARD
END:VTIMEZONE
BEGIN:VEVENT
DTSTART;TZID=Europe/Helsinki:20200313T080000
DTEND;TZID=Europe/Helsinki:20200502T170000
DTSTAMP:20260424T014249
CREATED:20191117T075456Z
LAST-MODIFIED:20191117T075456Z
UID:70495-1584086400-1588438800@klassikauto.pl
SUMMARY:Motorcycles: 50Y of Endurance
DESCRIPTION:
URL:https://klassikauto.pl/impreza/motorcycles-50y-of-endurance/
LOCATION:Muzeum Autoworld\, Bruksela\, Belgia
CATEGORIES:Wystawa
END:VEVENT
BEGIN:VEVENT
DTSTART;TZID=Europe/Helsinki:20200418T090000
DTEND;TZID=Europe/Helsinki:20200630T120000
DTSTAMP:20260424T014249
CREATED:20200206T190439Z
LAST-MODIFIED:20200206T190439Z
UID:71666-1587200400-1593518400@klassikauto.pl
SUMMARY:VIII Rajd Autosana
DESCRIPTION:
URL:https://klassikauto.pl/impreza/viii-rajd-autosana/
LOCATION:Pomorze
CATEGORIES:Rajd
END:VEVENT
BEGIN:VEVENT
DTSTART;TZID=Europe/Helsinki:20200423T170000
DTEND;TZID=Europe/Helsinki:20200423T220000
DTSTAMP:20260424T014249
CREATED:20200206T171050Z
LAST-MODIFIED:20200206T171050Z
UID:71584-1587661200-1587679200@klassikauto.pl
SUMMARY:I Edycja Vintage Biker Event Day
DESCRIPTION:
URL:https://klassikauto.pl/impreza/i-edycja-vintage-biker-event-day/
LOCATION:Bydgoszcz
CATEGORIES:Zlot
END:VEVENT
BEGIN:VEVENT
DTSTART;TZID=Europe/Helsinki:20200425T080000
DTEND;TZID=Europe/Helsinki:20200425T200000
DTSTAMP:20260424T014249
CREATED:20200206T190644Z
LAST-MODIFIED:20200206T190644Z
UID:71668-1587801600-1587844800@klassikauto.pl
SUMMARY:III Wiosenny Rajd Pojazdów Zabytkowych Śladami Średzkiej Kolei
DESCRIPTION:
URL:https://klassikauto.pl/impreza/iii-wiosenny-rajd-pojazdow-zabytkowych-sladami-sredzkiej-kolei/
LOCATION:Środa Wielkopolska
CATEGORIES:Rajd
END:VEVENT
BEGIN:VEVENT
DTSTART;TZID=Europe/Helsinki:20200425T080000
DTEND;TZID=Europe/Helsinki:20200426T170000
DTSTAMP:20260424T014249
CREATED:20200108T165429Z
LAST-MODIFIED:20200108T165429Z
UID:71046-1587801600-1587920400@klassikauto.pl
SUMMARY:Święto Motoryzacyjne Uniejów! Rozpoczęcie Sezonu 2020!
DESCRIPTION:
URL:https://klassikauto.pl/impreza/swieto-motoryzacyjne-uniejow-rozpoczecie-sezonu-2020/
LOCATION:Uniejów
CATEGORIES:Zlot
END:VEVENT
BEGIN:VEVENT
DTSTART;TZID=Europe/Helsinki:20200425T100000
DTEND;TZID=Europe/Helsinki:20200425T170000
DTSTAMP:20260424T014249
CREATED:20200110T170305Z
LAST-MODIFIED:20200110T170305Z
UID:71238-1587808800-1587834000@klassikauto.pl
SUMMARY:XII Ogólnopolski Zlot Mustangów
DESCRIPTION:
URL:https://klassikauto.pl/impreza/xii-ogolnopolski-zlot-mustangow/
LOCATION:Uniejów
CATEGORIES:Zlot
END:VEVENT
BEGIN:VEVENT
DTSTART;TZID=Europe/Helsinki:20200425T100000
DTEND;TZID=Europe/Helsinki:20200426T180000
DTSTAMP:20260424T014249
CREATED:20200206T181309Z
LAST-MODIFIED:20200206T181309Z
UID:71639-1587808800-1587924000@klassikauto.pl
SUMMARY:Oldtimer Warsaw Bazar 2020
DESCRIPTION:
URL:https://klassikauto.pl/impreza/oldtimer-warsaw-bazar-2020/
LOCATION:Warszawa
CATEGORIES:Aukcja
END:VEVENT
BEGIN:VEVENT
DTSTART;TZID=Europe/Helsinki:20200426T080000
DTEND;TZID=Europe/Helsinki:20200426T170000
DTSTAMP:20260424T014249
CREATED:20200108T213527Z
LAST-MODIFIED:20200108T213527Z
UID:71148-1587888000-1587920400@klassikauto.pl
SUMMARY:Oldtimerbazar
DESCRIPTION:
URL:https://klassikauto.pl/impreza/oldtimerbazar-21/
LOCATION:Wrocław\, Wrocław\, Poland
CATEGORIES:Aukcja
END:VEVENT
BEGIN:VEVENT
DTSTART;TZID=Europe/Helsinki:20200426T100000
DTEND;TZID=Europe/Helsinki:20200426T170000
DTSTAMP:20260424T014249
CREATED:20200206T164317Z
LAST-MODIFIED:20200206T164317Z
UID:71539-1587895200-1587920400@klassikauto.pl
SUMMARY:VI Podlaskie Auto Cafe - edycja wiosna 2020!
DESCRIPTION:
URL:https://klassikauto.pl/impreza/vi-podlaskie-auto-cafe-edycja-wiosna-2020/
LOCATION:Tykocin
CATEGORIES:Zlot
END:VEVENT
BEGIN:VEVENT
DTSTART;TZID=Europe/Helsinki:20200426T100000
DTEND;TZID=Europe/Helsinki:20200426T180000
DTSTAMP:20260424T014249
CREATED:20200322T113027Z
LAST-MODIFIED:20200322T113042Z
UID:72279-1587895200-1587924000@klassikauto.pl
SUMMARY:V Rajd Rembertowski
DESCRIPTION:
URL:https://klassikauto.pl/impreza/v-rajd-rembertowski/
LOCATION:Warszawa
CATEGORIES:Zlot
END:VEVENT
BEGIN:VEVENT
DTSTART;TZID=Europe/Helsinki:20200426T110000
DTEND;TZID=Europe/Helsinki:20200426T170000
DTSTAMP:20260424T014249
CREATED:20200322T112840Z
LAST-MODIFIED:20200322T112840Z
UID:72277-1587898800-1587920400@klassikauto.pl
SUMMARY:Otwarcie Sezonu Motocyklowego MotoBanit Uniejów 2020
DESCRIPTION:
URL:https://klassikauto.pl/impreza/otwarcie-sezonu-motocyklowego-motobanit-uniejow-2020/
LOCATION:Uniejów
CATEGORIES:Zlot
END:VEVENT
BEGIN:VEVENT
DTSTART;TZID=Europe/Helsinki:20200426T120000
DTEND;TZID=Europe/Helsinki:20200426T190000
DTSTAMP:20260424T014249
CREATED:20200108T170232Z
LAST-MODIFIED:20200108T170232Z
UID:71057-1587902400-1587927600@klassikauto.pl
SUMMARY:4 Kaszubski Zlot Fiata 126p
DESCRIPTION:
URL:https://klassikauto.pl/impreza/4-kaszubski-zlot-fiata-126p/
LOCATION:Przetoczyno
CATEGORIES:Zlot
END:VEVENT
BEGIN:VEVENT
DTSTART;TZID=Europe/Helsinki:20200426T133000
DTEND;TZID=Europe/Helsinki:20200426T170000
DTSTAMP:20260424T014249
CREATED:20200206T185236Z
LAST-MODIFIED:20200206T185236Z
UID:71655-1587907800-1587920400@klassikauto.pl
SUMMARY:Legnickie Klasyki - Otwarcie Sezonu 2020
DESCRIPTION:
URL:https://klassikauto.pl/impreza/legnickie-klasyki-otwarcie-sezonu-2020/
LOCATION:Legnica
CATEGORIES:Zlot
END:VEVENT
BEGIN:VEVENT
DTSTART;TZID=Europe/Helsinki:20200426T140000
DTEND;TZID=Europe/Helsinki:20200426T170000
DTSTAMP:20260424T014249
CREATED:20200322T102306Z
LAST-MODIFIED:20200322T102306Z
UID:72248-1587909600-1587920400@klassikauto.pl
SUMMARY:Otwarcie Sezonu Motocyklowego 2020
DESCRIPTION:
URL:https://klassikauto.pl/impreza/otwarcie-sezonu-motocyklowego-2020/
LOCATION:Tarnowskie Góry
CATEGORIES:Zlot
END:VEVENT
BEGIN:VEVENT
DTSTART;TZID=Europe/Helsinki:20200426T160000
DTEND;TZID=Europe/Helsinki:20200426T210000
DTSTAMP:20260424T014249
CREATED:20200206T175954Z
LAST-MODIFIED:20200206T175954Z
UID:71625-1587916800-1587934800@klassikauto.pl
SUMMARY:Otwarcie Sezonu 2020
DESCRIPTION:Organizator: Rzeszowskieoldtimery.pl
URL:https://klassikauto.pl/impreza/otwarcie-sezonu-2020-2/
LOCATION:Rzeszów
CATEGORIES:Zlot
END:VEVENT
BEGIN:VEVENT
DTSTART;TZID=Europe/Helsinki:20200429T170000
DTEND;TZID=Europe/Helsinki:20200429T210000
DTSTAMP:20260424T014249
CREATED:20200322T102836Z
LAST-MODIFIED:20200322T102836Z
UID:72255-1588179600-1588194000@klassikauto.pl
SUMMARY:Czeladzkie Spotkania Motocyklistów - Inauguracja sezonu 2020
DESCRIPTION:
URL:https://klassikauto.pl/impreza/czeladzkie-spotkania-motocyklistow-inauguracja-sezonu-2020/
LOCATION:Czeladź\, Ruda Śląska
CATEGORIES:Zlot
END:VEVENT
BEGIN:VEVENT
DTSTART;TZID=Europe/Helsinki:20200430T080000
DTEND;TZID=Europe/Helsinki:20200503T170000
DTSTAMP:20260424T014249
CREATED:20200206T163705Z
LAST-MODIFIED:20200206T163705Z
UID:71533-1588233600-1588525200@klassikauto.pl
SUMMARY:I Runda Mistrzostw Polski Pojazdów Zabytkowych
DESCRIPTION:
URL:https://klassikauto.pl/impreza/i-runda-mistrzostw-polski-pojazdow-zabytkowych-2/
LOCATION:Stalowa Wola\, Poland
CATEGORIES:Rajd
END:VEVENT
BEGIN:VEVENT
DTSTART;TZID=Europe/Helsinki:20200430T080000
DTEND;TZID=Europe/Helsinki:20200503T170000
DTSTAMP:20260424T014249
CREATED:20200206T181649Z
LAST-MODIFIED:20200206T181649Z
UID:71643-1588233600-1588525200@klassikauto.pl
SUMMARY:Majówka Klasyków 2020
DESCRIPTION:
URL:https://klassikauto.pl/impreza/majowka-klasykow-2020/
LOCATION:Kaszuby
CATEGORIES:Zlot
END:VEVENT
BEGIN:VEVENT
DTSTART;TZID=Europe/Helsinki:20200430T170000
DTEND;TZID=Europe/Helsinki:20200503T123000
DTSTAMP:20260424T014249
CREATED:20200206T190923Z
LAST-MODIFIED:20200206T190923Z
UID:71670-1588266000-1588509000@klassikauto.pl
SUMMARY:VI Piknik Nekielski na Podlasiu
DESCRIPTION:
URL:https://klassikauto.pl/impreza/vi-piknik-nekielski-na-podlasiu/
LOCATION:Białystok
CATEGORIES:Zlot
END:VEVENT
BEGIN:VEVENT
DTSTART;TZID=Europe/Helsinki:20200501T080000
DTEND;TZID=Europe/Helsinki:20200501T170000
DTSTAMP:20260424T014249
CREATED:20200210T174135Z
LAST-MODIFIED:20200210T174135Z
UID:71756-1588320000-1588352400@klassikauto.pl
SUMMARY:VI Zlot Pojazdów Zabytkowych w POM PRL
DESCRIPTION:
URL:https://klassikauto.pl/impreza/vi-zlot-pojazdow-zabytkowych-w-pom-prl/
LOCATION:Sępólno Krajeńskie
CATEGORIES:Zlot
END:VEVENT
BEGIN:VEVENT
DTSTART;TZID=Europe/Helsinki:20200501T080000
DTEND;TZID=Europe/Helsinki:20200501T170000
DTSTAMP:20260424T014249
CREATED:20200407T160243Z
LAST-MODIFIED:20200407T160243Z
UID:72556-1588320000-1588352400@klassikauto.pl
SUMMARY:Veteráni prvomájových Petrovic – VPP
DESCRIPTION:
URL:https://klassikauto.pl/impreza/veterani-prvomajovych-petrovic-vpp/
LOCATION:Petrovice u Sedlčan\, Czechy
CATEGORIES:Wystawa,Zlot
END:VEVENT
BEGIN:VEVENT
DTSTART;TZID=Europe/Helsinki:20200501T100000
DTEND;TZID=Europe/Helsinki:20200503T130000
DTSTAMP:20260424T014249
CREATED:20200320T192030Z
LAST-MODIFIED:20200320T192141Z
UID:72228-1588327200-1588510800@klassikauto.pl
SUMMARY:XVI ZLOT Garbatych Bolidów & C.o. Radzyń 2020
DESCRIPTION:
URL:https://klassikauto.pl/impreza/xvi-zlot-garbatych-bolidow-c-o-radzyn-2020/
LOCATION:Radzyń
CATEGORIES:Zlot
END:VEVENT
BEGIN:VEVENT
DTSTART;TZID=Europe/Helsinki:20200501T110000
DTEND;TZID=Europe/Helsinki:20200503T140000
DTSTAMP:20260424T014249
CREATED:20200320T173444Z
LAST-MODIFIED:20200320T173444Z
UID:72196-1588330800-1588514400@klassikauto.pl
SUMMARY:1. Klasyczna Majówka
DESCRIPTION:
URL:https://klassikauto.pl/impreza/1-klasyczna-majowka/
LOCATION:Wołczyn
CATEGORIES:Zlot
END:VEVENT
BEGIN:VEVENT
DTSTART;TZID=Europe/Helsinki:20200501T120000
DTEND;TZID=Europe/Helsinki:20200501T180000
DTSTAMP:20260424T014249
CREATED:20200320T170124Z
LAST-MODIFIED:20200320T170124Z
UID:72173-1588334400-1588356000@klassikauto.pl
SUMMARY:Spotkanie Pojazdów Zabytkowych I Specjalnych
DESCRIPTION:
URL:https://klassikauto.pl/impreza/spotkanie-pojazdow-zabytkowych-i-specjalnych/
LOCATION:Sępólno Krajeńskie
CATEGORIES:Zlot
END:VEVENT
BEGIN:VEVENT
DTSTART;TZID=Europe/Helsinki:20200502T080000
DTEND;TZID=Europe/Helsinki:20200503T170000
DTSTAMP:20260424T014249
CREATED:20200210T183145Z
LAST-MODIFIED:20200210T183145Z
UID:71792-1588406400-1588525200@klassikauto.pl
SUMMARY:Technorama Ulm
DESCRIPTION:
URL:https://klassikauto.pl/impreza/technorama-ulm-3/
LOCATION:Ulm
CATEGORIES:Targi
END:VEVENT
BEGIN:VEVENT
DTSTART;TZID=Europe/Helsinki:20200502T100000
DTEND;TZID=Europe/Helsinki:20200502T160000
DTSTAMP:20260424T014249
CREATED:20200206T174749Z
LAST-MODIFIED:20200206T174749Z
UID:71615-1588413600-1588435200@klassikauto.pl
SUMMARY:3. Gorlicka Klasyczna Majówka 2020
DESCRIPTION:
URL:https://klassikauto.pl/impreza/3-gorlicka-klasyczna-majowka-2020/
LOCATION:Gorlice
CATEGORIES:Zlot
END:VEVENT
BEGIN:VEVENT
DTSTART;TZID=Europe/Helsinki:20200502T113000
DTEND;TZID=Europe/Helsinki:20200502T180000
DTSTAMP:20260424T014249
CREATED:20200206T191114Z
LAST-MODIFIED:20200206T191114Z
UID:71672-1588419000-1588442400@klassikauto.pl
SUMMARY:25-lecie ROCZNIKA '95 Poloneza
DESCRIPTION:
URL:https://klassikauto.pl/impreza/25-lecie-rocznika-95-poloneza/
LOCATION:Warszawa
CATEGORIES:Zlot
END:VEVENT
BEGIN:VEVENT
DTSTART;TZID=Europe/Helsinki:20200503T080000
DTEND;TZID=Europe/Helsinki:20200503T170000
DTSTAMP:20260424T014250
CREATED:20200206T174533Z
LAST-MODIFIED:20200206T174533Z
UID:71613-1588492800-1588525200@klassikauto.pl
SUMMARY:VIII Piknik Pod Kominem
DESCRIPTION:
URL:https://klassikauto.pl/impreza/viii-piknik-pod-kominem/
LOCATION:Jasło
CATEGORIES:Zlot
END:VEVENT
BEGIN:VEVENT
DTSTART;TZID=Europe/Helsinki:20200503T080000
DTEND;TZID=Europe/Helsinki:20200503T170000
DTSTAMP:20260424T014250
CREATED:20200407T160606Z
LAST-MODIFIED:20200407T160606Z
UID:72559-1588492800-1588525200@klassikauto.pl
SUMMARY:Výstava Jawa ČZ AutoMotoMuzeum Oldtimer Kopřivnice
DESCRIPTION:
URL:https://klassikauto.pl/impreza/vystava-jawa-cz-automotomuzeum-oldtimer-koprivnice/
LOCATION:Koprivnice\, Czechy
CATEGORIES:Wystawa
END:VEVENT
BEGIN:VEVENT
DTSTART;TZID=Europe/Helsinki:20200508T080000
DTEND;TZID=Europe/Helsinki:20200508T170000
DTSTAMP:20260424T014250
CREATED:20200407T173410Z
LAST-MODIFIED:20200407T173410Z
UID:72650-1588924800-1588957200@klassikauto.pl
SUMMARY:XV. ročník \,\,Stopou slánského Oriona"
DESCRIPTION:
URL:https://klassikauto.pl/impreza/xv-rocnik-stopou-slanskeho-oriona/
CATEGORIES:Zlot
END:VEVENT
END:VCALENDAR
<!-- RunCloud Hub 2026-04-24 00:42:50 -->