BEGIN:VCALENDAR
VERSION:2.0
PRODID:-//KlassikAuto.pl - ECPv6.7.0//NONSGML v1.0//EN
CALSCALE:GREGORIAN
METHOD:PUBLISH
X-ORIGINAL-URL:https://klassikauto.pl
X-WR-CALDESC:Wydarzenia dla KlassikAuto.pl
REFRESH-INTERVAL;VALUE=DURATION:PT1H
X-Robots-Tag:noindex
X-PUBLISHED-TTL:PT1H
BEGIN:VTIMEZONE
TZID:Europe/Helsinki
BEGIN:DAYLIGHT
TZOFFSETFROM:+0200
TZOFFSETTO:+0300
TZNAME:EEST
DTSTART:20200329T010000
END:DAYLIGHT
BEGIN:STANDARD
TZOFFSETFROM:+0300
TZOFFSETTO:+0200
TZNAME:EET
DTSTART:20201025T010000
END:STANDARD
END:VTIMEZONE
BEGIN:VEVENT
DTSTART;TZID=Europe/Helsinki:20200205T080000
DTEND;TZID=Europe/Helsinki:20200209T170000
DTSTAMP:20260424T031842
CREATED:20200108T172244Z
LAST-MODIFIED:20200108T172244Z
UID:71082-1580889600-1581267600@klassikauto.pl
SUMMARY:Retro Mobile 2020
DESCRIPTION:
URL:https://klassikauto.pl/impreza/retro-mobile-2020/
LOCATION:Paryż
CATEGORIES:Targi
END:VEVENT
BEGIN:VEVENT
DTSTART;TZID=Europe/Helsinki:20200207T080000
DTEND;TZID=Europe/Helsinki:20200307T170000
DTSTAMP:20260424T031842
CREATED:20191117T075300Z
LAST-MODIFIED:20191117T075300Z
UID:70493-1581062400-1583600400@klassikauto.pl
SUMMARY:Love Bugs Transformations
DESCRIPTION:
URL:https://klassikauto.pl/impreza/love-bugs-transformations/
LOCATION:Muzeum Autoworld\, Bruksela\, Belgia
CATEGORIES:Wystawa
END:VEVENT
BEGIN:VEVENT
DTSTART;TZID=Europe/Helsinki:20200208T120000
DTEND;TZID=Europe/Helsinki:20200208T200000
DTSTAMP:20260424T031842
CREATED:20200108T214356Z
LAST-MODIFIED:20200108T214417Z
UID:71165-1581163200-1581192000@klassikauto.pl
SUMMARY:15 Zimowy wjazd na Równicę
DESCRIPTION:Organizator: Muzeum Motocykli Zabytkowych „Rdzawe Diamenty”
URL:https://klassikauto.pl/impreza/15-zimowy-wjazd-na-rownice/
LOCATION:Ustroń
CATEGORIES:Rajd
END:VEVENT
BEGIN:VEVENT
DTSTART;TZID=Europe/Helsinki:20200220T080000
DTEND;TZID=Europe/Helsinki:20200223T170000
DTSTAMP:20260424T031842
CREATED:20200108T173931Z
LAST-MODIFIED:20200108T173931Z
UID:71095-1582185600-1582477200@klassikauto.pl
SUMMARY:The London Classic Car Show 2020
DESCRIPTION:
URL:https://klassikauto.pl/impreza/the-london-classic-car-show-2020/
LOCATION:Londyn\, Wielka Brytania
CATEGORIES:Targi
END:VEVENT
BEGIN:VEVENT
DTSTART;TZID=Europe/Helsinki:20200221T080000
DTEND;TZID=Europe/Helsinki:20200223T170000
DTSTAMP:20260424T031842
CREATED:20200108T174219Z
LAST-MODIFIED:20200108T174219Z
UID:71097-1582272000-1582477200@klassikauto.pl
SUMMARY:Race Retro International Historic Motosport Show 2020
DESCRIPTION:
URL:https://klassikauto.pl/impreza/race-retro-international-historic-motosport-show-2020/
LOCATION:Stoneleigh Park Kenilworth
CATEGORIES:Rajd
END:VEVENT
BEGIN:VEVENT
DTSTART;TZID=Europe/Helsinki:20200222T100000
DTEND;TZID=Europe/Helsinki:20200223T170000
DTSTAMP:20260424T031842
CREATED:20200206T170917Z
LAST-MODIFIED:20200206T170917Z
UID:71582-1582365600-1582477200@klassikauto.pl
SUMMARY:Oldtimer Meeting Toruń 2020
DESCRIPTION:
URL:https://klassikauto.pl/impreza/oldtimer-meeting-torun-2020/
LOCATION:Toruń
CATEGORIES:Zlot
END:VEVENT
BEGIN:VEVENT
DTSTART;TZID=Europe/Helsinki:20200227T080000
DTEND;TZID=Europe/Helsinki:20200301T170000
DTSTAMP:20260424T031842
CREATED:20200108T174410Z
LAST-MODIFIED:20200108T203909Z
UID:71099-1582790400-1583082000@klassikauto.pl
SUMMARY:Retro Classics 2020
DESCRIPTION:
URL:https://klassikauto.pl/impreza/retro-classics-weltweit-groste-oldtimermesse-2020/
LOCATION:Stuttgart\, Niemcy
CATEGORIES:Targi
END:VEVENT
BEGIN:VEVENT
DTSTART;TZID=Europe/Helsinki:20200229T070000
DTEND;TZID=Europe/Helsinki:20200229T160000
DTSTAMP:20260424T031842
CREATED:20200110T152358Z
LAST-MODIFIED:20200110T152358Z
UID:71196-1582959600-1582992000@klassikauto.pl
SUMMARY:Puchar Zimowy Automobilklubu Radomskiego 2020 - Runda II
DESCRIPTION:
URL:https://klassikauto.pl/impreza/puchar-zimowy-automobilklubu-radomskiego-2020-runda-ii/
LOCATION:Radom
CATEGORIES:Rajd
END:VEVENT
BEGIN:VEVENT
DTSTART;TZID=Europe/Helsinki:20200229T110000
DTEND;TZID=Europe/Helsinki:20200229T170000
DTSTAMP:20260424T031842
CREATED:20200206T163237Z
LAST-MODIFIED:20200206T163237Z
UID:71529-1582974000-1582995600@klassikauto.pl
SUMMARY:Rozpoczęcie Sezonu Rajdowego i Zabytkowego w Rzeszowie
DESCRIPTION:
URL:https://klassikauto.pl/impreza/rozpoczecie-sezonu-rajdowego-i-zabytkowego-w-rzeszowie/
LOCATION:Rzeszów
CATEGORIES:Rajd,Zlot
END:VEVENT
BEGIN:VEVENT
DTSTART;TZID=Europe/Helsinki:20200301T080000
DTEND;TZID=Europe/Helsinki:20200301T170000
DTSTAMP:20260424T031842
CREATED:20200108T213244Z
LAST-MODIFIED:20200108T213244Z
UID:71144-1583049600-1583082000@klassikauto.pl
SUMMARY:Oldtimerbazar
DESCRIPTION:
URL:https://klassikauto.pl/impreza/oldtimerbazar-19/
LOCATION:Wrocław\, Wrocław\, Poland
CATEGORIES:Aukcja
END:VEVENT
BEGIN:VEVENT
DTSTART;TZID=Europe/Helsinki:20200305T080000
DTEND;TZID=Europe/Helsinki:20200305T170000
DTSTAMP:20260424T031842
CREATED:20200108T211211Z
LAST-MODIFIED:20200108T211241Z
UID:71132-1583395200-1583427600@klassikauto.pl
SUMMARY:The Amelia Island Auction
DESCRIPTION:
URL:https://klassikauto.pl/impreza/the-amelia-island-auction/
LOCATION:Amelia Island\, Floryda
CATEGORIES:Aukcja
END:VEVENT
BEGIN:VEVENT
DTSTART;TZID=Europe/Helsinki:20200306T080000
DTEND;TZID=Europe/Helsinki:20200308T170000
DTSTAMP:20260424T031842
CREATED:20200210T181951Z
LAST-MODIFIED:20200210T181951Z
UID:71788-1583481600-1583686800@klassikauto.pl
SUMMARY:43. Antwerp Classic Salon
DESCRIPTION:
URL:https://klassikauto.pl/impreza/43-antwerp-classic-salon/
LOCATION:Antwerpia\, Belgia
CATEGORIES:Zlot
END:VEVENT
BEGIN:VEVENT
DTSTART;TZID=Europe/Helsinki:20200307T080000
DTEND;TZID=Europe/Helsinki:20200308T170000
DTSTAMP:20260424T031842
CREATED:20200108T171602Z
LAST-MODIFIED:20200108T171602Z
UID:71073-1583568000-1583686800@klassikauto.pl
SUMMARY:Osnabrücker Oldtimer-Messe -Teilemarkt
DESCRIPTION:
URL:https://klassikauto.pl/impreza/osnabrucker-oldtimer-messe-teilemarkt/
LOCATION:Osnabruck\, Niemcy
CATEGORIES:Targi
END:VEVENT
BEGIN:VEVENT
DTSTART;TZID=Europe/Helsinki:20200308T090000
DTEND;TZID=Europe/Helsinki:20200308T150000
DTSTAMP:20260424T031842
CREATED:20200110T154549Z
LAST-MODIFIED:20200110T154549Z
UID:71220-1583658000-1583679600@klassikauto.pl
SUMMARY:Ogólnopolska Giełda Modeli Samochodów im. Sławoja Gwiazdowskiego
DESCRIPTION:
URL:https://klassikauto.pl/impreza/ogolnopolska-gielda-modeli-samochodow-im-slawoja-gwiazdowskiego-5/
LOCATION:Warszawa
CATEGORIES:Aukcja
END:VEVENT
BEGIN:VEVENT
DTSTART;TZID=Europe/Helsinki:20200313T080000
DTEND;TZID=Europe/Helsinki:20200502T170000
DTSTAMP:20260424T031842
CREATED:20191117T075456Z
LAST-MODIFIED:20191117T075456Z
UID:70495-1584086400-1588438800@klassikauto.pl
SUMMARY:Motorcycles: 50Y of Endurance
DESCRIPTION:
URL:https://klassikauto.pl/impreza/motorcycles-50y-of-endurance/
LOCATION:Muzeum Autoworld\, Bruksela\, Belgia
CATEGORIES:Wystawa
END:VEVENT
BEGIN:VEVENT
DTSTART;TZID=Europe/Helsinki:20200314T080000
DTEND;TZID=Europe/Helsinki:20200315T170000
DTSTAMP:20260424T031842
CREATED:20200108T165713Z
LAST-MODIFIED:20200108T165713Z
UID:71051-1584172800-1584291600@klassikauto.pl
SUMMARY:Auto Moto Arena 2020
DESCRIPTION:
URL:https://klassikauto.pl/impreza/auto-moto-arena-2020/
LOCATION:Ostróda
CATEGORIES:Targi
END:VEVENT
BEGIN:VEVENT
DTSTART;TZID=Europe/Helsinki:20200314T080000
DTEND;TZID=Europe/Helsinki:20200315T170000
DTSTAMP:20260424T031842
CREATED:20200210T183030Z
LAST-MODIFIED:20200210T183030Z
UID:71790-1584172800-1584291600@klassikauto.pl
SUMMARY:Technorama Kassel
DESCRIPTION:
URL:https://klassikauto.pl/impreza/technorama-kassel-2/
LOCATION:Kassel\, Germany
CATEGORIES:Targi
END:VEVENT
BEGIN:VEVENT
DTSTART;TZID=Europe/Helsinki:20200315T100000
DTEND;TZID=Europe/Helsinki:20200315T160000
DTSTAMP:20260424T031842
CREATED:20200110T152548Z
LAST-MODIFIED:20200110T152556Z
UID:71198-1584266400-1584288000@klassikauto.pl
SUMMARY:Giełda Modeli Samochodowych
DESCRIPTION:
URL:https://klassikauto.pl/impreza/gielda-modeli-samochodowych/
LOCATION:Warszawa
CATEGORIES:Aukcja
END:VEVENT
BEGIN:VEVENT
DTSTART;TZID=Europe/Helsinki:20200321T080000
DTEND;TZID=Europe/Helsinki:20200321T230000
DTSTAMP:20260424T031842
CREATED:20200110T162734Z
LAST-MODIFIED:20200110T162742Z
UID:71224-1584777600-1584831600@klassikauto.pl
SUMMARY:Cars & Breakfast 2
DESCRIPTION:
URL:https://klassikauto.pl/impreza/cars-breakfast-2/
CATEGORIES:Zlot
END:VEVENT
BEGIN:VEVENT
DTSTART;TZID=Europe/Helsinki:20200322T080000
DTEND;TZID=Europe/Helsinki:20200322T170000
DTSTAMP:20260424T031842
CREATED:20200108T213450Z
LAST-MODIFIED:20200108T213450Z
UID:71146-1584864000-1584896400@klassikauto.pl
SUMMARY:Oldtimerbazar
DESCRIPTION:
URL:https://klassikauto.pl/impreza/oldtimerbazar-20/
LOCATION:Sosnowiec
CATEGORIES:Aukcja
END:VEVENT
BEGIN:VEVENT
DTSTART;TZID=Europe/Helsinki:20200322T080000
DTEND;TZID=Europe/Helsinki:20200322T170000
DTSTAMP:20260424T031842
CREATED:20200206T185901Z
LAST-MODIFIED:20200206T185901Z
UID:71661-1584864000-1584896400@klassikauto.pl
SUMMARY:Rozpoczęcie Sezonu Jajcarnia
DESCRIPTION:
URL:https://klassikauto.pl/impreza/rozpoczecie-sezonu-jajcarnia/
LOCATION:Sobowidz
CATEGORIES:Zlot
END:VEVENT
BEGIN:VEVENT
DTSTART;TZID=Europe/Helsinki:20200322T100000
DTEND;TZID=Europe/Helsinki:20200322T163000
DTSTAMP:20260424T031842
CREATED:20200108T164656Z
LAST-MODIFIED:20200108T164656Z
UID:71038-1584871200-1584894600@klassikauto.pl
SUMMARY:Rozpoczęcie sezonu 2020 w Lipsku
DESCRIPTION:
URL:https://klassikauto.pl/impreza/rozpoczecie-sezonu-2020-w-lipsku/
LOCATION:Lipsko
CATEGORIES:Zlot
END:VEVENT
BEGIN:VEVENT
DTSTART;TZID=Europe/Helsinki:20200325T080000
DTEND;TZID=Europe/Helsinki:20200329T170000
DTSTAMP:20260424T031842
CREATED:20200210T184121Z
LAST-MODIFIED:20200210T184121Z
UID:71796-1585123200-1585501200@klassikauto.pl
SUMMARY:32.Techno-Classica Essen
DESCRIPTION:
URL:https://klassikauto.pl/impreza/32-techno-classica-essen/
LOCATION:Essen\, Niemcy
CATEGORIES:Targi
END:VEVENT
BEGIN:VEVENT
DTSTART;TZID=Europe/Helsinki:20200326T100000
DTEND;TZID=Europe/Helsinki:20200329T180000
DTSTAMP:20260424T031842
CREATED:20200110T163608Z
LAST-MODIFIED:20200110T163608Z
UID:71228-1585216800-1585504800@klassikauto.pl
SUMMARY:Poznań Motor Show 2020
DESCRIPTION:
URL:https://klassikauto.pl/impreza/poznan-motor-show-2020/
LOCATION:Poznań
CATEGORIES:Targi
END:VEVENT
BEGIN:VEVENT
DTSTART;TZID=Europe/Helsinki:20200329T080000
DTEND;TZID=Europe/Helsinki:20200329T170000
DTSTAMP:20260424T031842
CREATED:20200108T211817Z
LAST-MODIFIED:20200108T211817Z
UID:71135-1585468800-1585501200@klassikauto.pl
SUMMARY:Goodwood Members' Meeting Sale
DESCRIPTION:
URL:https://klassikauto.pl/impreza/goodwood-members-meeting-sale/
LOCATION:Goodwood
CATEGORIES:Aukcja
END:VEVENT
BEGIN:VEVENT
DTSTART;TZID=Europe/Helsinki:20200329T110000
DTEND;TZID=Europe/Helsinki:20200329T180000
DTSTAMP:20260424T031842
CREATED:20200206T171405Z
LAST-MODIFIED:20200206T171405Z
UID:71589-1585479600-1585504800@klassikauto.pl
SUMMARY:Motocyklowa Niedziela w Stylu Retro
DESCRIPTION:
URL:https://klassikauto.pl/impreza/motocyklowa-niedziela-w-stylu-retro/
LOCATION:Puławy
CATEGORIES:Zlot
END:VEVENT
BEGIN:VEVENT
DTSTART;TZID=Europe/Helsinki:20200401T080000
DTEND;TZID=Europe/Helsinki:20200403T170000
DTSTAMP:20260424T031842
CREATED:20191117T073733Z
LAST-MODIFIED:20191117T073733Z
UID:70485-1585728000-1585933200@klassikauto.pl
SUMMARY:Warsaw Bus Expo 2020
DESCRIPTION:
URL:https://klassikauto.pl/impreza/warsaw-bus-expo-2020/
LOCATION:Warszawa
CATEGORIES:Targi
END:VEVENT
BEGIN:VEVENT
DTSTART;TZID=Europe/Helsinki:20200404T120000
DTEND;TZID=Europe/Helsinki:20200404T180000
DTSTAMP:20260424T031842
CREATED:20200108T164843Z
LAST-MODIFIED:20200108T164843Z
UID:71040-1586001600-1586023200@klassikauto.pl
SUMMARY:Rozpoczęcie Sezonu Nowa Iwiczna Classic Car 2020
DESCRIPTION:
URL:https://klassikauto.pl/impreza/rozpoczecie-sezonu-nowa-iwiczna-classic-car-2020/
LOCATION:Mysiadło
CATEGORIES:Zlot
END:VEVENT
BEGIN:VEVENT
DTSTART;TZID=Europe/Helsinki:20200404T180000
DTEND;TZID=Europe/Helsinki:20200404T180000
DTSTAMP:20260424T031842
CREATED:20200108T172436Z
LAST-MODIFIED:20200108T172436Z
UID:71084-1586023200-1586023200@klassikauto.pl
SUMMARY:Saisonbeginn bei der Classic Car Company
DESCRIPTION:
URL:https://klassikauto.pl/impreza/saisonbeginn-bei-der-classic-car-company/
LOCATION:Herford\, Niemcy
CATEGORIES:Zlot
END:VEVENT
BEGIN:VEVENT
DTSTART;TZID=Europe/Helsinki:20200405T120000
DTEND;TZID=Europe/Helsinki:20200405T180000
DTSTAMP:20260424T031842
CREATED:20200108T170405Z
LAST-MODIFIED:20200108T170405Z
UID:71060-1586088000-1586109600@klassikauto.pl
SUMMARY:Rozpoczęcie sezonu 2k20
DESCRIPTION:
URL:https://klassikauto.pl/impreza/rozpoczecie-sezonu-2k20/
LOCATION:Sochaczew
CATEGORIES:Zlot
END:VEVENT
END:VCALENDAR
<!-- RunCloud Hub 2026-04-24 02:18:42 -->