BEGIN:VCALENDAR
VERSION:2.0
PRODID:-//KlassikAuto.pl - ECPv6.7.0//NONSGML v1.0//EN
CALSCALE:GREGORIAN
METHOD:PUBLISH
X-ORIGINAL-URL:https://klassikauto.pl
X-WR-CALDESC:Wydarzenia dla KlassikAuto.pl
REFRESH-INTERVAL;VALUE=DURATION:PT1H
X-Robots-Tag:noindex
X-PUBLISHED-TTL:PT1H
BEGIN:VTIMEZONE
TZID:Europe/Helsinki
BEGIN:DAYLIGHT
TZOFFSETFROM:+0200
TZOFFSETTO:+0300
TZNAME:EEST
DTSTART:20190331T010000
END:DAYLIGHT
BEGIN:STANDARD
TZOFFSETFROM:+0300
TZOFFSETTO:+0200
TZNAME:EET
DTSTART:20191027T010000
END:STANDARD
END:VTIMEZONE
BEGIN:VEVENT
DTSTART;TZID=Europe/Helsinki:20191004T080000
DTEND;TZID=Europe/Helsinki:20191006T170000
DTSTAMP:20260424T122259
CREATED:20190904T192521Z
LAST-MODIFIED:20190904T192521Z
UID:69312-1570176000-1570381200@klassikauto.pl
SUMMARY:VI Jesienny Rajd Pojazdów Zabytkowych AW Dolsk
DESCRIPTION:
URL:https://klassikauto.pl/impreza/vi-jesienny-rajd-pojazdow-zabytkowych-aw-dolsk/
LOCATION:Dolsk
CATEGORIES:Rajd
END:VEVENT
BEGIN:VEVENT
DTSTART;TZID=Europe/Helsinki:20191005T080000
DTEND;TZID=Europe/Helsinki:20191006T170000
DTSTAMP:20260424T122259
CREATED:20190807T184345Z
LAST-MODIFIED:20190807T184345Z
UID:68653-1570262400-1570381200@klassikauto.pl
SUMMARY:Kölner Autoschau
DESCRIPTION:
URL:https://klassikauto.pl/impreza/kolner-autoschau/
LOCATION:Kolonia\, Niemcy
CATEGORIES:Wystawa,Zlot
END:VEVENT
BEGIN:VEVENT
DTSTART;TZID=Europe/Helsinki:20191005T080000
DTEND;TZID=Europe/Helsinki:20191006T170000
DTSTAMP:20260424T122259
CREATED:20190807T184723Z
LAST-MODIFIED:20190807T184723Z
UID:68658-1570262400-1570381200@klassikauto.pl
SUMMARY:Remise Oldtimer Herbstfest 2019
DESCRIPTION:
URL:https://klassikauto.pl/impreza/remise-oldtimer-herbstfest-2019/
LOCATION:Düsseldorf\, Niemcy
CATEGORIES:Wystawa,Zlot
END:VEVENT
BEGIN:VEVENT
DTSTART;TZID=Europe/Helsinki:20191005T080000
DTEND;TZID=Europe/Helsinki:20191006T170000
DTSTAMP:20260424T122259
CREATED:20190807T193342Z
LAST-MODIFIED:20190807T193342Z
UID:68717-1570262400-1570381200@klassikauto.pl
SUMMARY:14. Auto Moto Show - Targi Motoryzacyjne w Arenie Gliwice
DESCRIPTION:
URL:https://klassikauto.pl/impreza/14-auto-moto-show-targi-motoryzacyjne-w-arenie-gliwice/
LOCATION:Gliwice
CATEGORIES:Targi
END:VEVENT
BEGIN:VEVENT
DTSTART;TZID=Europe/Helsinki:20191005T080000
DTEND;TZID=Europe/Helsinki:20191130T170000
DTSTAMP:20260424T122259
CREATED:20181113T161152Z
LAST-MODIFIED:20181113T161152Z
UID:63212-1570262400-1575133200@klassikauto.pl
SUMMARY:In the spotlight: Zagato 100th Anniversary - wystawa
DESCRIPTION:
URL:https://klassikauto.pl/impreza/in-the-spotlight-zagato-100th-anniversary-wystawa/
LOCATION:Muzeum Autoworld\, Bruksela\, Belgia
CATEGORIES:Wystawa
END:VEVENT
BEGIN:VEVENT
DTSTART;TZID=Europe/Helsinki:20191006T080000
DTEND;TZID=Europe/Helsinki:20191006T170000
DTSTAMP:20260424T122259
CREATED:20190904T181405Z
LAST-MODIFIED:20190904T181405Z
UID:69246-1570348800-1570381200@klassikauto.pl
SUMMARY:VIII Zlot Samochodów z lat 70 i nie tylko
DESCRIPTION:
URL:https://klassikauto.pl/impreza/viii-zlot-samochodow-z-lat-70-i-nie-tylko/
LOCATION:Piasek k. Pszczyny
CATEGORIES:Zlot
END:VEVENT
BEGIN:VEVENT
DTSTART;TZID=Europe/Helsinki:20191006T110000
DTEND;TZID=Europe/Helsinki:20191006T170000
DTSTAMP:20260424T122259
CREATED:20190904T181037Z
LAST-MODIFIED:20190904T181037Z
UID:69244-1570359600-1570381200@klassikauto.pl
SUMMARY:Zakończenie Sezonu 2019 Radomskich Klasyków
DESCRIPTION:
URL:https://klassikauto.pl/impreza/zakonczenie-sezonu-2019-radomskich-klasykow/
LOCATION:Radom
CATEGORIES:Zlot
END:VEVENT
BEGIN:VEVENT
DTSTART;TZID=Europe/Helsinki:20191010T080000
DTEND;TZID=Europe/Helsinki:20191011T170000
DTSTAMP:20260424T122259
CREATED:20181225T115421Z
LAST-MODIFIED:20181225T174823Z
UID:63963-1570694400-1570813200@klassikauto.pl
SUMMARY:RM Sotheby/s 2019\, Hershey
DESCRIPTION:The Hershey Lodge\, Hershey\, Pennsylvania
URL:https://klassikauto.pl/impreza/rm-sotheby-s-2019-hershey/
LOCATION:Hershey\, Pensylwania\, USA
CATEGORIES:Aukcja
END:VEVENT
BEGIN:VEVENT
DTSTART;TZID=Europe/Helsinki:20191010T080000
DTEND;TZID=Europe/Helsinki:20191013T170000
DTSTAMP:20260424T122259
CREATED:20190209T141355Z
LAST-MODIFIED:20190209T141355Z
UID:64972-1570694400-1570986000@klassikauto.pl
SUMMARY:Targa Florio Classica
DESCRIPTION:
URL:https://klassikauto.pl/impreza/targa-florio-classica/
LOCATION:Palermo
CATEGORIES:Rajd,Zlot
END:VEVENT
BEGIN:VEVENT
DTSTART;TZID=Europe/Helsinki:20191011T080000
DTEND;TZID=Europe/Helsinki:20191013T170000
DTSTAMP:20260424T122259
CREATED:20181225T174136Z
LAST-MODIFIED:20181225T174136Z
UID:64006-1570780800-1570986000@klassikauto.pl
SUMMARY:Veterama 2019\, Mannheim
DESCRIPTION:
URL:https://klassikauto.pl/impreza/veterama-2019-mannheim/
LOCATION:Mannheim
CATEGORIES:Wystawa
END:VEVENT
BEGIN:VEVENT
DTSTART;TZID=Europe/Helsinki:20191012T080000
DTEND;TZID=Europe/Helsinki:20191013T170000
DTSTAMP:20260424T122259
CREATED:20190904T184422Z
LAST-MODIFIED:20190904T184422Z
UID:69279-1570867200-1570986000@klassikauto.pl
SUMMARY:VI Zlot Jeździmy Klasykami
DESCRIPTION:
URL:https://klassikauto.pl/impreza/vi-zlot-jezdzimy-klasykami/
LOCATION:Krosno
CATEGORIES:Zlot
END:VEVENT
BEGIN:VEVENT
DTSTART;TZID=Europe/Helsinki:20191012T093000
DTEND;TZID=Europe/Helsinki:20191012T200000
DTSTAMP:20260424T122259
CREATED:20190904T185056Z
LAST-MODIFIED:20190904T185056Z
UID:69284-1570872600-1570910400@klassikauto.pl
SUMMARY:Zakończenie Sezonu Motorowego Zabełków 2019
DESCRIPTION:
URL:https://klassikauto.pl/impreza/zakonczenie-sezonu-motorowego-zabelkow-2019/
LOCATION:Zabełków
CATEGORIES:Zlot
END:VEVENT
BEGIN:VEVENT
DTSTART;TZID=Europe/Helsinki:20191018T080000
DTEND;TZID=Europe/Helsinki:20191019T170000
DTSTAMP:20260424T122259
CREATED:20190904T195701Z
LAST-MODIFIED:20190904T195701Z
UID:69333-1571385600-1571504400@klassikauto.pl
SUMMARY:Classic Expo 2019
DESCRIPTION:
URL:https://klassikauto.pl/impreza/classic-expo-2019/
LOCATION:Salzburg
CATEGORIES:Targi
END:VEVENT
BEGIN:VEVENT
DTSTART;TZID=Europe/Helsinki:20191018T080000
DTEND;TZID=Europe/Helsinki:20191019T170000
DTSTAMP:20260424T122259
CREATED:20190904T200204Z
LAST-MODIFIED:20190904T200824Z
UID:69335-1571385600-1571504400@klassikauto.pl
SUMMARY:Hamburg Motor Classics
DESCRIPTION:
URL:https://klassikauto.pl/impreza/iv-legnicki-rajd-pojazdow-zabytkowych/
LOCATION:Hamburg\, Niemcy
CATEGORIES:Targi
END:VEVENT
BEGIN:VEVENT
DTSTART;TZID=Europe/Helsinki:20191019T080000
DTEND;TZID=Europe/Helsinki:20191019T150000
DTSTAMP:20260424T122259
CREATED:20190904T190309Z
LAST-MODIFIED:20190904T190309Z
UID:69293-1571472000-1571497200@klassikauto.pl
SUMMARY:Tradiční podzimní Motortechna
DESCRIPTION:
URL:https://klassikauto.pl/impreza/tradicni-podzimni-motortechna/
LOCATION:Brno\, Czechy
CATEGORIES:Targi
END:VEVENT
BEGIN:VEVENT
DTSTART;TZID=Europe/Helsinki:20191019T080000
DTEND;TZID=Europe/Helsinki:20191019T170000
DTSTAMP:20260424T122259
CREATED:20190103T152706Z
LAST-MODIFIED:20190103T152706Z
UID:64269-1571472000-1571504400@klassikauto.pl
SUMMARY:ADAC Nibelungen ring Rallye
DESCRIPTION:Youngtimer Rallye Trophy
URL:https://klassikauto.pl/impreza/adac-nibelungen-ring-rallye/
LOCATION:Niemcy
CATEGORIES:Rajd
END:VEVENT
BEGIN:VEVENT
DTSTART;TZID=Europe/Helsinki:20191025T080000
DTEND;TZID=Europe/Helsinki:20191027T170000
DTSTAMP:20260424T122259
CREATED:20190217T120053Z
LAST-MODIFIED:20190217T120115Z
UID:65326-1571990400-1572195600@klassikauto.pl
SUMMARY:Retro Motor Show 2019  - Targi Pojazdów Zabytkowych
DESCRIPTION:
URL:https://klassikauto.pl/impreza/retro-motor-show-2019/
LOCATION:Poznań
CATEGORIES:Targi
END:VEVENT
BEGIN:VEVENT
DTSTART;TZID=Europe/Helsinki:20191025T100000
DTEND;TZID=Europe/Helsinki:20191027T180000
DTSTAMP:20260424T122259
CREATED:20190103T130708Z
LAST-MODIFIED:20190103T130708Z
UID:64203-1571997600-1572199200@klassikauto.pl
SUMMARY:Warsaw Motor Show 2019
DESCRIPTION:
URL:https://klassikauto.pl/impreza/warsaw-motor-show-2019/
LOCATION:Warszawa
CATEGORIES:Targi
END:VEVENT
BEGIN:VEVENT
DTSTART;TZID=Europe/Helsinki:20191026T080000
DTEND;TZID=Europe/Helsinki:20191026T170000
DTSTAMP:20260424T122259
CREATED:20190512T183421Z
LAST-MODIFIED:20190512T183421Z
UID:66753-1572076800-1572109200@klassikauto.pl
SUMMARY:"Nocne Marki" - Nocna Objazdówka Rudzkiej Rajzy Vol.1
DESCRIPTION:
URL:https://klassikauto.pl/impreza/nocne-marki-nocna-objazdowka-rudzkiej-rajzy-vol-1/
LOCATION:Chudów
CATEGORIES:Rajd
END:VEVENT
BEGIN:VEVENT
DTSTART;TZID=Europe/Helsinki:20191029T080000
DTEND;TZID=Europe/Helsinki:20191101T170000
DTSTAMP:20260424T122259
CREATED:20190807T183855Z
LAST-MODIFIED:20190807T183855Z
UID:68648-1572336000-1572627600@klassikauto.pl
SUMMARY:EuroMotor 2019
DESCRIPTION:
URL:https://klassikauto.pl/impreza/euromotor-2019/
LOCATION:Stuttgart\, Niemcy
CATEGORIES:Targi
END:VEVENT
BEGIN:VEVENT
DTSTART;TZID=Europe/Helsinki:20191105T080000
DTEND;TZID=Europe/Helsinki:20191105T170000
DTSTAMP:20260424T122259
CREATED:20181225T115638Z
LAST-MODIFIED:20181225T170621Z
UID:63967-1572940800-1572973200@klassikauto.pl
SUMMARY:RM Sotheby's 2019\, Londyn
DESCRIPTION:Battersea Evolution\, London
URL:https://klassikauto.pl/impreza/rm-sothebys-2019-londyn/
LOCATION:Londyn\, Wielka Brytania
CATEGORIES:Aukcja
END:VEVENT
BEGIN:VEVENT
DTSTART;TZID=Europe/Helsinki:20191108T080000
DTEND;TZID=Europe/Helsinki:20191110T170000
DTSTAMP:20260424T122259
CREATED:20190103T153013Z
LAST-MODIFIED:20190103T153013Z
UID:64273-1573200000-1573405200@klassikauto.pl
SUMMARY:ADAC Rallye Köln - Ahrweiler
DESCRIPTION:Youngtimer Rallye Trophy
URL:https://klassikauto.pl/impreza/adac-rallye-koln-ahrweiler/
LOCATION:Niemcy
CATEGORIES:Rajd
END:VEVENT
BEGIN:VEVENT
DTSTART;TZID=Europe/Helsinki:20191108T080000
DTEND;TZID=Europe/Helsinki:20191110T170000
DTSTAMP:20260424T122259
CREATED:20190904T194721Z
LAST-MODIFIED:20190904T194721Z
UID:69323-1573200000-1573405200@klassikauto.pl
SUMMARY:Racing & Classic Expo 2019
DESCRIPTION:
URL:https://klassikauto.pl/impreza/racing-classic-expo-2019/
LOCATION:Praga\, Czechy
CATEGORIES:Targi
END:VEVENT
BEGIN:VEVENT
DTSTART;TZID=Europe/Helsinki:20191111T080000
DTEND;TZID=Europe/Helsinki:20191111T170000
DTSTAMP:20260424T122259
CREATED:20190217T120248Z
LAST-MODIFIED:20190217T120248Z
UID:65329-1573459200-1573491600@klassikauto.pl
SUMMARY:Biało-Czerwona Motoryzacja (pokaz i wykład)
DESCRIPTION:
URL:https://klassikauto.pl/impreza/bialo-czerwona-motoryzacja-pokaz-i-wyklad/
LOCATION:Bytów
END:VEVENT
BEGIN:VEVENT
DTSTART;TZID=Europe/Helsinki:20191117T080000
DTEND;TZID=Europe/Helsinki:20191117T170000
DTSTAMP:20260424T122259
CREATED:20181225T105356Z
LAST-MODIFIED:20181225T105356Z
UID:63916-1573977600-1574010000@klassikauto.pl
SUMMARY:Oldtimerbazar
DESCRIPTION:
URL:https://klassikauto.pl/impreza/oldtimerbazar-17/
LOCATION:Wrocław\, Wrocław\, Poland
CATEGORIES:Aukcja
END:VEVENT
BEGIN:VEVENT
DTSTART;TZID=Europe/Helsinki:20191120T080000
DTEND;TZID=Europe/Helsinki:20191124T170000
DTSTAMP:20260424T122259
CREATED:20190904T195231Z
LAST-MODIFIED:20190904T195231Z
UID:69328-1574236800-1574614800@klassikauto.pl
SUMMARY:Motorworld Classics Berlin 2019
DESCRIPTION:
URL:https://klassikauto.pl/impreza/motorworld-classics-berlin-2019/
LOCATION:Berlin
CATEGORIES:Targi
END:VEVENT
BEGIN:VEVENT
DTSTART;TZID=Europe/Helsinki:20191123T080000
DTEND;TZID=Europe/Helsinki:20191123T150000
DTSTAMP:20260424T122259
CREATED:20190904T194536Z
LAST-MODIFIED:20190904T194536Z
UID:69321-1574496000-1574521200@klassikauto.pl
SUMMARY:Podzimní RETRO GARÁŽ 2019 (auto - moto veterán burza)
DESCRIPTION:
URL:https://klassikauto.pl/impreza/podzimni-retro-garaz-2019-auto-moto-veteran-burza/
LOCATION:Lysa nad Labem\, Czechy
CATEGORIES:Aukcja
END:VEVENT
BEGIN:VEVENT
DTSTART;TZID=Europe/Helsinki:20191130T080000
DTEND;TZID=Europe/Helsinki:20191130T170000
DTSTAMP:20260424T122259
CREATED:20190807T183549Z
LAST-MODIFIED:20190807T183549Z
UID:68646-1575100800-1575133200@klassikauto.pl
SUMMARY:EuroBid - Die Auktion für Fahrkultur und Lebensart
DESCRIPTION:aukcja przed targami EuroMotor Stuttgart
URL:https://klassikauto.pl/impreza/eurobid-die-auktion-fur-fahrkultur-und-lebensart/
LOCATION:Stuttgart\, Niemcy
CATEGORIES:Aukcja
END:VEVENT
BEGIN:VEVENT
DTSTART;TZID=Europe/Helsinki:20191130T080000
DTEND;TZID=Europe/Helsinki:20191201T170000
DTSTAMP:20260424T122259
CREATED:20190512T181351Z
LAST-MODIFIED:20190512T181351Z
UID:66731-1575100800-1575219600@klassikauto.pl
SUMMARY:Zimní Alfa Romeo sraz Pustevny
DESCRIPTION:
URL:https://klassikauto.pl/impreza/zimni-alfa-romeo-sraz-pustevny/
LOCATION:Pustevny\, Czechy
CATEGORIES:Zlot
END:VEVENT
BEGIN:VEVENT
DTSTART;TZID=Europe/Helsinki:20191130T080000
DTEND;TZID=Europe/Helsinki:20191208T170000
DTSTAMP:20260424T122259
CREATED:20190904T201001Z
LAST-MODIFIED:20190904T201001Z
UID:69340-1575100800-1575824400@klassikauto.pl
SUMMARY:52. Essen Motor Show
DESCRIPTION:
URL:https://klassikauto.pl/impreza/52-essen-motor-show/
LOCATION:Essen\, Niemcy
CATEGORIES:Targi
END:VEVENT
END:VCALENDAR
<!-- RunCloud Hub 2026-04-24 11:22:59 -->