BEGIN:VCALENDAR
VERSION:2.0
PRODID:-//KlassikAuto.pl - ECPv6.7.0//NONSGML v1.0//EN
CALSCALE:GREGORIAN
METHOD:PUBLISH
X-ORIGINAL-URL:https://klassikauto.pl
X-WR-CALDESC:Wydarzenia dla KlassikAuto.pl
REFRESH-INTERVAL;VALUE=DURATION:PT1H
X-Robots-Tag:noindex
X-PUBLISHED-TTL:PT1H
BEGIN:VTIMEZONE
TZID:Europe/Helsinki
BEGIN:DAYLIGHT
TZOFFSETFROM:+0200
TZOFFSETTO:+0300
TZNAME:EEST
DTSTART:20190331T010000
END:DAYLIGHT
BEGIN:STANDARD
TZOFFSETFROM:+0300
TZOFFSETTO:+0200
TZNAME:EET
DTSTART:20191027T010000
END:STANDARD
END:VTIMEZONE
BEGIN:VEVENT
DTSTART;TZID=Europe/Helsinki:20190501T080000
DTEND;TZID=Europe/Helsinki:20190630T170000
DTSTAMP:20260424T195924
CREATED:20181113T160759Z
LAST-MODIFIED:20181113T160759Z
UID:63205-1556697600-1561914000@klassikauto.pl
SUMMARY:In the spotlight: Bentley 100th Anniversary - wystawa
DESCRIPTION:
URL:https://klassikauto.pl/impreza/in-the-spotlight-bentley-100th-anniversary-wystawa/
LOCATION:Muzeum Autoworld\, Bruksela\, Belgia
CATEGORIES:Wystawa
END:VEVENT
BEGIN:VEVENT
DTSTART;TZID=Europe/Helsinki:20190620T080000
DTEND;TZID=Europe/Helsinki:20190622T170000
DTSTAMP:20260424T195924
CREATED:20190103T155141Z
LAST-MODIFIED:20190103T155141Z
UID:64289-1561017600-1561222800@klassikauto.pl
SUMMARY:ADAC Bavaria Historic
DESCRIPTION:
URL:https://klassikauto.pl/impreza/adac-bavaria-historic-2/
LOCATION:Niemcy
CATEGORIES:Rajd
END:VEVENT
BEGIN:VEVENT
DTSTART;TZID=Europe/Helsinki:20190620T080000
DTEND;TZID=Europe/Helsinki:20190623T170000
DTSTAMP:20260424T195924
CREATED:20190103T155907Z
LAST-MODIFIED:20190103T155907Z
UID:64298-1561017600-1561309200@klassikauto.pl
SUMMARY:XVIII StarDrive Poland 2019
DESCRIPTION:Zlot zabytkowych Mercedesów
URL:https://klassikauto.pl/impreza/xviii-stardrive-poland-2019/
LOCATION:Jelenia Góra
CATEGORIES:Zlot
END:VEVENT
BEGIN:VEVENT
DTSTART;TZID=Europe/Helsinki:20190620T080000
DTEND;TZID=Europe/Helsinki:20190623T170000
DTSTAMP:20260424T195924
CREATED:20190217T092029Z
LAST-MODIFIED:20190217T092029Z
UID:65200-1561017600-1561309200@klassikauto.pl
SUMMARY:XI Zlot Zabytkowych Traktorów
DESCRIPTION:
URL:https://klassikauto.pl/impreza/xi-zlot-zabytkowych-traktorow/
LOCATION:Łazy
CATEGORIES:Zlot
END:VEVENT
BEGIN:VEVENT
DTSTART;TZID=Europe/Helsinki:20190620T080000
DTEND;TZID=Europe/Helsinki:20190623T170000
DTSTAMP:20260424T195924
CREATED:20190217T115133Z
LAST-MODIFIED:20190217T115133Z
UID:65315-1561017600-1561309200@klassikauto.pl
SUMMARY:III Oławski Charytatywny Rajd Koguta
DESCRIPTION:
URL:https://klassikauto.pl/impreza/iii-olawski-charytatywny-rajd-koguta/
LOCATION:Oława
CATEGORIES:Rajd
END:VEVENT
BEGIN:VEVENT
DTSTART;TZID=Europe/Helsinki:20190620T080000
DTEND;TZID=Europe/Helsinki:20190623T170000
DTSTAMP:20260424T195924
CREATED:20190218T192022Z
LAST-MODIFIED:20190218T192022Z
UID:65357-1561017600-1561309200@klassikauto.pl
SUMMARY:15 Białostocki Rajd Moto Retro
DESCRIPTION:
URL:https://klassikauto.pl/impreza/15-bialostocki-rajd-moto-retro/
LOCATION:Białystok
CATEGORIES:Rajd
END:VEVENT
BEGIN:VEVENT
DTSTART;TZID=Europe/Helsinki:20190620T080000
DTEND;TZID=Europe/Helsinki:20190623T170000
DTSTAMP:20260424T195924
CREATED:20190423T163156Z
LAST-MODIFIED:20190423T163156Z
UID:66444-1561017600-1561309200@klassikauto.pl
SUMMARY:Jubileuszowy V Zlot Automobilklubu Volkswagena Transportera T3
DESCRIPTION:
URL:https://klassikauto.pl/impreza/jubileuszowy-v-zlot-automobilklubu-volkswagena-transportera-t3/
LOCATION:Pęczniew
CATEGORIES:Zlot
END:VEVENT
BEGIN:VEVENT
DTSTART;TZID=Europe/Helsinki:20190620T080000
DTEND;TZID=Europe/Helsinki:20190623T180000
DTSTAMP:20260424T195924
CREATED:20190213T191928Z
LAST-MODIFIED:20190213T191928Z
UID:65133-1561017600-1561312800@klassikauto.pl
SUMMARY:Zlot Zabytkowych Mercedesów Jelenia Góra 2019
DESCRIPTION:
URL:https://klassikauto.pl/impreza/zlot-zabytkowych-mercedesow-jelenia-gora-2019/
LOCATION:Jelenia Góra
CATEGORIES:Zlot
END:VEVENT
BEGIN:VEVENT
DTSTART;TZID=Europe/Helsinki:20190620T100000
DTEND;TZID=Europe/Helsinki:20190620T180000
DTSTAMP:20260424T195924
CREATED:20190103T155334Z
LAST-MODIFIED:20190103T155620Z
UID:64293-1561024800-1561053600@klassikauto.pl
SUMMARY:Maxlrainer Oldie Feeling
DESCRIPTION:
URL:https://klassikauto.pl/impreza/maxlrainer-oldie-feeling/
LOCATION:Maxlrain\, Niemcy
CATEGORIES:Zlot
END:VEVENT
BEGIN:VEVENT
DTSTART;TZID=Europe/Helsinki:20190620T110000
DTEND;TZID=Europe/Helsinki:20190624T170000
DTSTAMP:20260424T195924
CREATED:20190209T134439Z
LAST-MODIFIED:20190209T134501Z
UID:64958-1561028400-1561395600@klassikauto.pl
SUMMARY:VIII Zlot Polskiego Klubu Audi C4
DESCRIPTION:
URL:https://klassikauto.pl/impreza/iii-zlot-polskiego-klubu-audi-c4/
LOCATION:Toruń
CATEGORIES:Rajd,Zlot
END:VEVENT
BEGIN:VEVENT
DTSTART;TZID=Europe/Helsinki:20190620T130000
DTEND;TZID=Europe/Helsinki:20190623T160000
DTSTAMP:20260424T195924
CREATED:20190209T134215Z
LAST-MODIFIED:20190209T134215Z
UID:64955-1561035600-1561305600@klassikauto.pl
SUMMARY:OldSchoolSuicide Party 2019
DESCRIPTION:
URL:https://klassikauto.pl/impreza/oldschoolsuicide-party-2019/
LOCATION:Wilczyn\, Konin
CATEGORIES:Zlot
END:VEVENT
BEGIN:VEVENT
DTSTART;TZID=Europe/Helsinki:20190621T080000
DTEND;TZID=Europe/Helsinki:20190621T170000
DTSTAMP:20260424T195924
CREATED:20190209T142052Z
LAST-MODIFIED:20190209T142139Z
UID:64977-1561104000-1561136400@klassikauto.pl
SUMMARY:Ogólnopolskie XXXIX Caravaningowe Świętojanki
DESCRIPTION:
URL:https://klassikauto.pl/impreza/ogolnopolskie-xxxix-caravaningowe-swietojanki/
LOCATION:Miedziana Góra
CATEGORIES:Zlot
END:VEVENT
BEGIN:VEVENT
DTSTART;TZID=Europe/Helsinki:20190621T080000
DTEND;TZID=Europe/Helsinki:20190622T170000
DTSTAMP:20260424T195924
CREATED:20190103T153618Z
LAST-MODIFIED:20190103T153718Z
UID:64276-1561104000-1561222800@klassikauto.pl
SUMMARY:8. ADAC Rallye Trifels Historic
DESCRIPTION:
URL:https://klassikauto.pl/impreza/8-adac-rallye-trifels-historic/
LOCATION:Kaiserslautern\, Niemcy
CATEGORIES:Rajd
END:VEVENT
BEGIN:VEVENT
DTSTART;TZID=Europe/Helsinki:20190621T080000
DTEND;TZID=Europe/Helsinki:20190623T170000
DTSTAMP:20260424T195924
CREATED:20190308T180856Z
LAST-MODIFIED:20190308T180856Z
UID:65698-1561104000-1561309200@klassikauto.pl
SUMMARY:Dinozaury Motoryzacji 2019
DESCRIPTION:Zlot pojazdów zabytkowych
URL:https://klassikauto.pl/impreza/dinozaury-motoryzacji-2019/
LOCATION:Głobikowa
CATEGORIES:Zlot
END:VEVENT
BEGIN:VEVENT
DTSTART;TZID=Europe/Helsinki:20190622T080000
DTEND;TZID=Europe/Helsinki:20190622T170000
DTSTAMP:20260424T195924
CREATED:20190213T180854Z
LAST-MODIFIED:20190213T180854Z
UID:65098-1561190400-1561222800@klassikauto.pl
SUMMARY:Veterán rallye Němčice nad Hanou.
DESCRIPTION:
URL:https://klassikauto.pl/impreza/veteran-rallye-nemcice-nad-hanou/
LOCATION:Nemcice\, Czechy
CATEGORIES:Rajd
END:VEVENT
BEGIN:VEVENT
DTSTART;TZID=Europe/Helsinki:20190622T080000
DTEND;TZID=Europe/Helsinki:20190622T170000
DTSTAMP:20260424T195924
CREATED:20190512T182503Z
LAST-MODIFIED:20190512T182503Z
UID:66742-1561190400-1561222800@klassikauto.pl
SUMMARY:Wystawa Pojazdów Zabytkowych RPM Zagłoba 2019
DESCRIPTION:
URL:https://klassikauto.pl/impreza/wystawa-pojazdow-zabytkowych-rpm-zagloba-2019/
LOCATION:Opole
CATEGORIES:Wystawa
END:VEVENT
BEGIN:VEVENT
DTSTART;TZID=Europe/Helsinki:20190622T080000
DTEND;TZID=Europe/Helsinki:20190622T170000
DTSTAMP:20260424T195924
CREATED:20190513T174947Z
LAST-MODIFIED:20190513T174947Z
UID:66788-1561190400-1561222800@klassikauto.pl
SUMMARY:Veteráni pod Křemešníkem
DESCRIPTION:
URL:https://klassikauto.pl/impreza/veterani-pod-kremesnikem/
LOCATION:Hánův Mlýn Dobrá Voda\, Czechy
CATEGORIES:Zlot
END:VEVENT
BEGIN:VEVENT
DTSTART;TZID=Europe/Helsinki:20190622T080000
DTEND;TZID=Europe/Helsinki:20190623T170000
DTSTAMP:20260424T195924
CREATED:20190213T192858Z
LAST-MODIFIED:20190213T192858Z
UID:65143-1561190400-1561309200@klassikauto.pl
SUMMARY:XI Zlot Zabytkowych Ciągników i Maszyn Rolniczych
DESCRIPTION:
URL:https://klassikauto.pl/impreza/xi-zlot-zabytkowych-ciagnikow-i-maszyn-rolniczych/
LOCATION:Golub-Dobrzyń
CATEGORIES:Zlot
END:VEVENT
BEGIN:VEVENT
DTSTART;TZID=Europe/Helsinki:20190622T080000
DTEND;TZID=Europe/Helsinki:20190623T170000
DTSTAMP:20260424T195924
CREATED:20190423T162420Z
LAST-MODIFIED:20190423T162420Z
UID:66439-1561190400-1561309200@klassikauto.pl
SUMMARY:36. HMSC Oldtimer Rallye
DESCRIPTION:
URL:https://klassikauto.pl/impreza/36-hmsc-oldtimer-rallye/
LOCATION:Wiesbaden\, Niemcy
CATEGORIES:Rajd
END:VEVENT
BEGIN:VEVENT
DTSTART;TZID=Europe/Helsinki:20190622T090000
DTEND;TZID=Europe/Helsinki:20190623T160000
DTSTAMP:20260424T195924
CREATED:20190103T124215Z
LAST-MODIFIED:20190103T124215Z
UID:64173-1561194000-1561305600@klassikauto.pl
SUMMARY:MOTO Summer 2K19 - Wrocław- Paniowice
DESCRIPTION:
URL:https://klassikauto.pl/impreza/moto-summer-2k19-wroclaw-paniowice/
LOCATION:Oborniki Śląskie
CATEGORIES:Zlot
END:VEVENT
BEGIN:VEVENT
DTSTART;TZID=Europe/Helsinki:20190622T160000
DTEND;TZID=Europe/Helsinki:20190623T190000
DTSTAMP:20260424T195924
CREATED:20190103T125130Z
LAST-MODIFIED:20190103T125130Z
UID:64184-1561219200-1561316400@klassikauto.pl
SUMMARY:Classówka Baukrane Auto Moto Festiwal
DESCRIPTION:
URL:https://klassikauto.pl/impreza/classowka-baukrane-auto-moto-festiwal/
LOCATION:Stężyca
CATEGORIES:Zlot
END:VEVENT
BEGIN:VEVENT
DTSTART;TZID=Europe/Helsinki:20190623T080000
DTEND;TZID=Europe/Helsinki:20190623T170000
DTSTAMP:20260424T195924
CREATED:20190103T140733Z
LAST-MODIFIED:20190103T140733Z
UID:64225-1561276800-1561309200@klassikauto.pl
SUMMARY:Konkursowa Jazda Samochodem "Rajd Lasowiak" 2019
DESCRIPTION:Runda Mistrzostw Okręgu Rzeszowskiego w KJS
URL:https://klassikauto.pl/impreza/konkursowa-jazda-samochodem-rajd-lasowiak-2019/
LOCATION:Stalowa Wola\, Poland
CATEGORIES:Targi
END:VEVENT
BEGIN:VEVENT
DTSTART;TZID=Europe/Helsinki:20190623T080000
DTEND;TZID=Europe/Helsinki:20190623T170000
DTSTAMP:20260424T195924
CREATED:20190404T192152Z
LAST-MODIFIED:20190404T192152Z
UID:66099-1561276800-1561309200@klassikauto.pl
SUMMARY:Rajd O Błękitną Wstęgę Olzy 2019
DESCRIPTION:
URL:https://klassikauto.pl/impreza/rajd-o-blekitna-wstege-olzy-2019/
LOCATION:Cieszyn
CATEGORIES:Rajd
END:VEVENT
BEGIN:VEVENT
DTSTART;TZID=Europe/Helsinki:20190623T120000
DTEND;TZID=Europe/Helsinki:20190623T180000
DTSTAMP:20260424T195924
CREATED:20190304T172229Z
LAST-MODIFIED:20190304T172229Z
UID:65617-1561291200-1561312800@klassikauto.pl
SUMMARY:VIII Zlot Pojazdów Zabytkowych w Oławie
DESCRIPTION:
URL:https://klassikauto.pl/impreza/viii-zlot-pojazdow-zabytkowych-w-olawie/
LOCATION:Oława
CATEGORIES:Zlot
END:VEVENT
BEGIN:VEVENT
DTSTART;TZID=Europe/Helsinki:20190623T140000
DTEND;TZID=Europe/Helsinki:20190623T200000
DTSTAMP:20260424T195924
CREATED:20181113T170715Z
LAST-MODIFIED:20181113T170715Z
UID:63266-1561298400-1561320000@klassikauto.pl
SUMMARY:Klasyk Fest 2019
DESCRIPTION:
URL:https://klassikauto.pl/impreza/klasyk-fest-2019/
LOCATION:Tychy
CATEGORIES:Zlot
END:VEVENT
BEGIN:VEVENT
DTSTART;TZID=Europe/Helsinki:20190624T080000
DTEND;TZID=Europe/Helsinki:20190624T170000
DTSTAMP:20260424T195924
CREATED:20190624T083717Z
LAST-MODIFIED:20190624T083734Z
UID:67752-1561363200-1561395600@klassikauto.pl
SUMMARY:VI Piknik BMW
DESCRIPTION:
URL:https://klassikauto.pl/impreza/vi-piknik-bmw-ostrow-wielkopolski/
LOCATION:Ostrów Wielkopolski
CATEGORIES:Zlot
END:VEVENT
BEGIN:VEVENT
DTSTART;TZID=Europe/Helsinki:20190625T080000
DTEND;TZID=Europe/Helsinki:20190625T170000
DTSTAMP:20260424T195924
CREATED:20190625T084737Z
LAST-MODIFIED:20190625T084737Z
UID:67811-1561449600-1561482000@klassikauto.pl
SUMMARY:NOSW Oldtimertreffen auf'm Berg
DESCRIPTION:
URL:https://klassikauto.pl/impreza/nosw-oldtimertreffen-aufm-berg/
LOCATION:Groß Reken\, Niemcy
CATEGORIES:Zlot
END:VEVENT
BEGIN:VEVENT
DTSTART;TZID=Europe/Helsinki:20190626T080000
DTEND;TZID=Europe/Helsinki:20190630T170000
DTSTAMP:20260424T195924
CREATED:20190209T150309Z
LAST-MODIFIED:20190209T150309Z
UID:64987-1561536000-1561914000@klassikauto.pl
SUMMARY:Mustang Race 2019
DESCRIPTION:
URL:https://klassikauto.pl/impreza/mustang-race-2019/
CATEGORIES:Rajd
END:VEVENT
BEGIN:VEVENT
DTSTART;TZID=Europe/Helsinki:20190627T080000
DTEND;TZID=Europe/Helsinki:20190629T170000
DTSTAMP:20260424T195924
CREATED:20190218T185504Z
LAST-MODIFIED:20190218T185504Z
UID:65349-1561622400-1561827600@klassikauto.pl
SUMMARY:14. Donau Classic
DESCRIPTION:
URL:https://klassikauto.pl/impreza/14-donau-classic/
LOCATION:Ingolstadt
CATEGORIES:Rajd
END:VEVENT
BEGIN:VEVENT
DTSTART;TZID=Europe/Helsinki:20190627T080000
DTEND;TZID=Europe/Helsinki:20190630T170000
DTSTAMP:20260424T195924
CREATED:20181113T162449Z
LAST-MODIFIED:20181113T162449Z
UID:63224-1561622400-1561914000@klassikauto.pl
SUMMARY:Elégance et Automobile
DESCRIPTION:
URL:https://klassikauto.pl/impreza/elegance-et-automobile/
LOCATION:Monte Carlo\, Monaco
CATEGORIES:Rajd,Targi,Wystawa
END:VEVENT
END:VCALENDAR
<!-- RunCloud Hub 2026-04-24 18:59:24 -->