BEGIN:VCALENDAR
VERSION:2.0
PRODID:-//KlassikAuto.pl - ECPv6.7.0//NONSGML v1.0//EN
CALSCALE:GREGORIAN
METHOD:PUBLISH
X-ORIGINAL-URL:https://klassikauto.pl
X-WR-CALDESC:Wydarzenia dla KlassikAuto.pl
REFRESH-INTERVAL;VALUE=DURATION:PT1H
X-Robots-Tag:noindex
X-PUBLISHED-TTL:PT1H
BEGIN:VTIMEZONE
TZID:Europe/Helsinki
BEGIN:DAYLIGHT
TZOFFSETFROM:+0200
TZOFFSETTO:+0300
TZNAME:EEST
DTSTART:20190331T010000
END:DAYLIGHT
BEGIN:STANDARD
TZOFFSETFROM:+0300
TZOFFSETTO:+0200
TZNAME:EET
DTSTART:20191027T010000
END:STANDARD
END:VTIMEZONE
BEGIN:VEVENT
DTSTART;TZID=Europe/Helsinki:20190501T080000
DTEND;TZID=Europe/Helsinki:20190630T170000
DTSTAMP:20260424T175722
CREATED:20181113T160759Z
LAST-MODIFIED:20181113T160759Z
UID:63205-1556697600-1561914000@klassikauto.pl
SUMMARY:In the spotlight: Bentley 100th Anniversary - wystawa
DESCRIPTION:
URL:https://klassikauto.pl/impreza/in-the-spotlight-bentley-100th-anniversary-wystawa/
LOCATION:Muzeum Autoworld\, Bruksela\, Belgia
CATEGORIES:Wystawa
END:VEVENT
BEGIN:VEVENT
DTSTART;TZID=Europe/Helsinki:20190606T080000
DTEND;TZID=Europe/Helsinki:20190606T170000
DTSTAMP:20260424T175722
CREATED:20190308T180645Z
LAST-MODIFIED:20190308T180645Z
UID:65696-1559808000-1559840400@klassikauto.pl
SUMMARY:Micclo rajd 2019
DESCRIPTION:
URL:https://klassikauto.pl/impreza/micclo-rajd-2019/
LOCATION:Łódź
CATEGORIES:Rajd
END:VEVENT
BEGIN:VEVENT
DTSTART;TZID=Europe/Helsinki:20190606T080000
DTEND;TZID=Europe/Helsinki:20190609T170000
DTSTAMP:20260424T175722
CREATED:20190217T105235Z
LAST-MODIFIED:20190217T105235Z
UID:65265-1559808000-1560099600@klassikauto.pl
SUMMARY:IV Zlot Samochodów Zabytkowych „Classica Mierzęcin”\, Mierzęcin
DESCRIPTION:
URL:https://klassikauto.pl/impreza/iv-zlot-samochodow-zabytkowych-classica-mierzecin-mierzecin/
LOCATION:Mierzęcin
CATEGORIES:Zlot
END:VEVENT
BEGIN:VEVENT
DTSTART;TZID=Europe/Helsinki:20190607T080000
DTEND;TZID=Europe/Helsinki:20190609T170000
DTSTAMP:20260424T175722
CREATED:20181225T191804Z
LAST-MODIFIED:20181225T191804Z
UID:64037-1559894400-1560099600@klassikauto.pl
SUMMARY:ADAC Sachs Franken Classic 2019
DESCRIPTION:
URL:https://klassikauto.pl/impreza/adac-sachs-franken-classic-2019/
LOCATION:Bad Kissingen\, Niemcy
CATEGORIES:Rajd
END:VEVENT
BEGIN:VEVENT
DTSTART;TZID=Europe/Helsinki:20190607T080000
DTEND;TZID=Europe/Helsinki:20190609T170000
DTSTAMP:20260424T175722
CREATED:20190125T183857Z
LAST-MODIFIED:20190125T183857Z
UID:64566-1559894400-1560099600@klassikauto.pl
SUMMARY:US Car Meeting Olesno 2019
DESCRIPTION:VII edycja Zlotu Samochodów Amerykańskich
URL:https://klassikauto.pl/impreza/us-car-meeting-olesno-2019/
LOCATION:Stare Olesno
CATEGORIES:Zlot
END:VEVENT
BEGIN:VEVENT
DTSTART;TZID=Europe/Helsinki:20190607T080000
DTEND;TZID=Europe/Helsinki:20190609T170000
DTSTAMP:20260424T175722
CREATED:20190217T105412Z
LAST-MODIFIED:20190217T105412Z
UID:65267-1559894400-1560099600@klassikauto.pl
SUMMARY:XII Miedwiański Zlot Pojazdów Zabytkowych
DESCRIPTION:
URL:https://klassikauto.pl/impreza/xii-miedwianski-zlot-pojazdow-zabytkowych/
LOCATION:Starogard Gdański
CATEGORIES:Zlot
END:VEVENT
BEGIN:VEVENT
DTSTART;TZID=Europe/Helsinki:20190607T080000
DTEND;TZID=Europe/Helsinki:20190609T170000
DTSTAMP:20260424T175722
CREATED:20190512T185431Z
LAST-MODIFIED:20190512T185431Z
UID:66760-1559894400-1560099600@klassikauto.pl
SUMMARY:Śladami „Noża w wodzie” - V Zlot Samochodów Zabytkowych na Warmii i Mazurach
DESCRIPTION:
URL:https://klassikauto.pl/impreza/sladami-noza-w-wodzie-v-zlot-samochodow-zabytkowych-na-warmii-i-mazurach/
LOCATION:Giżycko
CATEGORIES:Zlot
END:VEVENT
BEGIN:VEVENT
DTSTART;TZID=Europe/Helsinki:20190607T120000
DTEND;TZID=Europe/Helsinki:20190609T120000
DTSTAMP:20260424T175722
CREATED:20190103T143003Z
LAST-MODIFIED:20190103T143003Z
UID:64244-1559908800-1560081600@klassikauto.pl
SUMMARY:XVI. Mezinárodní sraz Fiatů 126 p
DESCRIPTION:
URL:https://klassikauto.pl/impreza/xvi-mezinarodni-sraz-fiatu-126-p/
LOCATION:Chotevice\, Czechy
CATEGORIES:Zlot
END:VEVENT
BEGIN:VEVENT
DTSTART;TZID=Europe/Helsinki:20190607T130000
DTEND;TZID=Europe/Helsinki:20190609T210000
DTSTAMP:20260424T175722
CREATED:20190209T132954Z
LAST-MODIFIED:20190209T132954Z
UID:64949-1559912400-1560114000@klassikauto.pl
SUMMARY:VII Ogólnopolski Zlot Zafira Klub Polska
DESCRIPTION:
URL:https://klassikauto.pl/impreza/vii-ogolnopolski-zlot-zafira-klub-polska/
LOCATION:Końskie
CATEGORIES:Zlot
END:VEVENT
BEGIN:VEVENT
DTSTART;TZID=Europe/Helsinki:20190608T080000
DTEND;TZID=Europe/Helsinki:20190608T170000
DTSTAMP:20260424T175722
CREATED:20190103T132220Z
LAST-MODIFIED:20190103T132220Z
UID:64213-1559980800-1560013200@klassikauto.pl
SUMMARY:IV Piknik z BMW-Klub-Poznań
DESCRIPTION:
URL:https://klassikauto.pl/impreza/iv-piknik-z-bmw-klub-poznan/
LOCATION:Poznań
CATEGORIES:Zlot
END:VEVENT
BEGIN:VEVENT
DTSTART;TZID=Europe/Helsinki:20190608T080000
DTEND;TZID=Europe/Helsinki:20190608T170000
DTSTAMP:20260424T175722
CREATED:20190209T161439Z
LAST-MODIFIED:20190209T161439Z
UID:65048-1559980800-1560013200@klassikauto.pl
SUMMARY:Ondřejovský Krpál
DESCRIPTION:Rajd zabytkowych samochodów
URL:https://klassikauto.pl/impreza/ondrejovsky-krpal/
LOCATION:Ondrejov\, Czechy
CATEGORIES:Rajd
END:VEVENT
BEGIN:VEVENT
DTSTART;TZID=Europe/Helsinki:20190608T080000
DTEND;TZID=Europe/Helsinki:20190608T170000
DTSTAMP:20260424T175722
CREATED:20190209T161629Z
LAST-MODIFIED:20190209T161629Z
UID:65051-1559980800-1560013200@klassikauto.pl
SUMMARY:XVII. Jízda Klatovskem
DESCRIPTION:Międzynarodowy rajd samochodów wyprodukowanych do 1970 r.
URL:https://klassikauto.pl/impreza/xvii-jizda-klatovskem/
LOCATION:Klatovy\, Czechy
CATEGORIES:Rajd
END:VEVENT
BEGIN:VEVENT
DTSTART;TZID=Europe/Helsinki:20190608T080000
DTEND;TZID=Europe/Helsinki:20190608T170000
DTSTAMP:20260424T175722
CREATED:20190512T184159Z
LAST-MODIFIED:20190512T184159Z
UID:66755-1559980800-1560013200@klassikauto.pl
SUMMARY:X Zlot Zabytkowej Motoryzacji i Rajd im. Ks. Władysława Druckiego-Lubeckiego
DESCRIPTION:
URL:https://klassikauto.pl/impreza/x-zlot-zabytkowej-motoryzacji-i-rajd-im-ks-wladyslawa-druckiego-lubeckiego/
LOCATION:Sochaczew
CATEGORIES:Rajd,Zlot
END:VEVENT
BEGIN:VEVENT
DTSTART;TZID=Europe/Helsinki:20190608T080000
DTEND;TZID=Europe/Helsinki:20190609T170000
DTSTAMP:20260424T175722
CREATED:20190103T122826Z
LAST-MODIFIED:20190103T122826Z
UID:64160-1559980800-1560099600@klassikauto.pl
SUMMARY:Ogólnopolski Zlot Samochodów Pożarniczych i Zabytkowych 2019
DESCRIPTION:
URL:https://klassikauto.pl/impreza/ogolnopolski-zlot-samochodow-pozarniczych-i-zabytkowych-2019/
LOCATION:Zakrzewo
CATEGORIES:Zlot
END:VEVENT
BEGIN:VEVENT
DTSTART;TZID=Europe/Helsinki:20190608T080000
DTEND;TZID=Europe/Helsinki:20190609T170000
DTSTAMP:20260424T175722
CREATED:20190125T185837Z
LAST-MODIFIED:20190125T185837Z
UID:64582-1559980800-1560099600@klassikauto.pl
SUMMARY:Retromobil Gala Kraków 2019
DESCRIPTION:
URL:https://klassikauto.pl/impreza/retromobil-gala-krakow-2019/
LOCATION:Kraków
CATEGORIES:Zlot
END:VEVENT
BEGIN:VEVENT
DTSTART;TZID=Europe/Helsinki:20190608T080000
DTEND;TZID=Europe/Helsinki:20190609T170000
DTSTAMP:20260424T175722
CREATED:20190125T193522Z
LAST-MODIFIED:20190125T193522Z
UID:64609-1559980800-1560099600@klassikauto.pl
SUMMARY:X Międzynarodowy Strumieński Rajd Pojazdów Zabytkowych
DESCRIPTION:
URL:https://klassikauto.pl/impreza/x-miedzynarodowy-strumienski-rajd-pojazdow-zabytkowych/
LOCATION:Strumień
CATEGORIES:Zlot
END:VEVENT
BEGIN:VEVENT
DTSTART;TZID=Europe/Helsinki:20190608T080000
DTEND;TZID=Europe/Helsinki:20190609T170000
DTSTAMP:20260424T175722
CREATED:20190423T164205Z
LAST-MODIFIED:20190423T164205Z
UID:66450-1559980800-1560099600@klassikauto.pl
SUMMARY:Syreniada 2019
DESCRIPTION:
URL:https://klassikauto.pl/impreza/syreniada-2019/
LOCATION:Bydgoszcz
CATEGORIES:Zlot
END:VEVENT
BEGIN:VEVENT
DTSTART;TZID=Europe/Helsinki:20190608T080000
DTEND;TZID=Europe/Helsinki:20190609T170000
DTSTAMP:20260424T175722
CREATED:20190512T182002Z
LAST-MODIFIED:20190512T182002Z
UID:66734-1559980800-1560099600@klassikauto.pl
SUMMARY:Corsa Italia
DESCRIPTION:
URL:https://klassikauto.pl/impreza/corsa-italia/
LOCATION:Jistebnice\, Czechy
CATEGORIES:Zlot
END:VEVENT
BEGIN:VEVENT
DTSTART;TZID=Europe/Helsinki:20190608T090000
DTEND;TZID=Europe/Helsinki:20190608T170000
DTSTAMP:20260424T175722
CREATED:20190209T113416Z
LAST-MODIFIED:20190209T113416Z
UID:64875-1559984400-1560013200@klassikauto.pl
SUMMARY:46. urodziny Fiata 126p
DESCRIPTION:
URL:https://klassikauto.pl/impreza/46-urodziny-fiata-126p/
LOCATION:Warszawa
CATEGORIES:Zlot
END:VEVENT
BEGIN:VEVENT
DTSTART;TZID=Europe/Helsinki:20190608T090000
DTEND;TZID=Europe/Helsinki:20190609T190000
DTSTAMP:20260424T175722
CREATED:20181113T170014Z
LAST-MODIFIED:20181113T170014Z
UID:63258-1559984400-1560106800@klassikauto.pl
SUMMARY:ProfiAuto Show 2019 | targi motoryzacyjne Katowice
DESCRIPTION:
URL:https://klassikauto.pl/impreza/profiauto-show-2019-targi-motoryzacyjne-katowice/
LOCATION:Katowice
CATEGORIES:Targi,Wystawa
END:VEVENT
BEGIN:VEVENT
DTSTART;TZID=Europe/Helsinki:20190608T180000
DTEND;TZID=Europe/Helsinki:20190608T220000
DTSTAMP:20260424T175722
CREATED:20190209T114453Z
LAST-MODIFIED:20190209T114453Z
UID:64886-1560016800-1560031200@klassikauto.pl
SUMMARY:V Festyn "Powrót do PRL-u" w Niemicy
DESCRIPTION:
URL:https://klassikauto.pl/impreza/v-festyn-powrot-do-prl-u-w-niemicy/
LOCATION:Niemica
CATEGORIES:Zlot
END:VEVENT
BEGIN:VEVENT
DTSTART;TZID=Europe/Helsinki:20190609T080000
DTEND;TZID=Europe/Helsinki:20190609T170000
DTSTAMP:20260424T175722
CREATED:20190217T105606Z
LAST-MODIFIED:20190217T105606Z
UID:65269-1560067200-1560099600@klassikauto.pl
SUMMARY:Ogólnopolska Giełda Modeli Samochodów im.Sławoja Gwiazdowskiego
DESCRIPTION:
URL:https://klassikauto.pl/impreza/ogolnopolska-gielda-modeli-samochodow-im-slawoja-gwiazdowskiego-2/
LOCATION:Warszawa
CATEGORIES:Aukcja,Wystawa
END:VEVENT
BEGIN:VEVENT
DTSTART;TZID=Europe/Helsinki:20190609T080000
DTEND;TZID=Europe/Helsinki:20190609T170000
DTSTAMP:20260424T175722
CREATED:20190502T184141Z
LAST-MODIFIED:20190502T184141Z
UID:66605-1560067200-1560099600@klassikauto.pl
SUMMARY:Rajd Klasyków Międzylesie
DESCRIPTION:
URL:https://klassikauto.pl/impreza/rajd-klasykow-miedzylesie/
LOCATION:Międzylesie
CATEGORIES:Rajd
END:VEVENT
BEGIN:VEVENT
DTSTART;TZID=Europe/Helsinki:20190609T080000
DTEND;TZID=Europe/Helsinki:20190609T170000
DTSTAMP:20260424T175722
CREATED:20190513T172805Z
LAST-MODIFIED:20190513T172805Z
UID:66775-1560067200-1560099600@klassikauto.pl
SUMMARY:Auto-moto-burza Valy
DESCRIPTION:
URL:https://klassikauto.pl/impreza/auto-moto-burza-valy-3/
LOCATION:Valy u Přelouče\, Czechy
CATEGORIES:Aukcja
END:VEVENT
BEGIN:VEVENT
DTSTART;TZID=Europe/Helsinki:20190609T080000
DTEND;TZID=Europe/Helsinki:20190609T170000
DTSTAMP:20260424T175722
CREATED:20190513T173018Z
LAST-MODIFIED:20190513T173018Z
UID:66778-1560067200-1560099600@klassikauto.pl
SUMMARY:Historická vozidla v E-motion 2. ročník
DESCRIPTION:Organizator: Tatra Club Ostrava
URL:https://klassikauto.pl/impreza/historicka-vozidla-v-e-motion-2-rocnik/
LOCATION:Ostrawa\, Czechy
CATEGORIES:Zlot
END:VEVENT
BEGIN:VEVENT
DTSTART;TZID=Europe/Helsinki:20190609T100000
DTEND;TZID=Europe/Helsinki:20190609T160000
DTSTAMP:20260424T175722
CREATED:20190423T160418Z
LAST-MODIFIED:20190423T160418Z
UID:66433-1560074400-1560096000@klassikauto.pl
SUMMARY:I Dąbrowskie Spotkanie Klasyków
DESCRIPTION:
URL:https://klassikauto.pl/impreza/i-dabrowskie-spotkanie-klasykow/
LOCATION:Dąbrowa
CATEGORIES:Zlot
END:VEVENT
BEGIN:VEVENT
DTSTART;TZID=Europe/Helsinki:20190613T080000
DTEND;TZID=Europe/Helsinki:20190614T170000
DTSTAMP:20260424T175722
CREATED:20190209T162144Z
LAST-MODIFIED:20190209T162144Z
UID:65054-1560412800-1560531600@klassikauto.pl
SUMMARY:Výroční sraz Tatra Register Schweiz
DESCRIPTION:Spotkania miłośników Tatry
URL:https://klassikauto.pl/impreza/vyrocni-sraz-tatra-register-schweiz/
LOCATION:Szwajcaria
CATEGORIES:Zlot
END:VEVENT
BEGIN:VEVENT
DTSTART;TZID=Europe/Helsinki:20190613T080000
DTEND;TZID=Europe/Helsinki:20190615T170000
DTSTAMP:20260424T175722
CREATED:20190513T173507Z
LAST-MODIFIED:20190513T173507Z
UID:66783-1560412800-1560618000@klassikauto.pl
SUMMARY:Oldtimer Bohemia Rally 2019
DESCRIPTION:
URL:https://klassikauto.pl/impreza/oldtimer-bohemia-rally-2019/
LOCATION:Mlada Boleslav\, Czechy
CATEGORIES:Rajd
END:VEVENT
BEGIN:VEVENT
DTSTART;TZID=Europe/Helsinki:20190613T080000
DTEND;TZID=Europe/Helsinki:20190616T170000
DTSTAMP:20260424T175722
CREATED:20190217T105814Z
LAST-MODIFIED:20190217T105814Z
UID:65271-1560412800-1560704400@klassikauto.pl
SUMMARY:30-ta Eurolambretta
DESCRIPTION:
URL:https://klassikauto.pl/impreza/30-ta-eurolambretta/
LOCATION:Zakopane
CATEGORIES:Zlot
END:VEVENT
BEGIN:VEVENT
DTSTART;TZID=Europe/Helsinki:20190613T080000
DTEND;TZID=Europe/Helsinki:20190616T170000
DTSTAMP:20260424T175722
CREATED:20190513T173258Z
LAST-MODIFIED:20190513T173258Z
UID:66780-1560412800-1560704400@klassikauto.pl
SUMMARY:XXII. mezinárodní sraz historických skútrů Zvůle u Kunžaku
DESCRIPTION:Międzynarodowe spotkanie zabytkowych skuterów produkcji Tatra\, Maneta\, Cezeta
URL:https://klassikauto.pl/impreza/xxii-mezinarodni-sraz-historickych-skutru-zvule-u-kunzaku/
LOCATION:Zvůle u Kunžaku\, Czechy
CATEGORIES:Zlot
END:VEVENT
END:VCALENDAR
<!-- RunCloud Hub 2026-04-24 16:57:22 -->