BEGIN:VCALENDAR
VERSION:2.0
PRODID:-//KlassikAuto.pl - ECPv6.7.0//NONSGML v1.0//EN
CALSCALE:GREGORIAN
METHOD:PUBLISH
X-ORIGINAL-URL:https://klassikauto.pl
X-WR-CALDESC:Wydarzenia dla KlassikAuto.pl
REFRESH-INTERVAL;VALUE=DURATION:PT1H
X-Robots-Tag:noindex
X-PUBLISHED-TTL:PT1H
BEGIN:VTIMEZONE
TZID:Europe/Helsinki
BEGIN:DAYLIGHT
TZOFFSETFROM:+0200
TZOFFSETTO:+0300
TZNAME:EEST
DTSTART:20190331T010000
END:DAYLIGHT
BEGIN:STANDARD
TZOFFSETFROM:+0300
TZOFFSETTO:+0200
TZNAME:EET
DTSTART:20191027T010000
END:STANDARD
END:VTIMEZONE
BEGIN:VEVENT
DTSTART;TZID=Europe/Helsinki:20190301T080000
DTEND;TZID=Europe/Helsinki:20190430T170000
DTSTAMP:20260424T222848
CREATED:20181113T160032Z
LAST-MODIFIED:20181113T160032Z
UID:63200-1551427200-1556643600@klassikauto.pl
SUMMARY:In the spotlight: MINI 50th anniversary - wystawa
DESCRIPTION:
URL:https://klassikauto.pl/impreza/in-the-spotlight-mini-50th-anniversary-wystawa/
LOCATION:Muzeum Autoworld\, Bruksela\, Belgia
CATEGORIES:Wystawa
END:VEVENT
BEGIN:VEVENT
DTSTART;TZID=Europe/Helsinki:20190410T080000
DTEND;TZID=Europe/Helsinki:20190414T170000
DTSTAMP:20260424T222848
CREATED:20181225T112041Z
LAST-MODIFIED:20181225T112041Z
UID:63929-1554883200-1555261200@klassikauto.pl
SUMMARY:Techno Classica\, Essen 2019
DESCRIPTION:
URL:https://klassikauto.pl/impreza/techno-classica-essen-2019/
LOCATION:Essen\, Niemcy
CATEGORIES:Aukcja,Targi
END:VEVENT
BEGIN:VEVENT
DTSTART;TZID=Europe/Helsinki:20190412T080000
DTEND;TZID=Europe/Helsinki:20190414T170000
DTSTAMP:20260424T222848
CREATED:20181225T175729Z
LAST-MODIFIED:20181225T175833Z
UID:64011-1555056000-1555261200@klassikauto.pl
SUMMARY:VI Zdrowotel Rajd motocykli zabytkowych i zaprzęgów
DESCRIPTION:
URL:https://klassikauto.pl/impreza/vii-zdrowotel-rajd-motocykli-zabytkowych-i-zaprzegow/
LOCATION:Łeba
CATEGORIES:Rajd
END:VEVENT
BEGIN:VEVENT
DTSTART;TZID=Europe/Helsinki:20190412T080000
DTEND;TZID=Europe/Helsinki:20190414T170000
DTSTAMP:20260424T222848
CREATED:20190209T144640Z
LAST-MODIFIED:20190209T144640Z
UID:64982-1555056000-1555261200@klassikauto.pl
SUMMARY:66. Ralley Sanremo 2019
DESCRIPTION:
URL:https://klassikauto.pl/impreza/66-ralley-sanremo-2019/
LOCATION:Sanremo
CATEGORIES:Rajd
END:VEVENT
BEGIN:VEVENT
DTSTART;TZID=Europe/Helsinki:20190412T080000
DTEND;TZID=Europe/Helsinki:20190414T170000
DTSTAMP:20260424T222848
CREATED:20190308T170506Z
LAST-MODIFIED:20190308T170506Z
UID:65683-1555056000-1555261200@klassikauto.pl
SUMMARY:11 Ogólnopolski Zlot Mustangów
DESCRIPTION:
URL:https://klassikauto.pl/impreza/11-ogolnopolski-zlot-mustangow/
LOCATION:Bełchatów
CATEGORIES:Zlot
END:VEVENT
BEGIN:VEVENT
DTSTART;TZID=Europe/Helsinki:20190413T080000
DTEND;TZID=Europe/Helsinki:20190414T170000
DTSTAMP:20260424T222848
CREATED:20190209T145320Z
LAST-MODIFIED:20190209T145320Z
UID:64985-1555142400-1555261200@klassikauto.pl
SUMMARY:VII Rajd Autosana
DESCRIPTION:
URL:https://klassikauto.pl/impreza/vii-rajd-autosana/
LOCATION:Trójmiasto
END:VEVENT
BEGIN:VEVENT
DTSTART;TZID=Europe/Helsinki:20190414T080000
DTEND;TZID=Europe/Helsinki:20190414T170000
DTSTAMP:20260424T222848
CREATED:20190125T192025Z
LAST-MODIFIED:20190125T192025Z
UID:64593-1555228800-1555261200@klassikauto.pl
SUMMARY:V Bunkrowe Spotkanie Miłośników Pojazdów Zabytkowych w Wałczu
DESCRIPTION:
URL:https://klassikauto.pl/impreza/v-bunkrowe-spotkanie-milosnikow-pojazdow-zabytkowych-w-walczu/
LOCATION:Wałcz
CATEGORIES:Zlot
END:VEVENT
BEGIN:VEVENT
DTSTART;TZID=Europe/Helsinki:20190414T080000
DTEND;TZID=Europe/Helsinki:20190414T170000
DTSTAMP:20260424T222848
CREATED:20190209T154558Z
LAST-MODIFIED:20190209T154558Z
UID:65015-1555228800-1555261200@klassikauto.pl
SUMMARY:Auto-moto-burza Valy
DESCRIPTION:
URL:https://klassikauto.pl/impreza/auto-moto-burza-valy-2/
LOCATION:Valy\, Czechy
CATEGORIES:Aukcja
END:VEVENT
BEGIN:VEVENT
DTSTART;TZID=Europe/Helsinki:20190414T080000
DTEND;TZID=Europe/Helsinki:20190414T170000
DTSTAMP:20260424T222848
CREATED:20190222T192020Z
LAST-MODIFIED:20190222T192020Z
UID:65424-1555228800-1555261200@klassikauto.pl
SUMMARY:Internationales Opel-Treffen 2019 in Dronten
DESCRIPTION:Zlot klasyków w Holandii
URL:https://klassikauto.pl/impreza/internationales-opel-treffen-2019-in-dronten/
LOCATION:Dronten\, Holandia
CATEGORIES:Zlot
END:VEVENT
BEGIN:VEVENT
DTSTART;TZID=Europe/Helsinki:20190414T080000
DTEND;TZID=Europe/Helsinki:20190414T170000
DTSTAMP:20260424T222848
CREATED:20190423T154904Z
LAST-MODIFIED:20190423T154904Z
UID:66422-1555228800-1555261200@klassikauto.pl
SUMMARY:Beskidzki Spot Klasyków
DESCRIPTION:
URL:https://klassikauto.pl/impreza/beskidzki-spot-klasykow/
LOCATION:Bielsko-Biała
CATEGORIES:Zlot
END:VEVENT
BEGIN:VEVENT
DTSTART;TZID=Europe/Helsinki:20190414T090000
DTEND;TZID=Europe/Helsinki:20190414T180000
DTSTAMP:20260424T222848
CREATED:20190217T093209Z
LAST-MODIFIED:20190217T093209Z
UID:65206-1555232400-1555264800@klassikauto.pl
SUMMARY:Rozpoczęcie Sezonu Cyklicznych Spotkań YW
DESCRIPTION:
URL:https://klassikauto.pl/impreza/rozpoczecie-sezonu-cyklicznych-spotkan-yw/
LOCATION:Warszawa
CATEGORIES:Zlot
END:VEVENT
BEGIN:VEVENT
DTSTART;TZID=Europe/Helsinki:20190419T080000
DTEND;TZID=Europe/Helsinki:20190422T170000
DTSTAMP:20260424T222848
CREATED:20190222T192141Z
LAST-MODIFIED:20190222T192141Z
UID:65428-1555660800-1555952400@klassikauto.pl
SUMMARY:Kadett Aero-Treffen
DESCRIPTION:
URL:https://klassikauto.pl/impreza/kadett-aero-treffen/
LOCATION:Wiedeń\, Austria
CATEGORIES:Zlot
END:VEVENT
BEGIN:VEVENT
DTSTART;TZID=Europe/Helsinki:20190420T110000
DTEND;TZID=Europe/Helsinki:20190420T150000
DTSTAMP:20260424T222848
CREATED:20181113T163423Z
LAST-MODIFIED:20181113T163423Z
UID:63234-1555758000-1555772400@klassikauto.pl
SUMMARY:Bitwa Narodów-Rajd Klasycznych Aut
DESCRIPTION:
URL:https://klassikauto.pl/impreza/bitwa-narodow-rajd-klasycznych-aut/
LOCATION:Warszawa
CATEGORIES:Rajd
END:VEVENT
BEGIN:VEVENT
DTSTART;TZID=Europe/Helsinki:20190422T090000
DTEND;TZID=Europe/Helsinki:20190422T180000
DTSTAMP:20260424T222848
CREATED:20190217T091455Z
LAST-MODIFIED:20190217T091455Z
UID:65195-1555923600-1555956000@klassikauto.pl
SUMMARY:Kaszlakowa objazdówka - edycja: wiosna 2019
DESCRIPTION:
URL:https://klassikauto.pl/impreza/kaszlakowa-objazdowka-edycja-wiosna-2019/
LOCATION:Sosnowiec
CATEGORIES:Rajd
END:VEVENT
BEGIN:VEVENT
DTSTART;TZID=Europe/Helsinki:20190422T110000
DTEND;TZID=Europe/Helsinki:20190422T150000
DTSTAMP:20260424T222848
CREATED:20190404T191531Z
LAST-MODIFIED:20190404T191531Z
UID:66090-1555930800-1555945200@klassikauto.pl
SUMMARY:Operacja Bezpieczny Klasyk
DESCRIPTION:
URL:https://klassikauto.pl/impreza/operacja-bezpieczny-klasyk/
LOCATION:Gdańsk
END:VEVENT
BEGIN:VEVENT
DTSTART;TZID=Europe/Helsinki:20190422T120000
DTEND;TZID=Europe/Helsinki:20190422T150000
DTSTAMP:20260424T222848
CREATED:20190304T174229Z
LAST-MODIFIED:20190304T174229Z
UID:65623-1555934400-1555945200@klassikauto.pl
SUMMARY:Trójmiejskie\, Klasyczne Rozpoczęcie Sezonu 2019
DESCRIPTION:
URL:https://klassikauto.pl/impreza/trojmiejskie-klasyczne-rozpoczecie-sezonu-2019/
LOCATION:Gdańsk
CATEGORIES:Zlot
END:VEVENT
BEGIN:VEVENT
DTSTART;TZID=Europe/Helsinki:20190422T130000
DTEND;TZID=Europe/Helsinki:20190422T170000
DTSTAMP:20260424T222848
CREATED:20190308T164258Z
LAST-MODIFIED:20190308T164258Z
UID:65671-1555938000-1555952400@klassikauto.pl
SUMMARY:Lany Poniedziałek 2019
DESCRIPTION:Zlot Mercedesów
URL:https://klassikauto.pl/impreza/lany-poniedzialek-2019/
LOCATION:Rybnik
CATEGORIES:Zlot
END:VEVENT
BEGIN:VEVENT
DTSTART;TZID=Europe/Helsinki:20190423T080000
DTEND;TZID=Europe/Helsinki:20190423T170000
DTSTAMP:20260424T222848
CREATED:20190423T155259Z
LAST-MODIFIED:20190423T155259Z
UID:66426-1556006400-1556038800@klassikauto.pl
SUMMARY:Zlot Samochodów Zabytkowych i Amerykańskich
DESCRIPTION:
URL:https://klassikauto.pl/impreza/zlot-samochodow-zabytkowych-i-amerykanskich/
LOCATION:Andrychów
CATEGORIES:Zlot
END:VEVENT
BEGIN:VEVENT
DTSTART;TZID=Europe/Helsinki:20190425T080000
DTEND;TZID=Europe/Helsinki:20190427T170000
DTSTAMP:20260424T222848
CREATED:20181225T181037Z
LAST-MODIFIED:20181225T181046Z
UID:64023-1556179200-1556384400@klassikauto.pl
SUMMARY:Suedsteiermark Classic
DESCRIPTION:
URL:https://klassikauto.pl/impreza/suedsteiermark-classic-2/
LOCATION:Gamlitz\, Austria
CATEGORIES:Rajd
END:VEVENT
BEGIN:VEVENT
DTSTART;TZID=Europe/Helsinki:20190426T080000
DTEND;TZID=Europe/Helsinki:20190426T170000
DTSTAMP:20260424T222848
CREATED:20190209T141822Z
LAST-MODIFIED:20190209T141822Z
UID:64975-1556265600-1556298000@klassikauto.pl
SUMMARY:IX Ogólnopolski Rajd Pojazdów Zabytkowych
DESCRIPTION:
URL:https://klassikauto.pl/impreza/ix-ogolnopolski-rajd-pojazdow-zabytkowych/
LOCATION:Kielce
CATEGORIES:Rajd
END:VEVENT
BEGIN:VEVENT
DTSTART;TZID=Europe/Helsinki:20190426T080000
DTEND;TZID=Europe/Helsinki:20190428T170000
DTSTAMP:20260424T222848
CREATED:20181225T180015Z
LAST-MODIFIED:20181225T180015Z
UID:64014-1556265600-1556470800@klassikauto.pl
SUMMARY:Bosch Hockenheim Historic 2019
DESCRIPTION:
URL:https://klassikauto.pl/impreza/bosch-hockenheim-historic-2019/
LOCATION:Hockenheim\, Germany
CATEGORIES:Rajd
END:VEVENT
BEGIN:VEVENT
DTSTART;TZID=Europe/Helsinki:20190426T080000
DTEND;TZID=Europe/Helsinki:20190428T170000
DTSTAMP:20260424T222848
CREATED:20190222T192420Z
LAST-MODIFIED:20190222T192420Z
UID:65431-1556265600-1556470800@klassikauto.pl
SUMMARY:Salon Auto Moto Classic  2019
DESCRIPTION:
URL:https://klassikauto.pl/impreza/salon-auto-moto-classic-2019/
LOCATION:Strassburg\, Belgia
CATEGORIES:Wystawa
END:VEVENT
BEGIN:VEVENT
DTSTART;TZID=Europe/Helsinki:20190427T080000
DTEND;TZID=Europe/Helsinki:20190427T170000
DTSTAMP:20260424T222848
CREATED:20190125T192147Z
LAST-MODIFIED:20190125T192147Z
UID:64595-1556352000-1556384400@klassikauto.pl
SUMMARY:Otwarcie Sezonu w Twinpigs
DESCRIPTION:
URL:https://klassikauto.pl/impreza/otwarcie-sezonu-w-twinpigs/
LOCATION:Strumień
CATEGORIES:Zlot
END:VEVENT
BEGIN:VEVENT
DTSTART;TZID=Europe/Helsinki:20190427T080000
DTEND;TZID=Europe/Helsinki:20190427T170000
DTSTAMP:20260424T222848
CREATED:20190209T154817Z
LAST-MODIFIED:20190209T154817Z
UID:65017-1556352000-1556384400@klassikauto.pl
SUMMARY:Rajd historyczny - Cestujeme veteránem 250 let po cestách F. L. Věka\,
DESCRIPTION:
URL:https://klassikauto.pl/impreza/rajd-historyczny-cestujeme-veteranem-250-let-po-cestach-f-l-veka/
CATEGORIES:Rajd
END:VEVENT
BEGIN:VEVENT
DTSTART;TZID=Europe/Helsinki:20190427T080000
DTEND;TZID=Europe/Helsinki:20190427T170000
DTSTAMP:20260424T222848
CREATED:20190209T155015Z
LAST-MODIFIED:20190209T155015Z
UID:65019-1556352000-1556384400@klassikauto.pl
SUMMARY:Výroční jízda Indian 101 Scout
DESCRIPTION:rajd
URL:https://klassikauto.pl/impreza/vyrocni-jizda-indian-101-scout/
LOCATION:Praga\, Czechy
CATEGORIES:Rajd
END:VEVENT
BEGIN:VEVENT
DTSTART;TZID=Europe/Helsinki:20190427T080000
DTEND;TZID=Europe/Helsinki:20190427T170000
DTSTAMP:20260424T222848
CREATED:20190209T155130Z
LAST-MODIFIED:20190209T155130Z
UID:65022-1556352000-1556384400@klassikauto.pl
SUMMARY:Veteránparty 2019
DESCRIPTION:
URL:https://klassikauto.pl/impreza/veteranparty-2019/
LOCATION:Praga\, Czechy
CATEGORIES:Wystawa
END:VEVENT
BEGIN:VEVENT
DTSTART;TZID=Europe/Helsinki:20190427T080000
DTEND;TZID=Europe/Helsinki:20190427T170000
DTSTAMP:20260424T222848
CREATED:20190209T155323Z
LAST-MODIFIED:20190209T155323Z
UID:65024-1556352000-1556384400@klassikauto.pl
SUMMARY:O 106 Jihočeským krajem - 200 mil jihočeských\, VIII. ročník
DESCRIPTION:Rajd samochodów wyprodukowanych w latach 1950-1988
URL:https://klassikauto.pl/impreza/o-106-jihoceskym-krajem-200-mil-jihoceskych-viii-rocnik/
LOCATION:Tabor\, Czechy
CATEGORIES:Rajd
END:VEVENT
BEGIN:VEVENT
DTSTART;TZID=Europe/Helsinki:20190427T080000
DTEND;TZID=Europe/Helsinki:20190427T170000
DTSTAMP:20260424T222848
CREATED:20190217T100426Z
LAST-MODIFIED:20190217T100426Z
UID:65225-1556352000-1556384400@klassikauto.pl
SUMMARY:Jarná Auto-Moto Veterán BURZA
DESCRIPTION:
URL:https://klassikauto.pl/impreza/jarna-auto-moto-veteran-burza/
LOCATION:Sered\, Słowacja
CATEGORIES:Aukcja
END:VEVENT
BEGIN:VEVENT
DTSTART;TZID=Europe/Helsinki:20190427T080000
DTEND;TZID=Europe/Helsinki:20190427T170000
DTSTAMP:20260424T222848
CREATED:20190218T190008Z
LAST-MODIFIED:20190218T190008Z
UID:65354-1556352000-1556384400@klassikauto.pl
SUMMARY:Audi RegioSprint
DESCRIPTION:
URL:https://klassikauto.pl/impreza/audi-regiosprint/
LOCATION:Ingolstadt
CATEGORIES:Rajd
END:VEVENT
BEGIN:VEVENT
DTSTART;TZID=Europe/Helsinki:20190427T080000
DTEND;TZID=Europe/Helsinki:20190427T170000
DTSTAMP:20260424T222848
CREATED:20190221T193600Z
LAST-MODIFIED:20190221T193600Z
UID:65407-1556352000-1556384400@klassikauto.pl
SUMMARY:Soutěž elegance amerických historických vozidel
DESCRIPTION:
URL:https://klassikauto.pl/impreza/soutez-elegance-americkych-historickych-vozidel/
LOCATION:Sychrov\, Czechy
CATEGORIES:Zlot
END:VEVENT
END:VCALENDAR
<!-- RunCloud Hub 2026-04-24 21:28:48 -->