BEGIN:VCALENDAR
VERSION:2.0
PRODID:-//KlassikAuto.pl - ECPv6.7.0//NONSGML v1.0//EN
CALSCALE:GREGORIAN
METHOD:PUBLISH
X-ORIGINAL-URL:https://klassikauto.pl
X-WR-CALDESC:Wydarzenia dla KlassikAuto.pl
REFRESH-INTERVAL;VALUE=DURATION:PT1H
X-Robots-Tag:noindex
X-PUBLISHED-TTL:PT1H
BEGIN:VTIMEZONE
TZID:Europe/Helsinki
BEGIN:DAYLIGHT
TZOFFSETFROM:+0200
TZOFFSETTO:+0300
TZNAME:EEST
DTSTART:20190331T010000
END:DAYLIGHT
BEGIN:STANDARD
TZOFFSETFROM:+0300
TZOFFSETTO:+0200
TZNAME:EET
DTSTART:20191027T010000
END:STANDARD
END:VTIMEZONE
BEGIN:VEVENT
DTSTART;TZID=Europe/Helsinki:20190301T080000
DTEND;TZID=Europe/Helsinki:20190430T170000
DTSTAMP:20260425T001049
CREATED:20181113T160032Z
LAST-MODIFIED:20181113T160032Z
UID:63200-1551427200-1556643600@klassikauto.pl
SUMMARY:In the spotlight: MINI 50th anniversary - wystawa
DESCRIPTION:
URL:https://klassikauto.pl/impreza/in-the-spotlight-mini-50th-anniversary-wystawa/
LOCATION:Muzeum Autoworld\, Bruksela\, Belgia
CATEGORIES:Wystawa
END:VEVENT
BEGIN:VEVENT
DTSTART;TZID=Europe/Helsinki:20190323T080000
DTEND;TZID=Europe/Helsinki:20190323T170000
DTSTAMP:20260425T001049
CREATED:20190209T152543Z
LAST-MODIFIED:20190209T152543Z
UID:65001-1553328000-1553360400@klassikauto.pl
SUMMARY:Auto moto veterán bazar Mohelnice
DESCRIPTION:
URL:https://klassikauto.pl/impreza/auto-moto-veteran-bazar-mohelnice/
LOCATION:Mohelnice\, Czechy
CATEGORIES:Aukcja
END:VEVENT
BEGIN:VEVENT
DTSTART;TZID=Europe/Helsinki:20190324T110000
DTEND;TZID=Europe/Helsinki:20190324T180000
DTSTAMP:20260425T001049
CREATED:20190209T122602Z
LAST-MODIFIED:20190209T122602Z
UID:64908-1553425200-1553450400@klassikauto.pl
SUMMARY:1 Wawerski Piknik Motoryzacyjny
DESCRIPTION:
URL:https://klassikauto.pl/impreza/1-wawerski-piknik-motoryzacyjny/
LOCATION:Warszawa
CATEGORIES:Zlot
END:VEVENT
BEGIN:VEVENT
DTSTART;TZID=Europe/Helsinki:20190324T150000
DTEND;TZID=Europe/Helsinki:20190324T180000
DTSTAMP:20260425T001049
CREATED:20181113T162721Z
LAST-MODIFIED:20181113T162722Z
UID:63227-1553439600-1553450400@klassikauto.pl
SUMMARY:Rozpoczęcie Sezonu 2019\, Lipsko 126p
DESCRIPTION:
URL:https://klassikauto.pl/impreza/rozpoczecie-sezonu-2019-lipsko-126p/
LOCATION:Lipsko
CATEGORIES:Zlot
END:VEVENT
BEGIN:VEVENT
DTSTART;TZID=Europe/Helsinki:20190324T160000
DTEND;TZID=Europe/Helsinki:20190324T190000
DTSTAMP:20260425T001049
CREATED:20190304T171028Z
LAST-MODIFIED:20190304T171028Z
UID:65605-1553443200-1553454000@klassikauto.pl
SUMMARY:Wiosenne przepalanie klasyków z BKN
DESCRIPTION:
URL:https://klassikauto.pl/impreza/wiosenne-przepalanie-klasykow-z-bkn/
LOCATION:Bielsko-Biała
CATEGORIES:Zlot
END:VEVENT
BEGIN:VEVENT
DTSTART;TZID=Europe/Helsinki:20190324T160000
DTEND;TZID=Europe/Helsinki:20190324T190000
DTSTAMP:20260425T001049
CREATED:20190308T181317Z
LAST-MODIFIED:20190308T181317Z
UID:65703-1553443200-1553454000@klassikauto.pl
SUMMARY:Zawierciańskie Klasyki - Wiosenny SPOT 2019
DESCRIPTION:
URL:https://klassikauto.pl/impreza/zawiercianskie-klasyki-wiosenny-spot-2019/
LOCATION:Zawiercie
CATEGORIES:Zlot
END:VEVENT
BEGIN:VEVENT
DTSTART;TZID=Europe/Helsinki:20190328T080000
DTEND;TZID=Europe/Helsinki:20190331T170000
DTSTAMP:20260425T001049
CREATED:20181113T170222Z
LAST-MODIFIED:20181113T170222Z
UID:63262-1553760000-1554051600@klassikauto.pl
SUMMARY:Poznań Motor Show 2019
DESCRIPTION:
URL:https://klassikauto.pl/impreza/poznan-motor-show-2019/
LOCATION:Poznań
CATEGORIES:Targi
END:VEVENT
BEGIN:VEVENT
DTSTART;TZID=Europe/Helsinki:20190329T080000
DTEND;TZID=Europe/Helsinki:20190330T170000
DTSTAMP:20260425T001049
CREATED:20181225T113551Z
LAST-MODIFIED:20181225T114159Z
UID:63940-1553846400-1553965200@klassikauto.pl
SUMMARY:RM Sotheby's 2019\, Fort Lauderdale
DESCRIPTION:Greater Fort Lauderdale/Broward County Convention Center \nFort Lauderdale\, Floryda
URL:https://klassikauto.pl/impreza/rm-sothebys-2019-fort-lauderdale/
LOCATION:Fort Lauderdale\, Florida
CATEGORIES:Aukcja
END:VEVENT
BEGIN:VEVENT
DTSTART;TZID=Europe/Helsinki:20190329T080000
DTEND;TZID=Europe/Helsinki:20190331T170000
DTSTAMP:20260425T001049
CREATED:20190209T122948Z
LAST-MODIFIED:20190209T123010Z
UID:64910-1553846400-1554051600@klassikauto.pl
SUMMARY:XX Ogólnopolski Zlot i XIII Urodziny Audi A4 Klub Polska
DESCRIPTION:
URL:https://klassikauto.pl/impreza/xx-ogolnopolski-zlot-i-xiii-urodziny-audi-a4-klub-polska/
LOCATION:Bukowina Tatrzańska
CATEGORIES:Zlot
END:VEVENT
BEGIN:VEVENT
DTSTART;TZID=Europe/Helsinki:20190330T080000
DTEND;TZID=Europe/Helsinki:20190330T170000
DTSTAMP:20260425T001049
CREATED:20181225T180409Z
LAST-MODIFIED:20181225T180409Z
UID:64016-1553932800-1553965200@klassikauto.pl
SUMMARY:Classic cars & motorcycles\, in the Oldtimer Galerie
DESCRIPTION:
URL:https://klassikauto.pl/impreza/classic-cars-motorcycles-in-the-oldtimer-galerie/
LOCATION:Toffen\, Szwajcaria
CATEGORIES:Aukcja
END:VEVENT
BEGIN:VEVENT
DTSTART;TZID=Europe/Helsinki:20190330T080000
DTEND;TZID=Europe/Helsinki:20190330T170000
DTSTAMP:20260425T001049
CREATED:20190125T184628Z
LAST-MODIFIED:20190125T184628Z
UID:64575-1553932800-1553965200@klassikauto.pl
SUMMARY:Otwarcie sezonu CABRIO POLAND 2019
DESCRIPTION:
URL:https://klassikauto.pl/impreza/otwarcie-sezonu-cabrio-poland-2019/
LOCATION:Poznań
CATEGORIES:Zlot
END:VEVENT
BEGIN:VEVENT
DTSTART;TZID=Europe/Helsinki:20190330T080000
DTEND;TZID=Europe/Helsinki:20190330T170000
DTSTAMP:20260425T001049
CREATED:20190125T195856Z
LAST-MODIFIED:20190125T195856Z
UID:64615-1553932800-1553965200@klassikauto.pl
SUMMARY:Pożegnanie Autosanów H10 w PKS Kalisz
DESCRIPTION:
URL:https://klassikauto.pl/impreza/pozegnanie-autosanow-h10-w-pks-kalisz/
LOCATION:Kalisz
CATEGORIES:Zlot
END:VEVENT
BEGIN:VEVENT
DTSTART;TZID=Europe/Helsinki:20190330T080000
DTEND;TZID=Europe/Helsinki:20190330T170000
DTSTAMP:20260425T001049
CREATED:20190209T152714Z
LAST-MODIFIED:20190209T152714Z
UID:65004-1553932800-1553965200@klassikauto.pl
SUMMARY:Auto moto velo burza v Hobšovicích
DESCRIPTION:
URL:https://klassikauto.pl/impreza/auto-moto-velo-burza-v-hobsovicich/
LOCATION:Hobšovice\, Czechy
CATEGORIES:Aukcja
END:VEVENT
BEGIN:VEVENT
DTSTART;TZID=Europe/Helsinki:20190330T080000
DTEND;TZID=Europe/Helsinki:20190330T170000
DTSTAMP:20260425T001049
CREATED:20190209T152917Z
LAST-MODIFIED:20190209T152917Z
UID:65006-1553932800-1553965200@klassikauto.pl
SUMMARY:Retro Garáž auto-moto veterán burza
DESCRIPTION:
URL:https://klassikauto.pl/impreza/retro-garaz-auto-moto-veteran-burza/
LOCATION:Lysa nad Labem\, Czechy
CATEGORIES:Aukcja,Zlot
END:VEVENT
BEGIN:VEVENT
DTSTART;TZID=Europe/Helsinki:20190330T090000
DTEND;TZID=Europe/Helsinki:20190330T140000
DTSTAMP:20260425T001049
CREATED:20190125T191510Z
LAST-MODIFIED:20190308T165407Z
UID:64588-1553936400-1553954400@klassikauto.pl
SUMMARY:Rudzko Rajza - Zjazd Klasyków W Rudzie Śląskiej
DESCRIPTION:
URL:https://klassikauto.pl/impreza/rudzko-rajza-zjazd-klasykow-w-rudzie-slaskiej/
LOCATION:Ruda Śląska
CATEGORIES:Zlot
END:VEVENT
BEGIN:VEVENT
DTSTART;TZID=Europe/Helsinki:20190405T080000
DTEND;TZID=Europe/Helsinki:20190407T170000
DTSTAMP:20260425T001049
CREATED:20181225T174033Z
LAST-MODIFIED:20181225T174033Z
UID:64004-1554451200-1554656400@klassikauto.pl
SUMMARY:Veterama 2019\, Hockenheim
DESCRIPTION:
URL:https://klassikauto.pl/impreza/veterama-2019-hockenheim/
LOCATION:Hockenheim\, Germany
CATEGORIES:Wystawa
END:VEVENT
BEGIN:VEVENT
DTSTART;TZID=Europe/Helsinki:20190405T080000
DTEND;TZID=Europe/Helsinki:20190407T170000
DTSTAMP:20260425T001049
CREATED:20181225T174449Z
LAST-MODIFIED:20181225T174449Z
UID:64009-1554451200-1554656400@klassikauto.pl
SUMMARY:Oldtimer Show 2019
DESCRIPTION:
URL:https://klassikauto.pl/impreza/oldtimer-show-2019/
LOCATION:Budapeszt
CATEGORIES:Targi
END:VEVENT
BEGIN:VEVENT
DTSTART;TZID=Europe/Helsinki:20190405T080000
DTEND;TZID=Europe/Helsinki:20190407T170000
DTSTAMP:20260425T001049
CREATED:20190312T193232Z
LAST-MODIFIED:20190312T193232Z
UID:65834-1554451200-1554656400@klassikauto.pl
SUMMARY:3 Rajd Memoriał Janusza Kuliga i Mariana Bublewicza
DESCRIPTION:
URL:https://klassikauto.pl/impreza/3-rajd-memorial-janusza-kuliga-i-mariana-bublewicza/
LOCATION:Wieliczka
CATEGORIES:Rajd
END:VEVENT
BEGIN:VEVENT
DTSTART;TZID=Europe/Helsinki:20190406T080000
DTEND;TZID=Europe/Helsinki:20190406T170000
DTSTAMP:20260425T001049
CREATED:20190103T152139Z
LAST-MODIFIED:20190103T152139Z
UID:64254-1554537600-1554570000@klassikauto.pl
SUMMARY:ADAC Rallye Westerwald
DESCRIPTION:Youngtimer Rally Trophy
URL:https://klassikauto.pl/impreza/adac-rallye-westerwald/
LOCATION:Niemcy
CATEGORIES:Rajd
END:VEVENT
BEGIN:VEVENT
DTSTART;TZID=Europe/Helsinki:20190406T080000
DTEND;TZID=Europe/Helsinki:20190406T170000
DTSTAMP:20260425T001049
CREATED:20190125T185958Z
LAST-MODIFIED:20190209T112829Z
UID:64584-1554537600-1554570000@klassikauto.pl
SUMMARY:Rozpoczęcie Sezonu Nowa Iwiczna Classic Car 2019
DESCRIPTION:Patronat Medialny sprawuje KlassikAuto.pl
URL:https://klassikauto.pl/impreza/rozpoczecie-sezonu-nowa-iwiczna-classic-car-2019/
LOCATION:Mysiadło
CATEGORIES:Zlot
END:VEVENT
BEGIN:VEVENT
DTSTART;TZID=Europe/Helsinki:20190406T080000
DTEND;TZID=Europe/Helsinki:20190407T170000
DTSTAMP:20260425T001049
CREATED:20190201T105029Z
LAST-MODIFIED:20190201T105029Z
UID:64780-1554537600-1554656400@klassikauto.pl
SUMMARY:Auto Nostalgia 2019  -Targi Pojazdów Zabytkowych
DESCRIPTION:
URL:https://klassikauto.pl/impreza/auto-nostalgia-2019-targi-pojazdow-zabytkowych/
LOCATION:Warszawa
CATEGORIES:Targi
END:VEVENT
BEGIN:VEVENT
DTSTART;TZID=Europe/Helsinki:20190406T080000
DTEND;TZID=Europe/Helsinki:20190407T170000
DTSTAMP:20260425T001049
CREATED:20190217T103051Z
LAST-MODIFIED:20190217T103051Z
UID:65238-1554537600-1554656400@klassikauto.pl
SUMMARY:Mototarg\, Warszawski Bazar Motocyklowy
DESCRIPTION:
URL:https://klassikauto.pl/impreza/mototarg-warszawski-bazar-motocyklowy/
LOCATION:Warszawa
CATEGORIES:Targi
END:VEVENT
BEGIN:VEVENT
DTSTART;TZID=Europe/Helsinki:20190406T080000
DTEND;TZID=Europe/Helsinki:20190407T170000
DTSTAMP:20260425T001049
CREATED:20190308T170814Z
LAST-MODIFIED:20190308T170814Z
UID:65687-1554537600-1554656400@klassikauto.pl
SUMMARY:I Małopolski Zlot Mustangów  - Kraków-Paryż
DESCRIPTION:Spotkanie ma na celu rozpoczęcie sezonu dla Stajni Małopolskiej i jej przyjaciół.\nTegoroczna tematyka zlotu to Francja czyli Paryż\, wino i sery.
URL:https://klassikauto.pl/impreza/i-malopolski-zlot-mustangow-krakow-paryz/
LOCATION:Kraków
CATEGORIES:Zlot
END:VEVENT
BEGIN:VEVENT
DTSTART;TZID=Europe/Helsinki:20190407T080000
DTEND;TZID=Europe/Helsinki:20190407T170000
DTSTAMP:20260425T001049
CREATED:20190125T181707Z
LAST-MODIFIED:20190125T181707Z
UID:64545-1554624000-1554656400@klassikauto.pl
SUMMARY:Turystyczny Puchar 126p Sezonu 2019
DESCRIPTION:Runda wiosenna
URL:https://klassikauto.pl/impreza/turystyczny-puchar-126p-sezonu-2019/
LOCATION:Warszawa
CATEGORIES:Rajd
END:VEVENT
BEGIN:VEVENT
DTSTART;TZID=Europe/Helsinki:20190407T080000
DTEND;TZID=Europe/Helsinki:20190407T170000
DTSTAMP:20260425T001049
CREATED:20190308T181448Z
LAST-MODIFIED:20190308T181448Z
UID:65705-1554624000-1554656400@klassikauto.pl
SUMMARY:Klasyczna Niedziela - rozpoczęcie sezonu 2019
DESCRIPTION:
URL:https://klassikauto.pl/impreza/klasyczna-niedziela-rozpoczecie-sezonu-2019/
LOCATION:Będzin
CATEGORIES:Zlot
END:VEVENT
BEGIN:VEVENT
DTSTART;TZID=Europe/Helsinki:20190407T080000
DTEND;TZID=Europe/Helsinki:20190407T170000
DTSTAMP:20260425T001049
CREATED:20190312T172155Z
LAST-MODIFIED:20190312T172155Z
UID:65803-1554624000-1554656400@klassikauto.pl
SUMMARY:Moto Classic Radomsko 2019
DESCRIPTION:Zlot Zabytkowych Pojazdów i Motocykli \nWystawa w Muzeum Regionalnym im. S. Sosnowskiego w Radomsku
URL:https://klassikauto.pl/impreza/moto-classic-radomsko-2019/
LOCATION:Radomsko
CATEGORIES:Wystawa,Zlot
END:VEVENT
BEGIN:VEVENT
DTSTART;TZID=Europe/Helsinki:20190407T090000
DTEND;TZID=Europe/Helsinki:20190407T160000
DTSTAMP:20260425T001049
CREATED:20190321T185215Z
LAST-MODIFIED:20190321T185215Z
UID:65923-1554627600-1554652800@klassikauto.pl
SUMMARY:Klasyczne Spotkania Dla Fanów Motoryzacji
DESCRIPTION:
URL:https://klassikauto.pl/impreza/klasyczne-spotkania-dla-fanow-motoryzacji/
LOCATION:Rzezawa
CATEGORIES:Zlot
END:VEVENT
BEGIN:VEVENT
DTSTART;TZID=Europe/Helsinki:20190407T100000
DTEND;TZID=Europe/Helsinki:20190407T180000
DTSTAMP:20260425T001049
CREATED:20190125T182051Z
LAST-MODIFIED:20190125T182051Z
UID:64551-1554631200-1554660000@klassikauto.pl
SUMMARY:IV Rajd Rembertowski 2019
DESCRIPTION:
URL:https://klassikauto.pl/impreza/iv-rajd-rembertowski-2019/
LOCATION:Warszawa
CATEGORIES:Rajd
END:VEVENT
BEGIN:VEVENT
DTSTART;TZID=Europe/Helsinki:20190407T100000
DTEND;TZID=Europe/Helsinki:20190407T180000
DTSTAMP:20260425T001049
CREATED:20190304T170426Z
LAST-MODIFIED:20190304T170426Z
UID:65601-1554631200-1554660000@klassikauto.pl
SUMMARY:Rozpoczęcie sezonu Częstochowski Ruch Klasyków
DESCRIPTION:
URL:https://klassikauto.pl/impreza/rozpoczecie-sezonu-czestochowski-ruch-klasykow/
LOCATION:Częstochowa
CATEGORIES:Zlot
END:VEVENT
BEGIN:VEVENT
DTSTART;TZID=Europe/Helsinki:20190407T100000
DTEND;TZID=Europe/Helsinki:20190407T230000
DTSTAMP:20260425T001049
CREATED:20190103T122048Z
LAST-MODIFIED:20190103T122048Z
UID:64156-1554631200-1554678000@klassikauto.pl
SUMMARY:Kieleckie Klasyki Zlot - otwarcie sezonu letniego
DESCRIPTION:
URL:https://klassikauto.pl/impreza/kieleckie-klasyki-zlot-otwarcie-sezonu-letniego/
LOCATION:Kielce
CATEGORIES:Zlot
END:VEVENT
END:VCALENDAR
<!-- RunCloud Hub 2026-04-24 23:10:49 -->