BEGIN:VCALENDAR
VERSION:2.0
PRODID:-//KlassikAuto.pl - ECPv6.7.0//NONSGML v1.0//EN
CALSCALE:GREGORIAN
METHOD:PUBLISH
X-ORIGINAL-URL:https://klassikauto.pl
X-WR-CALDESC:Wydarzenia dla KlassikAuto.pl
REFRESH-INTERVAL;VALUE=DURATION:PT1H
X-Robots-Tag:noindex
X-PUBLISHED-TTL:PT1H
BEGIN:VTIMEZONE
TZID:Europe/Helsinki
BEGIN:DAYLIGHT
TZOFFSETFROM:+0200
TZOFFSETTO:+0300
TZNAME:EEST
DTSTART:20180325T010000
END:DAYLIGHT
BEGIN:STANDARD
TZOFFSETFROM:+0300
TZOFFSETTO:+0200
TZNAME:EET
DTSTART:20181028T010000
END:STANDARD
BEGIN:DAYLIGHT
TZOFFSETFROM:+0200
TZOFFSETTO:+0300
TZNAME:EEST
DTSTART:20190331T010000
END:DAYLIGHT
BEGIN:STANDARD
TZOFFSETFROM:+0300
TZOFFSETTO:+0200
TZNAME:EET
DTSTART:20191027T010000
END:STANDARD
END:VTIMEZONE
BEGIN:VEVENT
DTSTART;VALUE=DATE:20181109
DTEND;VALUE=DATE:20181111
DTSTAMP:20260425T135006
CREATED:20180308T135819Z
LAST-MODIFIED:20180308T135819Z
UID:56801-1541721600-1541894399@klassikauto.pl
SUMMARY:Youngtimer Trophy 2018\, ADAC Rallye Köln-Ahrweilern
DESCRIPTION:
URL:https://klassikauto.pl/impreza/youngtimer-trophy-2018-adac-rallye-koln-ahrweilern/
LOCATION:Niemcy
END:VEVENT
BEGIN:VEVENT
DTSTART;VALUE=DATE:20181110
DTEND;VALUE=DATE:20181203
DTSTAMP:20260425T135006
CREATED:20180308T135910Z
LAST-MODIFIED:20180308T135910Z
UID:56803-1541808000-1543795199@klassikauto.pl
SUMMARY:Wystawa – Forgotten Brand ‚Pegaso’
DESCRIPTION:
URL:https://klassikauto.pl/impreza/wystawa-forgotten-brand-pegaso/
LOCATION:Muzeum Autoworld\, Bruksela\, Belgia
END:VEVENT
BEGIN:VEVENT
DTSTART;VALUE=DATE:20181116
DTEND;VALUE=DATE:20181119
DTSTAMP:20260425T135006
CREATED:20180308T135955Z
LAST-MODIFIED:20190103T130607Z
UID:56805-1542326400-1542585599@klassikauto.pl
SUMMARY:Warsaw Motor Show
DESCRIPTION:
URL:https://klassikauto.pl/impreza/warsaw-moto-show/
LOCATION:Warszawa
END:VEVENT
BEGIN:VEVENT
DTSTART;VALUE=DATE:20181118
DTEND;VALUE=DATE:20181119
DTSTAMP:20260425T135006
CREATED:20180308T140026Z
LAST-MODIFIED:20180309T182913Z
UID:56807-1542499200-1542585599@klassikauto.pl
SUMMARY:Oldtimerbazar
DESCRIPTION:
URL:https://klassikauto.pl/impreza/oldtimerbazar-8/
LOCATION:Wrocław\, Wrocław\, Poland
CATEGORIES:Aukcja
END:VEVENT
BEGIN:VEVENT
DTSTART;TZID=Europe/Helsinki:20181118T140000
DTEND;TZID=Europe/Helsinki:20181118T180000
DTSTAMP:20260425T135006
CREATED:20181113T153649Z
LAST-MODIFIED:20181113T153649Z
UID:63175-1542549600-1542564000@klassikauto.pl
SUMMARY:V Moto Spot CH Huta Węgierska Górka
DESCRIPTION:
URL:https://klassikauto.pl/impreza/v-moto-spot-ch-huta-wegierska-gorka/
LOCATION:Węgierska Górka
END:VEVENT
BEGIN:VEVENT
DTSTART;TZID=Europe/Helsinki:20181118T140000
DTEND;TZID=Europe/Helsinki:20181118T190000
DTSTAMP:20260425T135006
CREATED:20181113T153755Z
LAST-MODIFIED:20181113T153755Z
UID:63177-1542549600-1542567600@klassikauto.pl
SUMMARY:Klasyki na Placu Wolnosci
DESCRIPTION:
URL:https://klassikauto.pl/impreza/klasyki-na-placu-wolnosci/
LOCATION:Kielce
END:VEVENT
BEGIN:VEVENT
DTSTART;VALUE=DATE:20181123
DTEND;VALUE=DATE:20181124
DTSTAMP:20260425T135006
CREATED:20181113T153924Z
LAST-MODIFIED:20181113T153924Z
UID:63180-1542931200-1543017599@klassikauto.pl
SUMMARY:44. Rajd Cieszyńska Barbórka
DESCRIPTION:
URL:https://klassikauto.pl/impreza/44-rajd-cieszynska-barborka/
LOCATION:Cieszyn
END:VEVENT
BEGIN:VEVENT
DTSTART;TZID=Europe/Helsinki:20181201T080000
DTEND;TZID=Europe/Helsinki:20181209T170000
DTSTAMP:20260425T135006
CREATED:20180308T140126Z
LAST-MODIFIED:20180415T103955Z
UID:56809-1543651200-1544374800@klassikauto.pl
SUMMARY:Essen Motor Show
DESCRIPTION:
URL:https://klassikauto.pl/impreza/essen-motor-show/
LOCATION:Essen\, Niemcy
END:VEVENT
BEGIN:VEVENT
DTSTART;VALUE=DATE:20181202
DTEND;VALUE=DATE:20181203
DTSTAMP:20260425T135006
CREATED:20180308T140246Z
LAST-MODIFIED:20180309T182913Z
UID:56816-1543708800-1543795199@klassikauto.pl
SUMMARY:Oldtimerbazar
DESCRIPTION:
URL:https://klassikauto.pl/impreza/oldtimerbazar-9/
LOCATION:Sosnowiec
CATEGORIES:Aukcja
END:VEVENT
BEGIN:VEVENT
DTSTART;VALUE=DATE:20181207
DTEND;VALUE=DATE:20181210
DTSTAMP:20260425T135006
CREATED:20180308T140327Z
LAST-MODIFIED:20180308T140327Z
UID:56818-1544140800-1544399999@klassikauto.pl
SUMMARY:Retro Classics Bavaria
DESCRIPTION:
URL:https://klassikauto.pl/impreza/retro-classics-bavaria/
END:VEVENT
BEGIN:VEVENT
DTSTART;VALUE=DATE:20181208
DTEND;VALUE=DATE:20181209
DTSTAMP:20260425T135006
CREATED:20180308T140217Z
LAST-MODIFIED:20180308T140217Z
UID:56813-1544227200-1544313599@klassikauto.pl
SUMMARY:II Last Minute Santa
DESCRIPTION:
URL:https://klassikauto.pl/impreza/ii-last-minute-santa/
LOCATION:Trójmiasto
END:VEVENT
BEGIN:VEVENT
DTSTART;VALUE=DATE:20181208
DTEND;VALUE=DATE:20190122
DTSTAMP:20260425T135006
CREATED:20180308T140427Z
LAST-MODIFIED:20180308T140513Z
UID:56820-1544227200-1548115199@klassikauto.pl
SUMMARY:wystawa – Porsche 70th Anniversary
DESCRIPTION:
URL:https://klassikauto.pl/impreza/wystawa-porsche-70th-anniversary/
LOCATION:Museum Autoworld\, Bruksela\, Belgia
END:VEVENT
BEGIN:VEVENT
DTSTART;TZID=Europe/Helsinki:20181215T180000
DTEND;TZID=Europe/Helsinki:20181215T220000
DTSTAMP:20260425T135006
CREATED:20181113T154238Z
LAST-MODIFIED:20181113T154238Z
UID:63183-1544896800-1544911200@klassikauto.pl
SUMMARY:Wigilijka Towarzystwa Motoryzacyjnego''ZABYTEK''
DESCRIPTION:
URL:https://klassikauto.pl/impreza/wigilijka-towarzystwa-motoryzacyjnegozabytek/
LOCATION:Bielsko-Biała
END:VEVENT
BEGIN:VEVENT
DTSTART;TZID=Europe/Helsinki:20181216T100000
DTEND;TZID=Europe/Helsinki:20181216T170000
DTSTAMP:20260425T135006
CREATED:20181113T154356Z
LAST-MODIFIED:20181113T154356Z
UID:63185-1544954400-1544979600@klassikauto.pl
SUMMARY:III Rajd Klasyków i Plastików (KiP)
DESCRIPTION:
URL:https://klassikauto.pl/impreza/iii-rajd-klasykow-i-plastikow-kip/
LOCATION:Warszawa
END:VEVENT
BEGIN:VEVENT
DTSTART;VALUE=DATE:20181229
DTEND;VALUE=DATE:20181230
DTSTAMP:20260425T135006
CREATED:20180308T140604Z
LAST-MODIFIED:20180309T183049Z
UID:56822-1546041600-1546127999@klassikauto.pl
SUMMARY:Classic Car Auction
DESCRIPTION:
URL:https://klassikauto.pl/impreza/classic-car-auction-2/
LOCATION:Gstaad\, Szwajcaria
CATEGORIES:Aukcja
END:VEVENT
BEGIN:VEVENT
DTSTART;TZID=Europe/Helsinki:20190101T160000
DTEND;TZID=Europe/Helsinki:20190101T233000
DTSTAMP:20260425T135006
CREATED:20181113T154555Z
LAST-MODIFIED:20181113T154555Z
UID:63187-1546358400-1546385400@klassikauto.pl
SUMMARY:Ogłoszenie celu 13 EDYCJI rajdu ZŁOMBOL
DESCRIPTION:
URL:https://klassikauto.pl/impreza/ogloszenie-celu-13-edycji-rajdu-zlombol/
LOCATION:Katowice
END:VEVENT
BEGIN:VEVENT
DTSTART;VALUE=DATE:20190103
DTEND;VALUE=DATE:20190106
DTSTAMP:20260425T135006
CREATED:20181113T155253Z
LAST-MODIFIED:20181113T160232Z
UID:63191-1546473600-1546732799@klassikauto.pl
SUMMARY:Plannai-Classic\, Austria
DESCRIPTION:
URL:https://klassikauto.pl/impreza/plannai-classic-austria/
LOCATION:Gröbming\, Austria
CATEGORIES:Rajd
END:VEVENT
BEGIN:VEVENT
DTSTART;TZID=Europe/Helsinki:20190105T100000
DTEND;TZID=Europe/Helsinki:20190105T170000
DTSTAMP:20260425T135006
CREATED:20190103T124815Z
LAST-MODIFIED:20190103T124815Z
UID:64182-1546682400-1546707600@klassikauto.pl
SUMMARY:VI Spot + Dra Lei - zlot Mercedesów
DESCRIPTION:
URL:https://klassikauto.pl/impreza/vi-spot-dra-lei-zlot-mercedesow/
LOCATION:Gdańsk
CATEGORIES:Zlot
END:VEVENT
BEGIN:VEVENT
DTSTART;TZID=Europe/Helsinki:20190106T090000
DTEND;TZID=Europe/Helsinki:20190106T160000
DTSTAMP:20260425T135006
CREATED:20181225T165602Z
LAST-MODIFIED:20181225T165602Z
UID:63969-1546765200-1546790400@klassikauto.pl
SUMMARY:III Rajd motoWOŚP
DESCRIPTION:
URL:https://klassikauto.pl/impreza/iii-rajd-motowosp/
LOCATION:Sopot
CATEGORIES:Rajd
END:VEVENT
BEGIN:VEVENT
DTSTART;VALUE=DATE:20190111
DTEND;VALUE=DATE:20190112
DTSTAMP:20260425T135006
CREATED:20181113T173645Z
LAST-MODIFIED:20181225T172044Z
UID:63280-1547164800-1547251199@klassikauto.pl
SUMMARY:Interclassics Maastricht - aukcja
DESCRIPTION:An Important Auction of Fine Historic Automobiles
URL:https://klassikauto.pl/impreza/interclassics-maastricht-aukcja/
LOCATION:Maastricht
CATEGORIES:Aukcja
END:VEVENT
BEGIN:VEVENT
DTSTART;TZID=Europe/Helsinki:20190113T120000
DTEND;TZID=Europe/Helsinki:20190113T180000
DTSTAMP:20260425T135006
CREATED:20190103T120759Z
LAST-MODIFIED:20190103T120759Z
UID:64149-1547380800-1547402400@klassikauto.pl
SUMMARY:Retro Cars Masovia na 27 Finale WOŚP
DESCRIPTION:
URL:https://klassikauto.pl/impreza/retro-cars-masovia-na-27-finale-wosp/
LOCATION:Mińsk Mazowiecki
CATEGORIES:Zlot
END:VEVENT
BEGIN:VEVENT
DTSTART;TZID=Europe/Helsinki:20190117T080000
DTEND;TZID=Europe/Helsinki:20190118T170000
DTSTAMP:20260425T135006
CREATED:20181225T112716Z
LAST-MODIFIED:20181225T112716Z
UID:63931-1547712000-1547830800@klassikauto.pl
SUMMARY:RM Sotheby's 2019 Arizona\, aukcja
DESCRIPTION:Arizona Biltmore Resort & Spa\, Phoenix\, Arizona
URL:https://klassikauto.pl/impreza/rm-sothebys-2019-arizona-aukcja/
LOCATION:Phoenix\, USA
CATEGORIES:Aukcja
END:VEVENT
BEGIN:VEVENT
DTSTART;TZID=Europe/Helsinki:20190120T130000
DTEND;TZID=Europe/Helsinki:20190120T160000
DTSTAMP:20260425T135006
CREATED:20190103T124618Z
LAST-MODIFIED:20190103T124618Z
UID:64180-1547989200-1548000000@klassikauto.pl
SUMMARY:5 Spot Skoda Trójmiasto - Pierwszy w 2019 r.
DESCRIPTION:
URL:https://klassikauto.pl/impreza/5-spot-skoda-trojmiasto-pierwszy-w-2019-r/
LOCATION:Gdańsk
CATEGORIES:Zlot
END:VEVENT
BEGIN:VEVENT
DTSTART;TZID=Europe/Helsinki:20190122T080000
DTEND;TZID=Europe/Helsinki:20190127T170000
DTSTAMP:20260425T135006
CREATED:20181113T161732Z
LAST-MODIFIED:20181113T161732Z
UID:63216-1548144000-1548608400@klassikauto.pl
SUMMARY:87th Rallye Automobile Monte-Carlo
DESCRIPTION:
URL:https://klassikauto.pl/impreza/87th-rallye-automobile-monte-carlo/
LOCATION:Monte Carlo\, Monaco
CATEGORIES:Rajd
END:VEVENT
BEGIN:VEVENT
DTSTART;TZID=Europe/Helsinki:20190127T080000
DTEND;TZID=Europe/Helsinki:20190127T170000
DTSTAMP:20260425T135006
CREATED:20181225T172409Z
LAST-MODIFIED:20181225T172409Z
UID:63993-1548576000-1548608400@klassikauto.pl
SUMMARY:Ślady na szosie III
DESCRIPTION:
URL:https://klassikauto.pl/impreza/slady-na-szosie-iii/
LOCATION:Warszawa
CATEGORIES:Rajd
END:VEVENT
BEGIN:VEVENT
DTSTART;TZID=Europe/Helsinki:20190130T080000
DTEND;TZID=Europe/Helsinki:20190202T170000
DTSTAMP:20260425T135006
CREATED:20181113T162006Z
LAST-MODIFIED:20181113T162006Z
UID:63220-1548835200-1549126800@klassikauto.pl
SUMMARY:3rd Rallye Monte-Carlo Classique
DESCRIPTION:
URL:https://klassikauto.pl/impreza/3rd-rallye-monte-carlo-classique/
LOCATION:Monte Carlo\, Monaco
CATEGORIES:Rajd
END:VEVENT
BEGIN:VEVENT
DTSTART;TZID=Europe/Helsinki:20190130T080000
DTEND;TZID=Europe/Helsinki:20190206T170000
DTSTAMP:20260425T135006
CREATED:20181113T161854Z
LAST-MODIFIED:20181113T161854Z
UID:63218-1548835200-1549472400@klassikauto.pl
SUMMARY:22nd Rallye Monte-Carlo Historique
DESCRIPTION:
URL:https://klassikauto.pl/impreza/22nd-rallye-monte-carlo-historique/
LOCATION:Monte Carlo\, Monaco
CATEGORIES:Rajd
END:VEVENT
BEGIN:VEVENT
DTSTART;TZID=Europe/Helsinki:20190201T080000
DTEND;TZID=Europe/Helsinki:20190228T170000
DTSTAMP:20260425T135006
CREATED:20181113T155745Z
LAST-MODIFIED:20181113T160059Z
UID:63196-1549008000-1551373200@klassikauto.pl
SUMMARY:In the spotlight: 50 Years Buggy\, A Belgian Story - wystawa
DESCRIPTION:
URL:https://klassikauto.pl/impreza/in-the-spotlight-50-years-buggy-a-belgian-story-wystawa/
LOCATION:Muzeum Autoworld\, Bruksela\, Belgia
CATEGORIES:Wystawa
END:VEVENT
BEGIN:VEVENT
DTSTART;TZID=Europe/Helsinki:20190201T090000
DTEND;TZID=Europe/Helsinki:20190203T160000
DTSTAMP:20260425T135006
CREATED:20181113T154901Z
LAST-MODIFIED:20181113T160517Z
UID:63189-1549011600-1549209600@klassikauto.pl
SUMMARY:Bremen Classic Motorshow 2019
DESCRIPTION:
URL:https://klassikauto.pl/impreza/bremen-classic-motorshow-2019/
LOCATION:Bremen\, Niemcy
CATEGORIES:Targi,Wystawa
END:VEVENT
BEGIN:VEVENT
DTSTART;TZID=Europe/Helsinki:20190201T120000
DTEND;TZID=Europe/Helsinki:20190203T120000
DTSTAMP:20260425T135006
CREATED:20190103T121237Z
LAST-MODIFIED:20190103T121237Z
UID:64151-1549022400-1549195200@klassikauto.pl
SUMMARY:VIII Zimowy Zlot Borne Sulinowo 2019
DESCRIPTION:
URL:https://klassikauto.pl/impreza/viii-zimowy-zlot-borne-sulinowo-2019/
LOCATION:Borne Sulinowo
CATEGORIES:Zlot
END:VEVENT
END:VCALENDAR
<!-- RunCloud Hub 2026-04-25 12:50:06 -->