BEGIN:VCALENDAR
VERSION:2.0
PRODID:-//KlassikAuto.pl - ECPv6.7.0//NONSGML v1.0//EN
CALSCALE:GREGORIAN
METHOD:PUBLISH
X-ORIGINAL-URL:https://klassikauto.pl
X-WR-CALDESC:Wydarzenia dla KlassikAuto.pl
REFRESH-INTERVAL;VALUE=DURATION:PT1H
X-Robots-Tag:noindex
X-PUBLISHED-TTL:PT1H
BEGIN:VTIMEZONE
TZID:Europe/Helsinki
BEGIN:DAYLIGHT
TZOFFSETFROM:+0200
TZOFFSETTO:+0300
TZNAME:EEST
DTSTART:20180325T010000
END:DAYLIGHT
BEGIN:STANDARD
TZOFFSETFROM:+0300
TZOFFSETTO:+0200
TZNAME:EET
DTSTART:20181028T010000
END:STANDARD
END:VTIMEZONE
BEGIN:VEVENT
DTSTART;TZID=Europe/Helsinki:20180707T080000
DTEND;TZID=Europe/Helsinki:20180902T170000
DTSTAMP:20260425T142604
CREATED:20180308T104344Z
LAST-MODIFIED:20180308T110940Z
UID:56602-1530950400-1535907600@klassikauto.pl
SUMMARY:Wystawa – Renault 120th Anniversary\, Muzeum Autoworld
DESCRIPTION:
URL:https://klassikauto.pl/impreza/wystawa-renault-120th-anniversary-muzeum-autoworld/
LOCATION:Muzeum Autoworld\, Bruksela\, Belgia
END:VEVENT
BEGIN:VEVENT
DTSTART;TZID=Europe/Helsinki:20180828T080000
DTEND;TZID=Europe/Helsinki:20180901T170000
DTSTAMP:20260425T142604
CREATED:20180308T113251Z
LAST-MODIFIED:20180308T113251Z
UID:56712-1535443200-1535821200@klassikauto.pl
SUMMARY:FIVA World Rally
DESCRIPTION:
URL:https://klassikauto.pl/impreza/fiva-world-rally/
LOCATION:Wielka Brytania
END:VEVENT
BEGIN:VEVENT
DTSTART;VALUE=DATE:20180829
DTEND;VALUE=DATE:20180902
DTSTAMP:20260425T142604
CREATED:20180308T113424Z
LAST-MODIFIED:20180308T113432Z
UID:56714-1535500800-1535846399@klassikauto.pl
SUMMARY:7 Rajd Polski Historyczny
DESCRIPTION:
URL:https://klassikauto.pl/impreza/7-rajd-polski-historyczny/
END:VEVENT
BEGIN:VEVENT
DTSTART;VALUE=DATE:20180830
DTEND;VALUE=DATE:20180903
DTSTAMP:20260425T142604
CREATED:20180308T113529Z
LAST-MODIFIED:20180308T113529Z
UID:56716-1535587200-1535932799@klassikauto.pl
SUMMARY:Auburn Auction Park
DESCRIPTION:
URL:https://klassikauto.pl/impreza/auburn-auction-park/
LOCATION:Auburn\, Indiana
END:VEVENT
BEGIN:VEVENT
DTSTART;VALUE=DATE:20180831
DTEND;VALUE=DATE:20180903
DTSTAMP:20260425T142604
CREATED:20180308T113612Z
LAST-MODIFIED:20180308T113612Z
UID:56718-1535673600-1535932799@klassikauto.pl
SUMMARY:19 Zlot w Garbach
DESCRIPTION:
URL:https://klassikauto.pl/impreza/19-zlot-w-garbach/
LOCATION:Krzykosy
END:VEVENT
BEGIN:VEVENT
DTSTART;TZID=Europe/Helsinki:20180831T080000
DTEND;TZID=Europe/Helsinki:20180902T170000
DTSTAMP:20260425T142604
CREATED:20180308T113652Z
LAST-MODIFIED:20180308T113652Z
UID:56721-1535702400-1535907600@klassikauto.pl
SUMMARY:XVII Letni Rajd Citroenów
DESCRIPTION:
URL:https://klassikauto.pl/impreza/xvii-letni-rajd-citroenow/
LOCATION:Dolsk
END:VEVENT
BEGIN:VEVENT
DTSTART;TZID=Europe/Helsinki:20180831T160000
DTEND;TZID=Europe/Helsinki:20180902T150000
DTSTAMP:20260425T142604
CREATED:20180715T093202Z
LAST-MODIFIED:20180715T093202Z
UID:61163-1535731200-1535900400@klassikauto.pl
SUMMARY:Porsche Classics - Świętokrzyskie
DESCRIPTION:
URL:https://klassikauto.pl/impreza/porsche-classics-swietokrzyskie/
LOCATION:Ameliówka
END:VEVENT
BEGIN:VEVENT
DTSTART;VALUE=DATE:20180901
DTEND;VALUE=DATE:20180902
DTSTAMP:20260425T142604
CREATED:20180308T133243Z
LAST-MODIFIED:20180308T133243Z
UID:56724-1535760000-1535846399@klassikauto.pl
SUMMARY:Zlot Pojazdów Minionej Epoki
DESCRIPTION:tel.: 507 053 186\, szpz@interia.pl
URL:https://klassikauto.pl/impreza/zlot-pojazdow-minionej-epoki/
LOCATION:Czeladź\, Ruda Śląska
END:VEVENT
BEGIN:VEVENT
DTSTART;VALUE=DATE:20180901
DTEND;VALUE=DATE:20180902
DTSTAMP:20260425T142604
CREATED:20180308T133339Z
LAST-MODIFIED:20180308T133339Z
UID:56727-1535760000-1535846399@klassikauto.pl
SUMMARY:Start XII Chalkidiki Edition\, ZŁOMBOL
DESCRIPTION:www.zlombol.pl
URL:https://klassikauto.pl/impreza/start-xii-chalkidiki-edition-zlombol/
LOCATION:Katowice
END:VEVENT
BEGIN:VEVENT
DTSTART;VALUE=DATE:20180901
DTEND;VALUE=DATE:20180902
DTSTAMP:20260425T142604
CREATED:20180308T133416Z
LAST-MODIFIED:20180309T182758Z
UID:56729-1535760000-1535846399@klassikauto.pl
SUMMARY:aukcja\, The Beaulieu Sale Collectors’ Motor Cars & Motorcycles and Automobilia
DESCRIPTION:
URL:https://klassikauto.pl/impreza/aukcja-the-beaulieu-sale-collectors-motor-cars-motorcycles-and-automobilia/
LOCATION:Beaulieu\, Francja
CATEGORIES:Aukcja
END:VEVENT
BEGIN:VEVENT
DTSTART;VALUE=DATE:20180901
DTEND;VALUE=DATE:20180902
DTSTAMP:20260425T142604
CREATED:20180308T133505Z
LAST-MODIFIED:20180308T133505Z
UID:56732-1535760000-1535846399@klassikauto.pl
SUMMARY:II Ekspedycja Charytatywna – Saranda Albania
DESCRIPTION:
URL:https://klassikauto.pl/impreza/ii-ekspedycja-charytatywna-saranda-albania/
END:VEVENT
BEGIN:VEVENT
DTSTART;VALUE=DATE:20180902
DTEND;VALUE=DATE:20180903
DTSTAMP:20260425T142604
CREATED:20180308T133539Z
LAST-MODIFIED:20180308T133539Z
UID:56735-1535846400-1535932799@klassikauto.pl
SUMMARY:II Klasyczne Zakończenie Wakacji w Ciężkowicach
DESCRIPTION:
URL:https://klassikauto.pl/impreza/ii-klasyczne-zakonczenie-wakacji-w-ciezkowicach/
END:VEVENT
BEGIN:VEVENT
DTSTART;VALUE=DATE:20180902
DTEND;VALUE=DATE:20180903
DTSTAMP:20260425T142604
CREATED:20180415T091749Z
LAST-MODIFIED:20180415T091749Z
UID:59274-1535846400-1535932799@klassikauto.pl
SUMMARY:Classic Auto Cup - Puchar dla Samochodów Klasycznych - Sezon 2018
DESCRIPTION:Tor FCA Tychy
URL:https://klassikauto.pl/impreza/classic-auto-cup-puchar-dla-samochodow-klasycznych-sezon-2018-3/
LOCATION:Tychy
END:VEVENT
BEGIN:VEVENT
DTSTART;VALUE=DATE:20180902
DTEND;VALUE=DATE:20180910
DTSTAMP:20260425T142604
CREATED:20180308T133625Z
LAST-MODIFIED:20180308T133632Z
UID:56737-1535846400-1536537599@klassikauto.pl
SUMMARY:Rallye Des Cols
DESCRIPTION:
URL:https://klassikauto.pl/impreza/rallye-des-cols/
END:VEVENT
BEGIN:VEVENT
DTSTART;TZID=Europe/Helsinki:20180902T120000
DTEND;TZID=Europe/Helsinki:20180902T200000
DTSTAMP:20260425T142604
CREATED:20180424T194119Z
LAST-MODIFIED:20180424T194119Z
UID:59584-1535889600-1535918400@klassikauto.pl
SUMMARY:Zlot Pojazdów Zabytkowych - Mielec 2018
DESCRIPTION:
URL:https://klassikauto.pl/impreza/zlot-pojazdow-zabytkowych-mielec-2018/
LOCATION:Mielec
END:VEVENT
BEGIN:VEVENT
DTSTART;VALUE=DATE:20180907
DTEND;VALUE=DATE:20180908
DTSTAMP:20260425T142604
CREATED:20180308T133722Z
LAST-MODIFIED:20180308T133722Z
UID:56739-1536278400-1536364799@klassikauto.pl
SUMMARY:Zlot Stara Legenda Motoryzacji
DESCRIPTION:
URL:https://klassikauto.pl/impreza/zlot-stara-legenda-motoryzacji/
LOCATION:Starachowice
END:VEVENT
BEGIN:VEVENT
DTSTART;VALUE=DATE:20180907
DTEND;VALUE=DATE:20180910
DTSTAMP:20260425T142604
CREATED:20180308T133810Z
LAST-MODIFIED:20180308T133810Z
UID:56742-1536278400-1536537599@klassikauto.pl
SUMMARY:Goodwood Revival Meeting
DESCRIPTION:
URL:https://klassikauto.pl/impreza/goodwood-revival-meeting/
END:VEVENT
BEGIN:VEVENT
DTSTART;VALUE=DATE:20180908
DTEND;VALUE=DATE:20180909
DTSTAMP:20260425T142604
CREATED:20180308T133850Z
LAST-MODIFIED:20180309T182758Z
UID:56744-1536364800-1536451199@klassikauto.pl
SUMMARY:Aukcja\, Goodwood Revival\, Chicheser
DESCRIPTION:
URL:https://klassikauto.pl/impreza/aukcja-goodwood-revival-chicheser/
LOCATION:Wielka Brytania
CATEGORIES:Aukcja
END:VEVENT
BEGIN:VEVENT
DTSTART;VALUE=DATE:20180908
DTEND;VALUE=DATE:20180910
DTSTAMP:20260425T142604
CREATED:20180308T133935Z
LAST-MODIFIED:20180308T133935Z
UID:56746-1536364800-1536537599@klassikauto.pl
SUMMARY:Old Car Festival at Henry Ford Museum of American Innovation
DESCRIPTION:
URL:https://klassikauto.pl/impreza/old-car-festival-at-henry-ford-museum-of-american-innovation/
LOCATION:Greenfield Village\, USA
END:VEVENT
BEGIN:VEVENT
DTSTART;VALUE=DATE:20180908
DTEND;VALUE=DATE:20180910
DTSTAMP:20260425T142604
CREATED:20180308T134030Z
LAST-MODIFIED:20180308T134030Z
UID:56749-1536364800-1536537599@klassikauto.pl
SUMMARY:Technorama
DESCRIPTION:www.technorama.de
URL:https://klassikauto.pl/impreza/technorama-2/
LOCATION:Hildesheim
END:VEVENT
BEGIN:VEVENT
DTSTART;VALUE=DATE:20180908
DTEND;VALUE=DATE:20181001
DTSTAMP:20260425T142604
CREATED:20180308T134128Z
LAST-MODIFIED:20180308T134128Z
UID:56752-1536364800-1538351999@klassikauto.pl
SUMMARY:Wystawa – Land Rover 7oty Anniversary
DESCRIPTION:
URL:https://klassikauto.pl/impreza/wystawa-land-rover-7oty-anniversary/
LOCATION:Muzeum Autoworld\, Bruksela\, Belgia
END:VEVENT
BEGIN:VEVENT
DTSTART;TZID=Europe/Helsinki:20180908T080000
DTEND;TZID=Europe/Helsinki:20180909T170000
DTSTAMP:20260425T142604
CREATED:20180415T095405Z
LAST-MODIFIED:20180415T095405Z
UID:59290-1536393600-1536512400@klassikauto.pl
SUMMARY:Moto Weteran Bazar\, Stadion SKS „START”
DESCRIPTION:
URL:https://klassikauto.pl/impreza/moto-weteran-bazar-stadion-sks-start-3/
LOCATION:Łódź
END:VEVENT
BEGIN:VEVENT
DTSTART;TZID=Europe/Helsinki:20180908T200000
DTEND;TZID=Europe/Helsinki:20180908T230000
DTSTAMP:20260425T142604
CREATED:20180715T091125Z
LAST-MODIFIED:20180715T091125Z
UID:61141-1536436800-1536447600@klassikauto.pl
SUMMARY:Praskie Klimaty Nocą - turystyczny rajd pojazdów zabytkowych
DESCRIPTION:
URL:https://klassikauto.pl/impreza/praskie-klimaty-noca-turystyczny-rajd-pojazdow-zabytkowych/
LOCATION:Warszawa
END:VEVENT
BEGIN:VEVENT
DTSTART;TZID=Europe/Helsinki:20180909T090000
DTEND;TZID=Europe/Helsinki:20180909T170000
DTSTAMP:20260425T142604
CREATED:20180702T171044Z
LAST-MODIFIED:20180702T171044Z
UID:60880-1536483600-1536512400@klassikauto.pl
SUMMARY:VIII Miński Zlot Pojazdów Zabytkowych Warkot 2018
DESCRIPTION:
URL:https://klassikauto.pl/impreza/viii-minski-zlot-pojazdow-zabytkowych-warkot-2018/
LOCATION:Mińsk Mazowiecki
END:VEVENT
BEGIN:VEVENT
DTSTART;TZID=Europe/Helsinki:20180909T140000
DTEND;TZID=Europe/Helsinki:20180909T220000
DTSTAMP:20260425T142604
CREATED:20180715T083656Z
LAST-MODIFIED:20180715T083656Z
UID:61114-1536501600-1536530400@klassikauto.pl
SUMMARY:III Tyska wystawa klasyków 2018
DESCRIPTION:
URL:https://klassikauto.pl/impreza/iii-tyska-wystawa-klasykow-2018/
LOCATION:Tychy
END:VEVENT
BEGIN:VEVENT
DTSTART;TZID=Europe/Helsinki:20180913T160000
DTEND;TZID=Europe/Helsinki:20180916T110000
DTSTAMP:20260425T142604
CREATED:20180715T090926Z
LAST-MODIFIED:20180715T090926Z
UID:61138-1536854400-1537095600@klassikauto.pl
SUMMARY:39. Warszawski Rajd Pojazdów Zabytkowych
DESCRIPTION:
URL:https://klassikauto.pl/impreza/39-warszawski-rajd-pojazdow-zabytkowych/
LOCATION:Warszawa
END:VEVENT
BEGIN:VEVENT
DTSTART;VALUE=DATE:20180914
DTEND;VALUE=DATE:20180917
DTSTAMP:20260425T142604
CREATED:20180725T180935Z
LAST-MODIFIED:20180725T181213Z
UID:61473-1536883200-1537142399@klassikauto.pl
SUMMARY:VIII Pluskowskie Przejazdy Zabytkami
DESCRIPTION:„Śladami Przedwojennej Motoryzacji na Śląsku Cieszyńskim i Zaolziu” \nImpreza organizowana w ramach obchodów Roku Jubileuszowego 100 lat Polskiej Niepodległości \n  \nkontakt z Organizatorem: \nPiotr Julian Pluskowski \ntel. +420 530 411 741 \n 
URL:https://klassikauto.pl/impreza/viii-pluskowskie-przejazdy-zabytkami/
LOCATION:Cieszyn
END:VEVENT
BEGIN:VEVENT
DTSTART;VALUE=DATE:20180915
DTEND;VALUE=DATE:20180916
DTSTAMP:20260425T142604
CREATED:20180308T134214Z
LAST-MODIFIED:20180308T134214Z
UID:56754-1536969600-1537055999@klassikauto.pl
SUMMARY:VAG Royal 3
DESCRIPTION:
URL:https://klassikauto.pl/impreza/vag-royal-3/
LOCATION:Golub-Dobrzyń
END:VEVENT
BEGIN:VEVENT
DTSTART;VALUE=DATE:20180915
DTEND;VALUE=DATE:20180917
DTSTAMP:20260425T142604
CREATED:20180308T134308Z
LAST-MODIFIED:20180308T134308Z
UID:56757-1536969600-1537142399@klassikauto.pl
SUMMARY:Footman James Classic Car Show\, Manchester
DESCRIPTION:
URL:https://klassikauto.pl/impreza/footman-james-classic-car-show-manchester/
LOCATION:Wielka Brytania
END:VEVENT
BEGIN:VEVENT
DTSTART;VALUE=DATE:20180920
DTEND;VALUE=DATE:20181001
DTSTAMP:20260425T142604
CREATED:20180308T134352Z
LAST-MODIFIED:20180308T134352Z
UID:56759-1537401600-1538351999@klassikauto.pl
SUMMARY:20. Internationale Frankreich – Rallye 2018 “Randonnée de France”
DESCRIPTION:
URL:https://klassikauto.pl/impreza/20-internationale-frankreich-rallye-2018-randonnee-de-france/
END:VEVENT
END:VCALENDAR
<!-- RunCloud Hub 2026-04-25 13:26:04 -->