BEGIN:VCALENDAR
VERSION:2.0
PRODID:-//KlassikAuto.pl - ECPv6.7.0//NONSGML v1.0//EN
CALSCALE:GREGORIAN
METHOD:PUBLISH
X-ORIGINAL-URL:https://klassikauto.pl
X-WR-CALDESC:Wydarzenia dla KlassikAuto.pl
REFRESH-INTERVAL;VALUE=DURATION:PT1H
X-Robots-Tag:noindex
X-PUBLISHED-TTL:PT1H
BEGIN:VTIMEZONE
TZID:Europe/Helsinki
BEGIN:DAYLIGHT
TZOFFSETFROM:+0200
TZOFFSETTO:+0300
TZNAME:EEST
DTSTART:20180325T010000
END:DAYLIGHT
BEGIN:STANDARD
TZOFFSETFROM:+0300
TZOFFSETTO:+0200
TZNAME:EET
DTSTART:20181028T010000
END:STANDARD
END:VTIMEZONE
BEGIN:VEVENT
DTSTART;TZID=Europe/Helsinki:20180707T080000
DTEND;TZID=Europe/Helsinki:20180902T170000
DTSTAMP:20260425T155611
CREATED:20180308T104344Z
LAST-MODIFIED:20180308T110940Z
UID:56602-1530950400-1535907600@klassikauto.pl
SUMMARY:Wystawa – Renault 120th Anniversary\, Muzeum Autoworld
DESCRIPTION:
URL:https://klassikauto.pl/impreza/wystawa-renault-120th-anniversary-muzeum-autoworld/
LOCATION:Muzeum Autoworld\, Bruksela\, Belgia
END:VEVENT
BEGIN:VEVENT
DTSTART;VALUE=DATE:20180729
DTEND;VALUE=DATE:20180806
DTSTAMP:20260425T155611
CREATED:20180308T110212Z
LAST-MODIFIED:20180308T110212Z
UID:56656-1532822400-1533513599@klassikauto.pl
SUMMARY:V Ekspedycja pojazdów zabytkowych i klasycznych\, Drynda Globetrotter\, czyli z Bieszczad do Świnoujścia
DESCRIPTION:
URL:https://klassikauto.pl/impreza/v-ekspedycja-pojazdow-zabytkowych-i-klasycznych-drynda-globetrotter-czyli-z-bieszczad-do-swinoujscia/
END:VEVENT
BEGIN:VEVENT
DTSTART;VALUE=DATE:20180802
DTEND;VALUE=DATE:20180806
DTSTAMP:20260425T155611
CREATED:20180308T111713Z
LAST-MODIFIED:20180308T111713Z
UID:56662-1533168000-1533513599@klassikauto.pl
SUMMARY:18. Karlovarská Veterán Rallye
DESCRIPTION:http://www.veteranweb.cz
URL:https://klassikauto.pl/impreza/18-karlovarska-veteran-rallye/
LOCATION:Karlove Vary\, Czechy
END:VEVENT
BEGIN:VEVENT
DTSTART;VALUE=DATE:20180803
DTEND;VALUE=DATE:20180806
DTSTAMP:20260425T155611
CREATED:20180308T111825Z
LAST-MODIFIED:20180308T111825Z
UID:56665-1533254400-1533513599@klassikauto.pl
SUMMARY:VIII Urodziny w klimacie PRL-u
DESCRIPTION:
URL:https://klassikauto.pl/impreza/viii-urodziny-w-klimacie-prl-u/
LOCATION:Siedlce
END:VEVENT
BEGIN:VEVENT
DTSTART;VALUE=DATE:20180803
DTEND;VALUE=DATE:20180806
DTSTAMP:20260425T155611
CREATED:20180402T072229Z
LAST-MODIFIED:20180402T072708Z
UID:58988-1533254400-1533513599@klassikauto.pl
SUMMARY:VI Wałbrzyski Międzynarodowy Rajd Pojazdów Zabytkowych pt. "Śladami Tajemnic"
DESCRIPTION:
URL:https://klassikauto.pl/impreza/vi-walbrzyski-miedzynarodowy-rajd-pojazdow-zabytkowych-pt-sladami-tajemnic/
LOCATION:Wałbrzych
END:VEVENT
BEGIN:VEVENT
DTSTART;TZID=Europe/Helsinki:20180803T080000
DTEND;TZID=Europe/Helsinki:20180804T170000
DTSTAMP:20260425T155611
CREATED:20180702T183227Z
LAST-MODIFIED:20180702T183227Z
UID:60895-1533283200-1533402000@klassikauto.pl
SUMMARY:Schauinsland Klassik
DESCRIPTION:
URL:https://klassikauto.pl/impreza/schauinsland-klassik/
LOCATION:Freiburg\, Niemcy
END:VEVENT
BEGIN:VEVENT
DTSTART;TZID=Europe/Helsinki:20180803T080000
DTEND;TZID=Europe/Helsinki:20180806T170000
DTSTAMP:20260425T155611
CREATED:20180308T111917Z
LAST-MODIFIED:20180308T111917Z
UID:56667-1533283200-1533574800@klassikauto.pl
SUMMARY:Classic Days Schloss Dyck
DESCRIPTION:
URL:https://klassikauto.pl/impreza/classic-days-schloss-dyck/
END:VEVENT
BEGIN:VEVENT
DTSTART;TZID=Europe/Helsinki:20180803T150000
DTEND;TZID=Europe/Helsinki:20180805T180000
DTSTAMP:20260425T155611
CREATED:20180715T085421Z
LAST-MODIFIED:20180715T085421Z
UID:61127-1533308400-1533492000@klassikauto.pl
SUMMARY:VII Zlot Samochodów Amerykańskich i Zabytkowych
DESCRIPTION:
URL:https://klassikauto.pl/impreza/vii-zlot-samochodow-amerykanskich-i-zabytkowych/
LOCATION:Grudziądz
END:VEVENT
BEGIN:VEVENT
DTSTART;TZID=Europe/Helsinki:20180803T160000
DTEND;TZID=Europe/Helsinki:20180805T180000
DTSTAMP:20260425T155611
CREATED:20180308T111553Z
LAST-MODIFIED:20180720T182846Z
UID:56659-1533312000-1533492000@klassikauto.pl
SUMMARY:III Międzynarodowy Zlot CABRIO POLAND 2018
DESCRIPTION:
URL:https://klassikauto.pl/impreza/iii-miedzynarodowy-zlot-cabrio/
LOCATION:Poznań
END:VEVENT
BEGIN:VEVENT
DTSTART;VALUE=DATE:20180804
DTEND;VALUE=DATE:20180806
DTSTAMP:20260425T155611
CREATED:20180308T112017Z
LAST-MODIFIED:20180308T112017Z
UID:56669-1533340800-1533513599@klassikauto.pl
SUMMARY:Copenhagen Historic Grand Prix
DESCRIPTION:
URL:https://klassikauto.pl/impreza/copenhagen-historic-grand-prix/
LOCATION:Kopenhaga\, Dania
END:VEVENT
BEGIN:VEVENT
DTSTART;VALUE=DATE:20180804
DTEND;VALUE=DATE:20180806
DTSTAMP:20260425T155611
CREATED:20180424T193553Z
LAST-MODIFIED:20180424T201150Z
UID:59575-1533340800-1533513599@klassikauto.pl
SUMMARY:IX Zlot Wehikuł Czasu oraz II Zlot Powrót do Przeszłości
DESCRIPTION:
URL:https://klassikauto.pl/impreza/ix-zlot-wehikul-czasu-oraz-ii-zlot-powrot-do-przeslosci/
LOCATION:Dębica
END:VEVENT
BEGIN:VEVENT
DTSTART;VALUE=DATE:20180804
DTEND;VALUE=DATE:20180806
DTSTAMP:20260425T155611
CREATED:20180702T170441Z
LAST-MODIFIED:20180702T170441Z
UID:60877-1533340800-1533513599@klassikauto.pl
SUMMARY:Zlot Zabytkowych Pojazdów
DESCRIPTION:
URL:https://klassikauto.pl/impreza/zlot-zabytkowych-pojazdow/
LOCATION:Miasteczko Galicyjskie w Nowym Sączu
END:VEVENT
BEGIN:VEVENT
DTSTART;VALUE=DATE:20180805
DTEND;VALUE=DATE:20180806
DTSTAMP:20260425T155611
CREATED:20180308T112110Z
LAST-MODIFIED:20180308T112110Z
UID:56672-1533427200-1533513599@klassikauto.pl
SUMMARY:VI Zlot Pojazdów Zabytkowych i Klasycznych Drynda
DESCRIPTION:
URL:https://klassikauto.pl/impreza/vi-zlot-pojazdow-zabytkowych-i-klasycznych-drynda/
LOCATION:Dwór Boratyn
END:VEVENT
BEGIN:VEVENT
DTSTART;VALUE=DATE:20180806
DTEND;VALUE=DATE:20180813
DTSTAMP:20260425T155611
CREATED:20180509T183529Z
LAST-MODIFIED:20180509T183529Z
UID:60019-1533513600-1534118399@klassikauto.pl
SUMMARY:XIII Ogólnopolski Zlot Alfaholicy 2018
DESCRIPTION:
URL:https://klassikauto.pl/impreza/xiii-ogolnopolski-zlot-alfaholicy-2018/
LOCATION:Księże Młyny
END:VEVENT
BEGIN:VEVENT
DTSTART;VALUE=DATE:20180810
DTEND;VALUE=DATE:20180813
DTSTAMP:20260425T155611
CREATED:20180509T183727Z
LAST-MODIFIED:20180509T183727Z
UID:60023-1533859200-1534118399@klassikauto.pl
SUMMARY:III Zlot Kocham Garbusy\, Łeba 2018
DESCRIPTION:
URL:https://klassikauto.pl/impreza/iii-zlot-kocham-garbusy-leba-2018/
LOCATION:Łeba
END:VEVENT
BEGIN:VEVENT
DTSTART;VALUE=DATE:20180810
DTEND;VALUE=DATE:20180813
DTSTAMP:20260425T155611
CREATED:20180509T183851Z
LAST-MODIFIED:20180509T184359Z
UID:60026-1533859200-1534118399@klassikauto.pl
SUMMARY:V American Dream Car Show - Łeba 2018 -Zlot Samochodów Amerykańskich
DESCRIPTION:
URL:https://klassikauto.pl/impreza/v-american-dream-car-show-leba-2018-zlot-samochodow-amerykans/
LOCATION:Łeba
END:VEVENT
BEGIN:VEVENT
DTSTART;VALUE=DATE:20180810
DTEND;VALUE=DATE:20180813
DTSTAMP:20260425T155611
CREATED:20180702T183535Z
LAST-MODIFIED:20180702T183535Z
UID:60899-1533859200-1534118399@klassikauto.pl
SUMMARY:46. AvD-Oldtimer-Grand-Prix
DESCRIPTION:
URL:https://klassikauto.pl/impreza/46-avd-oldtimer-grand-prix/
LOCATION:Nuerburgring\, Niemcy
END:VEVENT
BEGIN:VEVENT
DTSTART;TZID=Europe/Helsinki:20180810T080000
DTEND;TZID=Europe/Helsinki:20180812T170000
DTSTAMP:20260425T155611
CREATED:20180702T174310Z
LAST-MODIFIED:20180702T174310Z
UID:60889-1533888000-1534093200@klassikauto.pl
SUMMARY:XX Bieszczadzki Rajd Pojazdów Zabytkowych Zagórz 2018
DESCRIPTION:
URL:https://klassikauto.pl/impreza/xx-bieszczadzki-rajd-pojazdow-zabytkowych-zagorz-2018/
LOCATION:Zagórz
END:VEVENT
BEGIN:VEVENT
DTSTART;VALUE=DATE:20180811
DTEND;VALUE=DATE:20180812
DTSTAMP:20260425T155611
CREATED:20180308T112154Z
LAST-MODIFIED:20180308T112154Z
UID:56675-1533945600-1534031999@klassikauto.pl
SUMMARY:Oldtimerrallye 2018
DESCRIPTION:
URL:https://klassikauto.pl/impreza/oldtimerrallye-2018/
LOCATION:Altena\, Niemcy
END:VEVENT
BEGIN:VEVENT
DTSTART;VALUE=DATE:20180811
DTEND;VALUE=DATE:20180812
DTSTAMP:20260425T155611
CREATED:20180509T172525Z
LAST-MODIFIED:20180509T172525Z
UID:59977-1533945600-1534031999@klassikauto.pl
SUMMARY:Oldtimer Parade Kravaře
DESCRIPTION:Zámecký park v Kravařích ve Slezsku
URL:https://klassikauto.pl/impreza/oldtimer-parade-kravare/
LOCATION:Kravare\, Czechy
END:VEVENT
BEGIN:VEVENT
DTSTART;TZID=Europe/Helsinki:20180811T110000
DTEND;TZID=Europe/Helsinki:20180811T210000
DTSTAMP:20260425T155611
CREATED:20180715T084309Z
LAST-MODIFIED:20180715T084336Z
UID:61120-1533985200-1534021200@klassikauto.pl
SUMMARY:Old school VS New school - DMK
DESCRIPTION:
URL:https://klassikauto.pl/impreza/old-school-vs-new-school-dmk/
LOCATION:Koziegłowy
END:VEVENT
BEGIN:VEVENT
DTSTART;VALUE=DATE:20180812
DTEND;VALUE=DATE:20180813
DTSTAMP:20260425T155611
CREATED:20180308T112231Z
LAST-MODIFIED:20180308T112231Z
UID:56678-1534032000-1534118399@klassikauto.pl
SUMMARY:IV Zlot Pojazdów Zabytkowych w Proszowicach
DESCRIPTION:
URL:https://klassikauto.pl/impreza/iv-zlot-pojazdow-zabytkowych-w-proszowicach/
END:VEVENT
BEGIN:VEVENT
DTSTART;TZID=Europe/Helsinki:20180812T100000
DTEND;TZID=Europe/Helsinki:20180812T130000
DTSTAMP:20260425T155611
CREATED:20180715T085828Z
LAST-MODIFIED:20180715T085828Z
UID:61130-1534068000-1534078800@klassikauto.pl
SUMMARY:I spotkanie pojazdów polskiej produkcji z okazji odzyskania niepodległości
DESCRIPTION:Organizator: Pomorskie Okręgowe Muzeum PRL
URL:https://klassikauto.pl/impreza/i-spotkanie-pojazdow-polskiej-produkcji-z-okazji-odzyskania-niepodleglosci/
LOCATION:Sępólno Krajeńskie
END:VEVENT
BEGIN:VEVENT
DTSTART;VALUE=DATE:20180816
DTEND;VALUE=DATE:20180820
DTSTAMP:20260425T155611
CREATED:20180308T112315Z
LAST-MODIFIED:20180308T112315Z
UID:56680-1534377600-1534723199@klassikauto.pl
SUMMARY:XV Międzynarodowy Zlot Pojazdów Militarnych
DESCRIPTION:
URL:https://klassikauto.pl/impreza/xv-miedzynarodowy-zlot-pojazdow-militarnych/
LOCATION:Borne Sulinowo
END:VEVENT
BEGIN:VEVENT
DTSTART;TZID=Europe/Helsinki:20180816T080000
DTEND;TZID=Europe/Helsinki:20180817T130000
DTSTAMP:20260425T155611
CREATED:20180715T090650Z
LAST-MODIFIED:20180715T090650Z
UID:61136-1534406400-1534510800@klassikauto.pl
SUMMARY:Rajd Klasyczny Warszawa-Topacz 2018
DESCRIPTION:
URL:https://klassikauto.pl/impreza/rajd-klasyczny-warszawa-topacz-2018/
LOCATION:Warszawa
END:VEVENT
BEGIN:VEVENT
DTSTART;VALUE=DATE:20180817
DTEND;VALUE=DATE:20180820
DTSTAMP:20260425T155611
CREATED:20180308T112352Z
LAST-MODIFIED:20180308T112352Z
UID:56683-1534464000-1534723199@klassikauto.pl
SUMMARY:Zlot VW Garbusa\, Radzyń
DESCRIPTION:
URL:https://klassikauto.pl/impreza/zlot-vw-garbusa-radzyn/
END:VEVENT
BEGIN:VEVENT
DTSTART;VALUE=DATE:20180817
DTEND;VALUE=DATE:20180820
DTSTAMP:20260425T155611
CREATED:20180424T193841Z
LAST-MODIFIED:20180424T193841Z
UID:59580-1534464000-1534723199@klassikauto.pl
SUMMARY:Nemzetközi Polski Fiat 125p Találkozó\, Międzynarodowy Zlot FSO
DESCRIPTION:
URL:https://klassikauto.pl/impreza/nemzetkozi-polski-fiat-125p-talalkozo-miedzynarodowy-zlot-fso/
LOCATION:Magyarország
END:VEVENT
BEGIN:VEVENT
DTSTART;VALUE=DATE:20180818
DTEND;VALUE=DATE:20180820
DTSTAMP:20260425T155611
CREATED:20180308T112435Z
LAST-MODIFIED:20180308T112435Z
UID:56685-1534550400-1534723199@klassikauto.pl
SUMMARY:Moto Classic Wrocław
DESCRIPTION:
URL:https://klassikauto.pl/impreza/moto-classic-wroclaw/
END:VEVENT
BEGIN:VEVENT
DTSTART;VALUE=DATE:20180818
DTEND;VALUE=DATE:20180820
DTSTAMP:20260425T155611
CREATED:20180308T112517Z
LAST-MODIFIED:20180308T112517Z
UID:56687-1534550400-1534723199@klassikauto.pl
SUMMARY:7 Dortmund Classic Days
DESCRIPTION:
URL:https://klassikauto.pl/impreza/7-dortmund-classic-days/
LOCATION:Dortmund\, Niemcy
END:VEVENT
BEGIN:VEVENT
DTSTART;TZID=Europe/Helsinki:20180818T100000
DTEND;TZID=Europe/Helsinki:20180818T150000
DTSTAMP:20260425T155611
CREATED:20180715T092031Z
LAST-MODIFIED:20180715T092031Z
UID:61152-1534586400-1534604400@klassikauto.pl
SUMMARY:Rajd Neptuna - w dobrym starym stylu
DESCRIPTION:
URL:https://klassikauto.pl/impreza/rajd-neptuna-w-dobrym-starym-stylu/
LOCATION:Gdynia
END:VEVENT
END:VCALENDAR
<!-- RunCloud Hub 2026-04-25 14:56:11 -->