BEGIN:VCALENDAR
VERSION:2.0
PRODID:-//KlassikAuto.pl - ECPv6.7.0//NONSGML v1.0//EN
CALSCALE:GREGORIAN
METHOD:PUBLISH
X-ORIGINAL-URL:https://klassikauto.pl
X-WR-CALDESC:Wydarzenia dla KlassikAuto.pl
REFRESH-INTERVAL;VALUE=DURATION:PT1H
X-Robots-Tag:noindex
X-PUBLISHED-TTL:PT1H
BEGIN:VTIMEZONE
TZID:Europe/Helsinki
BEGIN:DAYLIGHT
TZOFFSETFROM:+0200
TZOFFSETTO:+0300
TZNAME:EEST
DTSTART:20180325T010000
END:DAYLIGHT
BEGIN:STANDARD
TZOFFSETFROM:+0300
TZOFFSETTO:+0200
TZNAME:EET
DTSTART:20181028T010000
END:STANDARD
END:VTIMEZONE
BEGIN:VEVENT
DTSTART;VALUE=DATE:20180101
DTEND;VALUE=DATE:20180701
DTSTAMP:20260425T220728
CREATED:20180415T112652Z
LAST-MODIFIED:20180415T112652Z
UID:59320-1514764800-1530403199@klassikauto.pl
SUMMARY:Samochodem na wycieczkę i inne rozrywki lat 60-tych - wystawa
DESCRIPTION:Słoweńskie Muzeum Techniki\,  Bratysława
URL:https://klassikauto.pl/impreza/samochodem-na-wycieczke-i-inne-rozrywki-lat-60-tych-wystawa/
LOCATION:Bratysława\, Słowacja
END:VEVENT
BEGIN:VEVENT
DTSTART;TZID=Europe/Helsinki:20180331T080000
DTEND;TZID=Europe/Helsinki:20180429T170000
DTSTAMP:20260425T220728
CREATED:20180308T070900Z
LAST-MODIFIED:20180308T070900Z
UID:56191-1522483200-1525021200@klassikauto.pl
SUMMARY:Wystawa – Citroën 2 Chevaux – 2PK 70th Anniversary
DESCRIPTION:
URL:https://klassikauto.pl/impreza/wystawa-citroen-2-chevaux-2pk-70th-anniversary/
LOCATION:Museum Autoworld\, Bruksela\, Belgium
END:VEVENT
BEGIN:VEVENT
DTSTART;VALUE=DATE:20180407
DTEND;VALUE=DATE:20180511
DTSTAMP:20260425T220728
CREATED:20180408T095705Z
LAST-MODIFIED:20180408T100411Z
UID:59215-1523059200-1525996799@klassikauto.pl
SUMMARY:100 lat motoryzacji w Polsce
DESCRIPTION:Wystawa na terenie: Muzeum Hutnictwa Cynku Walcownia w Katowicach
URL:https://klassikauto.pl/impreza/100-lat-motoryzacji-w-polsce/
LOCATION:Katowice
CATEGORIES:Wystawa
END:VEVENT
BEGIN:VEVENT
DTSTART;TZID=Europe/Helsinki:20180411T080000
DTEND;TZID=Europe/Helsinki:20180414T170000
DTSTAMP:20260425T220728
CREATED:20180308T073606Z
LAST-MODIFIED:20180308T073606Z
UID:56215-1523433600-1523725200@klassikauto.pl
SUMMARY:65. Rajd Sanremo
DESCRIPTION:
URL:https://klassikauto.pl/impreza/65-rajd-sanremo/
END:VEVENT
BEGIN:VEVENT
DTSTART;TZID=Europe/Helsinki:20180413T080000
DTEND;TZID=Europe/Helsinki:20180415T170000
DTSTAMP:20260425T220728
CREATED:20180308T073707Z
LAST-MODIFIED:20180308T073707Z
UID:56217-1523606400-1523811600@klassikauto.pl
SUMMARY:ClassicMania Trip edycja 4
DESCRIPTION:Oldtimer Show\, tel. 512 69 60 69
URL:https://klassikauto.pl/impreza/classicmania-trip-edycja-4/
LOCATION:Budapeszt
END:VEVENT
BEGIN:VEVENT
DTSTART;TZID=Europe/Helsinki:20180413T080000
DTEND;TZID=Europe/Helsinki:20180415T170000
DTSTAMP:20260425T220728
CREATED:20180308T073749Z
LAST-MODIFIED:20180308T073749Z
UID:56220-1523606400-1523811600@klassikauto.pl
SUMMARY:Oldtimer Show 2018
DESCRIPTION:
URL:https://klassikauto.pl/impreza/oldtimer-show-2018/
LOCATION:Budapeszt
END:VEVENT
BEGIN:VEVENT
DTSTART;TZID=Europe/Helsinki:20180413T080000
DTEND;TZID=Europe/Helsinki:20180415T170000
DTSTAMP:20260425T220728
CREATED:20180308T073857Z
LAST-MODIFIED:20180308T073857Z
UID:56222-1523606400-1523811600@klassikauto.pl
SUMMARY:Youngtimer Trophy 2018\, Preis der Stadt Stuttgart Hockenheim
DESCRIPTION:
URL:https://klassikauto.pl/impreza/youngtimer-trophy-2018-preis-der-stadt-stuttgart-hockenheim/
LOCATION:Niemcy
END:VEVENT
BEGIN:VEVENT
DTSTART;VALUE=DATE:20180414
DTEND;VALUE=DATE:20180415
DTSTAMP:20260425T220728
CREATED:20180308T073937Z
LAST-MODIFIED:20180308T073937Z
UID:56224-1523664000-1523750399@klassikauto.pl
SUMMARY:Auto Nostalgia Warsaw Classic Gala – Targi Pojazdów Zabytkowych
DESCRIPTION:
URL:https://klassikauto.pl/impreza/auto-nostalgia-warsaw-classic-gala-targi-pojazdow-zabytkowych/
LOCATION:Warszawa
END:VEVENT
BEGIN:VEVENT
DTSTART;VALUE=DATE:20180414
DTEND;VALUE=DATE:20180415
DTSTAMP:20260425T220728
CREATED:20180308T074027Z
LAST-MODIFIED:20180308T074027Z
UID:56226-1523664000-1523750399@klassikauto.pl
SUMMARY:VI Rajd Autosana
DESCRIPTION:
URL:https://klassikauto.pl/impreza/vi-rajd-autosana/
LOCATION:Pomorze
END:VEVENT
BEGIN:VEVENT
DTSTART;VALUE=DATE:20180414
DTEND;VALUE=DATE:20180415
DTSTAMP:20260425T220728
CREATED:20180308T074123Z
LAST-MODIFIED:20180308T074123Z
UID:56229-1523664000-1523750399@klassikauto.pl
SUMMARY:Klasyczne rozpoczęcie sezonu
DESCRIPTION:
URL:https://klassikauto.pl/impreza/klasyczne-rozpoczecie-sezonu/
LOCATION:Brzesko
END:VEVENT
BEGIN:VEVENT
DTSTART;TZID=Europe/Helsinki:20180414T100000
DTEND;TZID=Europe/Helsinki:20180414T130000
DTSTAMP:20260425T220728
CREATED:20180408T104942Z
LAST-MODIFIED:20180408T104942Z
UID:59230-1523700000-1523710800@klassikauto.pl
SUMMARY:Rajd Targowy 3: Inkowie za fajerą!
DESCRIPTION:
URL:https://klassikauto.pl/impreza/rajd-targowy-3-inkowie-za-fajera/
LOCATION:Zabrze
END:VEVENT
BEGIN:VEVENT
DTSTART;VALUE=DATE:20180415
DTEND;VALUE=DATE:20180416
DTSTAMP:20260425T220728
CREATED:20180308T074349Z
LAST-MODIFIED:20180308T074349Z
UID:56235-1523750400-1523836799@klassikauto.pl
SUMMARY:Zlot pojazdów zabytkowych – otwarcie sezonu klasyków
DESCRIPTION:
URL:https://klassikauto.pl/impreza/zlot-pojazdow-zabytkowych-otwarcie-sezonu-klasykow/
LOCATION:Gdańsk
END:VEVENT
BEGIN:VEVENT
DTSTART;VALUE=DATE:20180415
DTEND;VALUE=DATE:20180416
DTSTAMP:20260425T220728
CREATED:20180308T074503Z
LAST-MODIFIED:20180308T074503Z
UID:56238-1523750400-1523836799@klassikauto.pl
SUMMARY:III Rembertowski Rajd Pojazdów Zabytkowych
DESCRIPTION:www.automobilklubpolski.pl
URL:https://klassikauto.pl/impreza/iii-rembertowski-rajd-pojazdow-zabytkowych/
LOCATION:Warszawa
END:VEVENT
BEGIN:VEVENT
DTSTART;VALUE=DATE:20180415
DTEND;VALUE=DATE:20180416
DTSTAMP:20260425T220728
CREATED:20180415T091028Z
LAST-MODIFIED:20180415T091050Z
UID:59265-1523750400-1523836799@klassikauto.pl
SUMMARY:Classic Auto Cup - Puchar dla Samochodów Klasycznych - Sezon 2018
DESCRIPTION:Tor Modlin
URL:https://klassikauto.pl/impreza/classic-auto-cup-puchar-dla-samochodow-klasycznych-sezon-2017/
LOCATION:Warszawa
END:VEVENT
BEGIN:VEVENT
DTSTART;TZID=Europe/Helsinki:20180415T100000
DTEND;TZID=Europe/Helsinki:20180415T160000
DTSTAMP:20260425T220728
CREATED:20180308T074222Z
LAST-MODIFIED:20180402T155416Z
UID:56232-1523786400-1523808000@klassikauto.pl
SUMMARY:IV Bunkrowe Spotkanie Miłośników Pojazdów Zabytkowych
DESCRIPTION:tel.: 794 226 343
URL:https://klassikauto.pl/impreza/iv-bunkrowe-spotkanie-milosnikow-pojazdow-zabytkowych/
LOCATION:Wałcz
END:VEVENT
BEGIN:VEVENT
DTSTART;TZID=Europe/Helsinki:20180419T080000
DTEND;TZID=Europe/Helsinki:20180422T170000
DTSTAMP:20260425T220728
CREATED:20180308T074609Z
LAST-MODIFIED:20180308T074609Z
UID:56240-1524124800-1524416400@klassikauto.pl
SUMMARY:VI Zdrowotel Rajd – otwarcie sezonu pojazdów zabytkowych
DESCRIPTION:
URL:https://klassikauto.pl/impreza/vi-zdrowotel-rajd-otwarcie-sezonu-pojazdow-zabytkowych/
LOCATION:Łeba
END:VEVENT
BEGIN:VEVENT
DTSTART;VALUE=DATE:20180420
DTEND;VALUE=DATE:20180421
DTSTAMP:20260425T220728
CREATED:20180308T074708Z
LAST-MODIFIED:20180308T074708Z
UID:56243-1524182400-1524268799@klassikauto.pl
SUMMARY:VIII Ogólnopolski Rajd Pojazdów Zabytkowych
DESCRIPTION:
URL:https://klassikauto.pl/impreza/viii-ogolnopolski-rajd-pojazdow-zabytkowych/
LOCATION:Kielce
END:VEVENT
BEGIN:VEVENT
DTSTART;TZID=Europe/Helsinki:20180420T080000
DTEND;TZID=Europe/Helsinki:20180422T170000
DTSTAMP:20260425T220728
CREATED:20180308T074842Z
LAST-MODIFIED:20180308T074842Z
UID:56248-1524211200-1524416400@klassikauto.pl
SUMMARY:Bosch Hockenheim Historic
DESCRIPTION:
URL:https://klassikauto.pl/impreza/bosch-hockenheim-historic/
END:VEVENT
BEGIN:VEVENT
DTSTART;TZID=Europe/Helsinki:20180420T180000
DTEND;TZID=Europe/Helsinki:20180420T210000
DTSTAMP:20260425T220728
CREATED:20180415T121522Z
LAST-MODIFIED:20180415T121558Z
UID:59372-1524247200-1524258000@klassikauto.pl
SUMMARY:II Spot Nowa Iwiczna 2018
DESCRIPTION:
URL:https://klassikauto.pl/impreza/ii-spot-nowa-iwiczna-2018/
LOCATION:Nowa Iwiczna
END:VEVENT
BEGIN:VEVENT
DTSTART;VALUE=DATE:20180421
DTEND;VALUE=DATE:20180422
DTSTAMP:20260425T220728
CREATED:20180308T075005Z
LAST-MODIFIED:20180308T075005Z
UID:56252-1524268800-1524355199@klassikauto.pl
SUMMARY:Classówka Track Day\, Pszczółki k. Gdańska
DESCRIPTION:
URL:https://klassikauto.pl/impreza/classowka-track-day-pszczolki-k-gdanska/
END:VEVENT
BEGIN:VEVENT
DTSTART;VALUE=DATE:20180421
DTEND;VALUE=DATE:20180422
DTSTAMP:20260425T220728
CREATED:20180308T075057Z
LAST-MODIFIED:20180309T182758Z
UID:56254-1524268800-1524355199@klassikauto.pl
SUMMARY:aukcja – Classic cars & motorcycles in the Oldtimer Galerie
DESCRIPTION:
URL:https://klassikauto.pl/impreza/aukcja-classic-cars-motorcycles-in-the-oldtimer-galerie/
LOCATION:Toffen\, Szwajcaria
CATEGORIES:Aukcja
END:VEVENT
BEGIN:VEVENT
DTSTART;TZID=Europe/Helsinki:20180421T080000
DTEND;TZID=Europe/Helsinki:20180421T170000
DTSTAMP:20260425T220728
CREATED:20180308T074923Z
LAST-MODIFIED:20180308T074923Z
UID:56250-1524297600-1524330000@klassikauto.pl
SUMMARY:X Ogólnopolski Zlot Mustangów
DESCRIPTION:
URL:https://klassikauto.pl/impreza/x-ogolnopolski-zlot-mustangow/
LOCATION:Warszawa
END:VEVENT
BEGIN:VEVENT
DTSTART;TZID=Europe/Helsinki:20180421T080000
DTEND;TZID=Europe/Helsinki:20180422T170000
DTSTAMP:20260425T220728
CREATED:20180308T075144Z
LAST-MODIFIED:20180308T075144Z
UID:56257-1524297600-1524416400@klassikauto.pl
SUMMARY:Garbusowy BBQ
DESCRIPTION:
URL:https://klassikauto.pl/impreza/garbusowy-bbq/
LOCATION:Szamotuły
END:VEVENT
BEGIN:VEVENT
DTSTART;VALUE=DATE:20180422
DTEND;VALUE=DATE:20180423
DTSTAMP:20260425T220728
CREATED:20180308T075255Z
LAST-MODIFIED:20180308T075255Z
UID:56262-1524355200-1524441599@klassikauto.pl
SUMMARY:Rozpoczęcie sezonu Częstochowskiego Ruchu Klasyków
DESCRIPTION:
URL:https://klassikauto.pl/impreza/rozpoczecie-sezonu-czestochowskiego-ruchu-klasykow/
LOCATION:Częstochowa
END:VEVENT
BEGIN:VEVENT
DTSTART;TZID=Europe/Helsinki:20180422T080000
DTEND;TZID=Europe/Helsinki:20180422T170000
DTSTAMP:20260425T220728
CREATED:20180308T075214Z
LAST-MODIFIED:20180309T182913Z
UID:56260-1524384000-1524416400@klassikauto.pl
SUMMARY:Oldtimerbazar
DESCRIPTION:
URL:https://klassikauto.pl/impreza/oldtimerbazar-3/
LOCATION:Wrocław\, Wrocław\, Poland
CATEGORIES:Aukcja
END:VEVENT
BEGIN:VEVENT
DTSTART;TZID=Europe/Helsinki:20180422T120000
DTEND;TZID=Europe/Helsinki:20180422T170000
DTSTAMP:20260425T220728
CREATED:20180402T172301Z
LAST-MODIFIED:20180402T172301Z
UID:59020-1524398400-1524416400@klassikauto.pl
SUMMARY:Rozpoczęcie Sezonu Radomskich Klasyków
DESCRIPTION:
URL:https://klassikauto.pl/impreza/rozpoczecie-sezonu-radomskich-klasykow/
LOCATION:Radom
END:VEVENT
BEGIN:VEVENT
DTSTART;VALUE=DATE:20180424
DTEND;VALUE=DATE:20180425
DTSTAMP:20260425T220728
CREATED:20180308T075346Z
LAST-MODIFIED:20180309T182758Z
UID:56265-1524528000-1524614399@klassikauto.pl
SUMMARY:Aukcja\, Spring Classics 2018\, Londyn
DESCRIPTION:
URL:https://klassikauto.pl/impreza/aukcja-spring-classics-2018-londyn/
LOCATION:Wielka Brytania
CATEGORIES:Aukcja
END:VEVENT
BEGIN:VEVENT
DTSTART;TZID=Europe/Helsinki:20180426T080000
DTEND;TZID=Europe/Helsinki:20180428T170000
DTSTAMP:20260425T220728
CREATED:20180308T075449Z
LAST-MODIFIED:20180308T075618Z
UID:56267-1524729600-1524934800@klassikauto.pl
SUMMARY:Suedsteiermark Classic
DESCRIPTION:
URL:https://klassikauto.pl/impreza/suedsteiermark-classic/
END:VEVENT
BEGIN:VEVENT
DTSTART;VALUE=DATE:20180427
DTEND;VALUE=DATE:20180501
DTSTAMP:20260425T220728
CREATED:20180308T075723Z
LAST-MODIFIED:20180402T154908Z
UID:56269-1524787200-1525132799@klassikauto.pl
SUMMARY:ClassicMania Trip – V edycja - Old Car Land Kijów
DESCRIPTION:
URL:https://klassikauto.pl/impreza/classicmania-trip-v-edycja-old-car-land-kijow/
END:VEVENT
BEGIN:VEVENT
DTSTART;VALUE=DATE:20180428
DTEND;VALUE=DATE:20180429
DTSTAMP:20260425T220728
CREATED:20180308T075811Z
LAST-MODIFIED:20180308T075811Z
UID:56271-1524873600-1524959999@klassikauto.pl
SUMMARY:XIV Rajd Weteranów Szos po ziemi mogileńskiej
DESCRIPTION:
URL:https://klassikauto.pl/impreza/xiv-rajd-weteranow-szos-po-ziemi-mogilenskiej/
LOCATION:Mogilno
END:VEVENT
END:VCALENDAR
<!-- RunCloud Hub 2026-04-25 21:07:28 -->