BEGIN:VCALENDAR
VERSION:2.0
PRODID:-//KlassikAuto.pl - ECPv6.7.0//NONSGML v1.0//EN
CALSCALE:GREGORIAN
METHOD:PUBLISH
X-ORIGINAL-URL:https://klassikauto.pl
X-WR-CALDESC:Wydarzenia dla KlassikAuto.pl
REFRESH-INTERVAL;VALUE=DURATION:PT1H
X-Robots-Tag:noindex
X-PUBLISHED-TTL:PT1H
BEGIN:VTIMEZONE
TZID:Europe/Helsinki
BEGIN:DAYLIGHT
TZOFFSETFROM:+0200
TZOFFSETTO:+0300
TZNAME:EEST
DTSTART:20180325T010000
END:DAYLIGHT
BEGIN:STANDARD
TZOFFSETFROM:+0300
TZOFFSETTO:+0200
TZNAME:EET
DTSTART:20181028T010000
END:STANDARD
END:VTIMEZONE
BEGIN:VEVENT
DTSTART;VALUE=DATE:20180101
DTEND;VALUE=DATE:20180206
DTSTAMP:20260426T050948
CREATED:20180415T112117Z
LAST-MODIFIED:20180415T112117Z
UID:59312-1514764800-1517875199@klassikauto.pl
SUMMARY:New tracks. Every Destination. Always Porsche - wystawa
DESCRIPTION:Muzeum Porsche
URL:https://klassikauto.pl/impreza/new-tracks-every-destination-always-porsche-wystawa/
LOCATION:Stuttgart\, Niemcy
END:VEVENT
BEGIN:VEVENT
DTSTART;VALUE=DATE:20180101
DTEND;VALUE=DATE:20180305
DTSTAMP:20260426T050948
CREATED:20180415T112342Z
LAST-MODIFIED:20180415T112342Z
UID:59314-1514764800-1520207999@klassikauto.pl
SUMMARY:WOB 007 - Bond's Autos und Requisiten - wystawa
DESCRIPTION:Muzeum Volkswagen
URL:https://klassikauto.pl/impreza/wob-007-bonds-autos-und-requisiten-wystawa/
LOCATION:Wolfsburg\, Niemcy
END:VEVENT
BEGIN:VEVENT
DTSTART;VALUE=DATE:20180101
DTEND;VALUE=DATE:20180401
DTSTAMP:20260426T050948
CREATED:20180415T112804Z
LAST-MODIFIED:20180415T112846Z
UID:59324-1514764800-1522540799@klassikauto.pl
SUMMARY:Poznaj historię! Podróżuj w czasie z Volkswagenem Słowacją - wystawa
DESCRIPTION:Słoweńskie Muzeum Techniki\,  Bratysława
URL:https://klassikauto.pl/impreza/poznaj-historie-podrozuj-w-czasie-z-volkswagenem-slowacja-wystawa/
LOCATION:Bratysława\, Słowacja
END:VEVENT
BEGIN:VEVENT
DTSTART;VALUE=DATE:20180101
DTEND;VALUE=DATE:20180409
DTSTAMP:20260426T050948
CREATED:20180415T112527Z
LAST-MODIFIED:20180415T112527Z
UID:59318-1514764800-1523231999@klassikauto.pl
SUMMARY:50 lat AMG  - wystawa
DESCRIPTION:Mercedes Benz Muzeum
URL:https://klassikauto.pl/impreza/50-lat-amg-wystawa/
LOCATION:Stuttgart\, Niemcy
END:VEVENT
BEGIN:VEVENT
DTSTART;VALUE=DATE:20180101
DTEND;VALUE=DATE:20180701
DTSTAMP:20260426T050948
CREATED:20180415T112652Z
LAST-MODIFIED:20180415T112652Z
UID:59320-1514764800-1530403199@klassikauto.pl
SUMMARY:Samochodem na wycieczkę i inne rozrywki lat 60-tych - wystawa
DESCRIPTION:Słoweńskie Muzeum Techniki\,  Bratysława
URL:https://klassikauto.pl/impreza/samochodem-na-wycieczke-i-inne-rozrywki-lat-60-tych-wystawa/
LOCATION:Bratysława\, Słowacja
END:VEVENT
BEGIN:VEVENT
DTSTART;VALUE=DATE:20180122
DTEND;VALUE=DATE:20180129
DTSTAMP:20260426T050948
CREATED:20180415T113921Z
LAST-MODIFIED:20180415T113921Z
UID:59348-1516579200-1517183999@klassikauto.pl
SUMMARY:Rallye Monte-Carlo\, 2018
DESCRIPTION:
URL:https://klassikauto.pl/impreza/rallye-monte-carlo-2018/
LOCATION:Monte Carlo\, Monaco
END:VEVENT
BEGIN:VEVENT
DTSTART;VALUE=DATE:20180127
DTEND;VALUE=DATE:20180128
DTSTAMP:20260426T050948
CREATED:20180309T183459Z
LAST-MODIFIED:20180309T183459Z
UID:56890-1517011200-1517097599@klassikauto.pl
SUMMARY:Moto Weteran Bazar
DESCRIPTION:
URL:https://klassikauto.pl/impreza/moto-weteran-bazar/
CATEGORIES:Aukcja
END:VEVENT
BEGIN:VEVENT
DTSTART;VALUE=DATE:20180131
DTEND;VALUE=DATE:20180208
DTSTAMP:20260426T050948
CREATED:20180415T113438Z
LAST-MODIFIED:20180415T113807Z
UID:59329-1517356800-1518047999@klassikauto.pl
SUMMARY:21. Rallye Monte Carlo Historique
DESCRIPTION:
URL:https://klassikauto.pl/impreza/21-rally-monte-carlo-historique-francja/
LOCATION:Monte Carlo\, Monaco
END:VEVENT
BEGIN:VEVENT
DTSTART;TZID=Europe/Helsinki:20180131T080000
DTEND;TZID=Europe/Helsinki:20180202T170000
DTSTAMP:20260426T050948
CREATED:20180415T113708Z
LAST-MODIFIED:20180415T113708Z
UID:59335-1517385600-1517590800@klassikauto.pl
SUMMARY:2 Rallye Monte-Carlo Classique
DESCRIPTION:
URL:https://klassikauto.pl/impreza/2-rallye-monte-carlo-classique/
LOCATION:Monte Carlo\, Monaco
END:VEVENT
BEGIN:VEVENT
DTSTART;VALUE=DATE:20180205
DTEND;VALUE=DATE:20180208
DTSTAMP:20260426T050948
CREATED:20180408T100807Z
LAST-MODIFIED:20180408T100941Z
UID:59222-1517788800-1518047999@klassikauto.pl
SUMMARY:Bremen Classic Motorshow
DESCRIPTION:
URL:https://klassikauto.pl/impreza/bremen-classic-motorshow/
LOCATION:Bremen\, Niemcy
END:VEVENT
BEGIN:VEVENT
DTSTART;VALUE=DATE:20180207
DTEND;VALUE=DATE:20180212
DTSTAMP:20260426T050948
CREATED:20180408T105406Z
LAST-MODIFIED:20180415T084459Z
UID:59234-1517961600-1518393599@klassikauto.pl
SUMMARY:Retromobile
DESCRIPTION:
URL:https://klassikauto.pl/impreza/retromobile/
LOCATION:Paryż
CATEGORIES:Wystawa
END:VEVENT
BEGIN:VEVENT
DTSTART;VALUE=DATE:20180208
DTEND;VALUE=DATE:20180209
DTSTAMP:20260426T050948
CREATED:20180309T183551Z
LAST-MODIFIED:20180309T183551Z
UID:56892-1518048000-1518134399@klassikauto.pl
SUMMARY:Les Grandes Marques du Monde au Grand Palais
DESCRIPTION:
URL:https://klassikauto.pl/impreza/les-grandes-marques-du-monde-au-grand-palais/
LOCATION:Paris\, The Grand Palais
CATEGORIES:Aukcja
END:VEVENT
BEGIN:VEVENT
DTSTART;VALUE=DATE:20180217
DTEND;VALUE=DATE:20180218
DTSTAMP:20260426T050948
CREATED:20180309T183632Z
LAST-MODIFIED:20180309T183632Z
UID:56895-1518825600-1518911999@klassikauto.pl
SUMMARY:The London Classic Car Show 2018
DESCRIPTION:
URL:https://klassikauto.pl/impreza/the-london-classic-car-show-2018/
CATEGORIES:Aukcja
END:VEVENT
BEGIN:VEVENT
DTSTART;VALUE=DATE:20180217
DTEND;VALUE=DATE:20180218
DTSTAMP:20260426T050948
CREATED:20180309T183712Z
LAST-MODIFIED:20180309T183712Z
UID:56897-1518825600-1518911999@klassikauto.pl
SUMMARY:The Carole Nash MCN London Motorcycle Show
DESCRIPTION:
URL:https://klassikauto.pl/impreza/the-carole-nash-mcn-london-motorcycle-show/
CATEGORIES:Aukcja
END:VEVENT
BEGIN:VEVENT
DTSTART;TZID=Europe/Helsinki:20180218T100000
DTEND;TZID=Europe/Helsinki:20180218T170000
DTSTAMP:20260426T050948
CREATED:20180415T105440Z
LAST-MODIFIED:20180415T105440Z
UID:59305-1518948000-1518973200@klassikauto.pl
SUMMARY:XIV Rajd Walentynkowy
DESCRIPTION:
URL:https://klassikauto.pl/impreza/xiv-rajd-walentynkowy/
LOCATION:Poznań
END:VEVENT
BEGIN:VEVENT
DTSTART;VALUE=DATE:20180223
DTEND;VALUE=DATE:20180226
DTSTAMP:20260426T050948
CREATED:20180415T080736Z
LAST-MODIFIED:20180415T084327Z
UID:59247-1519344000-1519603199@klassikauto.pl
SUMMARY:Race Retro - International Historic Motorsport Show
DESCRIPTION:
URL:https://klassikauto.pl/impreza/race-retro-international-historic-motorsport-show/
LOCATION:Coventry\, Wielka Brytania
END:VEVENT
BEGIN:VEVENT
DTSTART;VALUE=DATE:20180302
DTEND;VALUE=DATE:20180305
DTSTAMP:20260426T050948
CREATED:20180308T063226Z
LAST-MODIFIED:20180308T063226Z
UID:56140-1519948800-1520207999@klassikauto.pl
SUMMARY:41. Antwerp Classic Salon
DESCRIPTION:
URL:https://klassikauto.pl/impreza/41-antwerp-classic-salon/
END:VEVENT
BEGIN:VEVENT
DTSTART;VALUE=DATE:20180302
DTEND;VALUE=DATE:20180305
DTSTAMP:20260426T050948
CREATED:20180308T063340Z
LAST-MODIFIED:20180308T063340Z
UID:56142-1519948800-1520207999@klassikauto.pl
SUMMARY:Warsaw Motorcycle Show / I edycja
DESCRIPTION:
URL:https://klassikauto.pl/impreza/warsaw-motorcycle-show-i-edycja/
END:VEVENT
BEGIN:VEVENT
DTSTART;VALUE=DATE:20180304
DTEND;VALUE=DATE:20180305
DTSTAMP:20260426T050948
CREATED:20180308T063426Z
LAST-MODIFIED:20180309T182913Z
UID:56144-1520121600-1520207999@klassikauto.pl
SUMMARY:Oldtimerbazar
DESCRIPTION:
URL:https://klassikauto.pl/impreza/oldtimerbazar/
CATEGORIES:Aukcja
END:VEVENT
BEGIN:VEVENT
DTSTART;VALUE=DATE:20180304
DTEND;VALUE=DATE:20180305
DTSTAMP:20260426T050948
CREATED:20180308T063507Z
LAST-MODIFIED:20180308T063507Z
UID:56146-1520121600-1520207999@klassikauto.pl
SUMMARY:Rajd na Żółtych Papierach
DESCRIPTION:
URL:https://klassikauto.pl/impreza/rajd-na-zoltych-papierach/
END:VEVENT
BEGIN:VEVENT
DTSTART;VALUE=DATE:20180304
DTEND;VALUE=DATE:20180305
DTSTAMP:20260426T050948
CREATED:20180308T063559Z
LAST-MODIFIED:20180308T063559Z
UID:56148-1520121600-1520207999@klassikauto.pl
SUMMARY:Czar Aut PRL II w Muzeum Warszawskiej Pragi
DESCRIPTION:
URL:https://klassikauto.pl/impreza/czar-aut-prl-ii-w-muzeum-warszawskiej-pragi/
LOCATION:Warszawa
END:VEVENT
BEGIN:VEVENT
DTSTART;VALUE=DATE:20180304
DTEND;VALUE=DATE:20180305
DTSTAMP:20260426T050948
CREATED:20180308T063707Z
LAST-MODIFIED:20180402T155629Z
UID:56151-1520121600-1520207999@klassikauto.pl
SUMMARY:Impreza Tylko dla kobiet
DESCRIPTION:
URL:https://klassikauto.pl/impreza/impreza-tylko-dla-kobiet/
LOCATION:Stalowa Wola\, Poland
END:VEVENT
BEGIN:VEVENT
DTSTART;VALUE=DATE:20180310
DTEND;VALUE=DATE:20180311
DTSTAMP:20260426T050948
CREATED:20180308T063848Z
LAST-MODIFIED:20180309T182940Z
UID:56154-1520640000-1520726399@klassikauto.pl
SUMMARY:Amelia Island
DESCRIPTION:
URL:https://klassikauto.pl/impreza/amelia-island/
LOCATION:The Ritz-Carlton\, Amelia Island\, Florida
CATEGORIES:Aukcja
END:VEVENT
BEGIN:VEVENT
DTSTART;VALUE=DATE:20180310
DTEND;VALUE=DATE:20180311
DTSTAMP:20260426T050948
CREATED:20180308T063953Z
LAST-MODIFIED:20180308T063953Z
UID:56157-1520640000-1520726399@klassikauto.pl
SUMMARY:Rajd Pań 2018
DESCRIPTION:
URL:https://klassikauto.pl/impreza/rajd-pan-2018/
LOCATION:Warszawa
END:VEVENT
BEGIN:VEVENT
DTSTART;VALUE=DATE:20180317
DTEND;VALUE=DATE:20180318
DTSTAMP:20260426T050948
CREATED:20180308T064108Z
LAST-MODIFIED:20180308T064108Z
UID:56159-1521244800-1521331199@klassikauto.pl
SUMMARY:zlot charytatywny
DESCRIPTION:
URL:https://klassikauto.pl/impreza/zlot-charytatywny/
LOCATION:Żerków\, wielkopolskie
END:VEVENT
BEGIN:VEVENT
DTSTART;TZID=Europe/Helsinki:20180317T080000
DTEND;TZID=Europe/Helsinki:20180318T200000
DTSTAMP:20260426T050948
CREATED:20180308T064242Z
LAST-MODIFIED:20180308T064916Z
UID:56162-1521273600-1521403200@klassikauto.pl
SUMMARY:Auto Moto Classic
DESCRIPTION:
URL:https://klassikauto.pl/impreza/auto-moto-classic/
LOCATION:Ostróda
END:VEVENT
BEGIN:VEVENT
DTSTART;TZID=Europe/Helsinki:20180317T090000
DTEND;TZID=Europe/Helsinki:20180318T180000
DTSTAMP:20260426T050948
CREATED:20180308T065147Z
LAST-MODIFIED:20180308T065147Z
UID:56165-1521277200-1521396000@klassikauto.pl
SUMMARY:Technorama
DESCRIPTION:bezpośredni link: https://www.messen.de/de/8095/kassel/technorama-kassel/info
URL:https://klassikauto.pl/impreza/technorama/
LOCATION:Kassel\, Germany
END:VEVENT
BEGIN:VEVENT
DTSTART;VALUE=DATE:20180318
DTEND;VALUE=DATE:20180319
DTSTAMP:20260426T050948
CREATED:20180308T065500Z
LAST-MODIFIED:20180309T182759Z
UID:56168-1521331200-1521417599@klassikauto.pl
SUMMARY:Aukcja\, Goodwood Members’ Meeting
DESCRIPTION:
URL:https://klassikauto.pl/impreza/aukcja-goodwood-members-meeting/
LOCATION:Wielka Brytania
CATEGORIES:Aukcja
END:VEVENT
BEGIN:VEVENT
DTSTART;TZID=Europe/Helsinki:20180321T080000
DTEND;TZID=Europe/Helsinki:20180325T170000
DTSTAMP:20260426T050948
CREATED:20180308T065859Z
LAST-MODIFIED:20180308T065859Z
UID:56174-1521619200-1521997200@klassikauto.pl
SUMMARY:30. Techno-Classica
DESCRIPTION:
URL:https://klassikauto.pl/impreza/30-techno-classica/
LOCATION:Essen\, Germany
END:VEVENT
BEGIN:VEVENT
DTSTART;TZID=Europe/Helsinki:20180322T110000
DTEND;TZID=Europe/Helsinki:20180325T190000
DTSTAMP:20260426T050948
CREATED:20180308T065738Z
LAST-MODIFIED:20180308T065738Z
UID:56171-1521716400-1522004400@klassikauto.pl
SUMMARY:Targi Retro Classics\, Weltweit größte Oldtimermesse
DESCRIPTION:
URL:https://klassikauto.pl/impreza/targi-retro-classics-weltweit-groste-oldtimermesse/
LOCATION:Stuttgart\, Germany
END:VEVENT
END:VCALENDAR
<!-- RunCloud Hub 2026-04-26 04:09:48 -->