BEGIN:VCALENDAR
VERSION:2.0
PRODID:-//KlassikAuto.pl - ECPv6.7.0//NONSGML v1.0//EN
CALSCALE:GREGORIAN
METHOD:PUBLISH
X-WR-CALNAME:KlassikAuto.pl
X-ORIGINAL-URL:https://klassikauto.pl
X-WR-CALDESC:Wydarzenia dla KlassikAuto.pl
REFRESH-INTERVAL;VALUE=DURATION:PT1H
X-Robots-Tag:noindex
X-PUBLISHED-TTL:PT1H
BEGIN:VTIMEZONE
TZID:Europe/Helsinki
BEGIN:DAYLIGHT
TZOFFSETFROM:+0200
TZOFFSETTO:+0300
TZNAME:EEST
DTSTART:20260329T010000
END:DAYLIGHT
BEGIN:STANDARD
TZOFFSETFROM:+0300
TZOFFSETTO:+0200
TZNAME:EET
DTSTART:20261025T010000
END:STANDARD
END:VTIMEZONE
BEGIN:VEVENT
DTSTART;TZID=Europe/Helsinki:20260429T073000
DTEND;TZID=Europe/Helsinki:20260830T180000
DTSTAMP:20260421T223540
CREATED:20251227T161023Z
LAST-MODIFIED:20251227T161023Z
UID:113884-1777447800-1788112800@klassikauto.pl
SUMMARY:Ducati Day Assen 2026
DESCRIPTION:
URL:https://klassikauto.pl/impreza/ducati-day-assen-2026/
LOCATION:Assen\, Holandia
CATEGORIES:Zlot
END:VEVENT
BEGIN:VEVENT
DTSTART;TZID=Europe/Helsinki:20260829T120000
DTEND;TZID=Europe/Helsinki:20260829T180000
DTSTAMP:20260421T223540
CREATED:20260207T185704Z
LAST-MODIFIED:20260207T185704Z
UID:114392-1788004800-1788026400@klassikauto.pl
SUMMARY:Festiwal Pojazdów Nieznanych\, Nieudanych i Zapomnianych
DESCRIPTION:
URL:https://klassikauto.pl/impreza/festiwal-pojazdow-nieznanych-nieudanych-i-zapomnianych/
LOCATION:Rumia
CATEGORIES:Zlot
END:VEVENT
BEGIN:VEVENT
DTSTART;TZID=Europe/Helsinki:20260830T090000
DTEND;TZID=Europe/Helsinki:20260830T150000
DTSTAMP:20260421T223540
CREATED:20251214T185912Z
LAST-MODIFIED:20251214T185912Z
UID:113597-1788080400-1788102000@klassikauto.pl
SUMMARY:XV ClassicMania - Międzynarodowy Zlot Pojazdów Zabytkowych Edycja Jubileuszowa - "Niemiecka"
DESCRIPTION:
URL:https://klassikauto.pl/impreza/xv-classicmania-miedzynarodowy-zlot-pojazdow-zabytkowych-edycja-jubileuszowa-niemiecka/
LOCATION:Sosnowiec
CATEGORIES:Zlot
END:VEVENT
BEGIN:VEVENT
DTSTART;VALUE=DATE:20260904
DTEND;VALUE=DATE:20260909
DTSTAMP:20260421T223540
CREATED:20251227T085245Z
LAST-MODIFIED:20251227T085245Z
UID:113849-1788480000-1788911999@klassikauto.pl
SUMMARY:European Mountain Summit 2026
DESCRIPTION:
URL:https://klassikauto.pl/impreza/european-mountain-summit-2026/
LOCATION:Salzburg
CATEGORIES:Rajd
END:VEVENT
BEGIN:VEVENT
DTSTART;VALUE=DATE:20260904
DTEND;VALUE=DATE:20260918
DTSTAMP:20260421T223540
CREATED:20251227T085523Z
LAST-MODIFIED:20251227T085523Z
UID:113851-1788480000-1789689599@klassikauto.pl
SUMMARY:European 5000
DESCRIPTION:
URL:https://klassikauto.pl/impreza/european-5000/
LOCATION:Niemcy
CATEGORIES:Rajd
END:VEVENT
BEGIN:VEVENT
DTSTART;VALUE=DATE:20260905
DTEND;VALUE=DATE:20260906
DTSTAMP:20260421T223540
CREATED:20251214T194610Z
LAST-MODIFIED:20251214T195417Z
UID:113634-1788566400-1788652799@klassikauto.pl
SUMMARY:Celica\, Supra\, 2000 GT Meet
DESCRIPTION:
URL:https://klassikauto.pl/impreza/celica-supra-2000-gt-meet/
LOCATION:Kolonia\, Niemcy
CATEGORIES:Zlot
END:VEVENT
BEGIN:VEVENT
DTSTART;VALUE=DATE:20260905
DTEND;VALUE=DATE:20260906
DTSTAMP:20260421T223540
CREATED:20260308T121510Z
LAST-MODIFIED:20260308T121510Z
UID:115301-1788566400-1788652799@klassikauto.pl
SUMMARY:Via Italia
DESCRIPTION:Spotkanie miłośników włoskiej kultury\, motoryzacji i designu w MCN Cogiteon w Krakowie.
URL:https://klassikauto.pl/impreza/via-italia-2/
LOCATION:Kraków
CATEGORIES:Zlot
END:VEVENT
BEGIN:VEVENT
DTSTART;VALUE=DATE:20260913
DTEND;VALUE=DATE:20260914
DTSTAMP:20260421T223540
CREATED:20260207T165539Z
LAST-MODIFIED:20260207T165539Z
UID:114329-1789257600-1789343999@klassikauto.pl
SUMMARY:VIII Runda Classicauto Cup 2026\, Tor Poznań
DESCRIPTION:
URL:https://klassikauto.pl/impreza/viii-runda-classicauto-cup-2026-tor-poznan/
LOCATION:Przeźmierowo
CATEGORIES:Rajd
END:VEVENT
BEGIN:VEVENT
DTSTART;VALUE=DATE:20260918
DTEND;VALUE=DATE:20260920
DTSTAMP:20260421T223540
CREATED:20260325T173317Z
LAST-MODIFIED:20260325T173317Z
UID:115581-1789689600-1789862399@klassikauto.pl
SUMMARY:70. Rajd Wisły
DESCRIPTION:
URL:https://klassikauto.pl/impreza/70-rajd-wisly/
LOCATION:Wisła
CATEGORIES:Rajd
END:VEVENT
BEGIN:VEVENT
DTSTART;TZID=Europe/Helsinki:20260918T110000
DTEND;TZID=Europe/Helsinki:20260920T170000
DTSTAMP:20260421T223540
CREATED:20260322T150007Z
LAST-MODIFIED:20260322T150007Z
UID:115525-1789729200-1789923600@klassikauto.pl
SUMMARY:10. Retro Motor Show
DESCRIPTION:
URL:https://klassikauto.pl/impreza/10-retro-motor-show/
LOCATION:Poznań
CATEGORIES:Targi
END:VEVENT
BEGIN:VEVENT
DTSTART;VALUE=DATE:20260919
DTEND;VALUE=DATE:20260926
DTSTAMP:20260421T223540
CREATED:20260208T104514Z
LAST-MODIFIED:20260208T104514Z
UID:114449-1789776000-1790380799@klassikauto.pl
SUMMARY:VII GruzRally Romania! EKSPEDYCJA EKSTREMALNA
DESCRIPTION:
URL:https://klassikauto.pl/impreza/vii-gruzrally-romania-ekspedycja-ekstremalna/
CATEGORIES:Rajd
END:VEVENT
BEGIN:VEVENT
DTSTART;VALUE=DATE:20261002
DTEND;VALUE=DATE:20261004
DTSTAMP:20260421T223540
CREATED:20260325T182319Z
LAST-MODIFIED:20260325T182319Z
UID:115606-1790899200-1791071999@klassikauto.pl
SUMMARY:Rosen Rallye Historic Meets Hamburg Car Classics
DESCRIPTION:
URL:https://klassikauto.pl/impreza/rosen-rallye-historic-meets-hamburg-car-classics/
LOCATION:Hamburg\, Niemcy
CATEGORIES:Rajd
END:VEVENT
BEGIN:VEVENT
DTSTART;VALUE=DATE:20261003
DTEND;VALUE=DATE:20261004
DTSTAMP:20260421T223540
CREATED:20251214T194700Z
LAST-MODIFIED:20251214T195458Z
UID:113636-1790985600-1791071999@klassikauto.pl
SUMMARY:Kombi- & Van-Tag & HiAce Meet
DESCRIPTION:
URL:https://klassikauto.pl/impreza/kombi-van-tag-hiace-meet/
LOCATION:Kolonia\, Niemcy
CATEGORIES:Zlot
END:VEVENT
BEGIN:VEVENT
DTSTART;VALUE=DATE:20261003
DTEND;VALUE=DATE:20261011
DTSTAMP:20260421T223540
CREATED:20251227T085834Z
LAST-MODIFIED:20251227T085834Z
UID:113853-1790985600-1791676799@klassikauto.pl
SUMMARY:Jupiters Flash 2026
DESCRIPTION:Start: Tyrol w Ötztal
URL:https://klassikauto.pl/impreza/jupiters-flash-2026/
LOCATION:Włochy
CATEGORIES:Rajd
END:VEVENT
BEGIN:VEVENT
DTSTART;VALUE=DATE:20261009
DTEND;VALUE=DATE:20261012
DTSTAMP:20260421T223540
CREATED:20260207T171501Z
LAST-MODIFIED:20260207T171501Z
UID:114343-1791504000-1791763199@klassikauto.pl
SUMMARY:Warsaw Motor Show 2026
DESCRIPTION:
URL:https://klassikauto.pl/impreza/warsaw-motor-show-2026-2/
LOCATION:Warszawa
END:VEVENT
BEGIN:VEVENT
DTSTART;VALUE=DATE:20261009
DTEND;VALUE=DATE:20261012
DTSTAMP:20260421T223540
CREATED:20260207T184450Z
LAST-MODIFIED:20260207T184450Z
UID:114384-1791504000-1791763199@klassikauto.pl
SUMMARY:Veterama Mannheim
DESCRIPTION:
URL:https://klassikauto.pl/impreza/veterama-mannheim-2/
LOCATION:Mannheim
CATEGORIES:Aukcja,Giełda
END:VEVENT
BEGIN:VEVENT
DTSTART;TZID=Europe/Helsinki:20261009T100000
DTEND;TZID=Europe/Helsinki:20261011T170000
DTSTAMP:20260421T223540
CREATED:20251215T191224Z
LAST-MODIFIED:20251215T191224Z
UID:113687-1791540000-1791738000@klassikauto.pl
SUMMARY:Warsaw Motor Show 2026
DESCRIPTION:
URL:https://klassikauto.pl/impreza/warsaw-motor-show-2026/
LOCATION:Warszawa
CATEGORIES:Targi
END:VEVENT
BEGIN:VEVENT
DTSTART;TZID=Europe/Helsinki:20261011T130000
DTEND;TZID=Europe/Helsinki:20261011T130000
DTSTAMP:20260421T223540
CREATED:20260307T072237Z
LAST-MODIFIED:20260307T072237Z
UID:115083-1791723600-1791723600@klassikauto.pl
SUMMARY:6. Hubertus Classic
DESCRIPTION:
URL:https://klassikauto.pl/impreza/6-hubertus-classic/
LOCATION:Moszna
CATEGORIES:Zlot
END:VEVENT
BEGIN:VEVENT
DTSTART;VALUE=DATE:20261012
DTEND;VALUE=DATE:20261019
DTSTAMP:20260421T223540
CREATED:20260207T172026Z
LAST-MODIFIED:20260207T172026Z
UID:114345-1791763200-1792367999@klassikauto.pl
SUMMARY:Mondial de l'Auto 2026
DESCRIPTION:
URL:https://klassikauto.pl/impreza/mondial-de-lauto-2026/
LOCATION:Paryż
CATEGORIES:Targi
END:VEVENT
BEGIN:VEVENT
DTSTART;TZID=Europe/Helsinki:20261015T100000
DTEND;TZID=Europe/Helsinki:20261018T160000
DTSTAMP:20260421T223540
CREATED:20260207T173450Z
LAST-MODIFIED:20260207T173450Z
UID:114355-1792058400-1792339200@klassikauto.pl
SUMMARY:Caravans Salon Poland 2026
DESCRIPTION:
URL:https://klassikauto.pl/impreza/caravans-salon-poland-2026/
LOCATION:Poznań
CATEGORIES:Targi
END:VEVENT
BEGIN:VEVENT
DTSTART;VALUE=DATE:20261017
DTEND;VALUE=DATE:20261018
DTSTAMP:20260421T223540
CREATED:20260207T165701Z
LAST-MODIFIED:20260207T165701Z
UID:114331-1792195200-1792281599@klassikauto.pl
SUMMARY:IX Runda Classicauto Cup 2026\, Tor Kielce
DESCRIPTION:
URL:https://klassikauto.pl/impreza/ix-runda-classicauto-cup-2026-tor-kielce/
LOCATION:Miedziana Góra
CATEGORIES:Rajd
END:VEVENT
BEGIN:VEVENT
DTSTART;VALUE=DATE:20261017
DTEND;VALUE=DATE:20261018
DTSTAMP:20260421T223540
CREATED:20260307T085407Z
LAST-MODIFIED:20260307T085407Z
UID:115131-1792195200-1792281599@klassikauto.pl
SUMMARY:VeteránTechna Brno 2026
DESCRIPTION:
URL:https://klassikauto.pl/impreza/veterantechna-brno-2026-2/
LOCATION:Brno\, Czechy
CATEGORIES:Targi
END:VEVENT
BEGIN:VEVENT
DTSTART;VALUE=DATE:20261017
DTEND;VALUE=DATE:20261019
DTSTAMP:20260421T223540
CREATED:20260208T115835Z
LAST-MODIFIED:20260208T115835Z
UID:114493-1792195200-1792367999@klassikauto.pl
SUMMARY:Oldtimer Show
DESCRIPTION:
URL:https://klassikauto.pl/impreza/oldtimer-show/
LOCATION:Budapeszt
CATEGORIES:Zlot
END:VEVENT
BEGIN:VEVENT
DTSTART;VALUE=DATE:20261107
DTEND;VALUE=DATE:20261108
DTSTAMP:20260421T223540
CREATED:20251214T194744Z
LAST-MODIFIED:20251214T195552Z
UID:113638-1794009600-1794095999@klassikauto.pl
SUMMARY:High Mileage Day
DESCRIPTION:
URL:https://klassikauto.pl/impreza/high-mileage-day/
LOCATION:Kolonia\, Niemcy
CATEGORIES:Zlot
END:VEVENT
BEGIN:VEVENT
DTSTART;VALUE=DATE:20261114
DTEND;VALUE=DATE:20261116
DTSTAMP:20260421T223540
CREATED:20251227T073656Z
LAST-MODIFIED:20251227T073656Z
UID:113831-1794614400-1794787199@klassikauto.pl
SUMMARY:ACA Classic Auction
DESCRIPTION:
URL:https://klassikauto.pl/impreza/aca-classic-auction-10/
LOCATION:King’s Lynn\, Wielka Brytania
CATEGORIES:Aukcja
END:VEVENT
BEGIN:VEVENT
DTSTART;VALUE=DATE:20261120
DTEND;VALUE=DATE:20261123
DTSTAMP:20260421T223540
CREATED:20251215T194543Z
LAST-MODIFIED:20251215T194543Z
UID:113710-1795132800-1795391999@klassikauto.pl
SUMMARY:Interclassic Brussels
DESCRIPTION:
URL:https://klassikauto.pl/impreza/interclassic-brussels/
LOCATION:Bruksela\, Belgia
CATEGORIES:Targi
END:VEVENT
BEGIN:VEVENT
DTSTART;TZID=Europe/Helsinki:20261205T080000
DTEND;TZID=Europe/Helsinki:20261205T170000
DTSTAMP:20260421T223540
CREATED:20251214T194840Z
LAST-MODIFIED:20251214T194840Z
UID:113640-1796457600-1796490000@klassikauto.pl
SUMMARY:Jahresabschluss\, Toyotas Filmhelden
DESCRIPTION:
URL:https://klassikauto.pl/impreza/jahresabschluss-toyotas-filmhelden/
LOCATION:Kolonia\, Niemcy
CATEGORIES:Zlot
END:VEVENT
END:VCALENDAR
<!-- RunCloud Hub 2026-04-21 21:35:40 -->