BEGIN:VCALENDAR
VERSION:2.0
PRODID:-//KlassikAuto.pl - ECPv6.7.0//NONSGML v1.0//EN
CALSCALE:GREGORIAN
METHOD:PUBLISH
X-WR-CALNAME:KlassikAuto.pl
X-ORIGINAL-URL:https://klassikauto.pl
X-WR-CALDESC:Wydarzenia dla KlassikAuto.pl
REFRESH-INTERVAL;VALUE=DURATION:PT1H
X-Robots-Tag:noindex
X-PUBLISHED-TTL:PT1H
BEGIN:VTIMEZONE
TZID:Europe/Helsinki
BEGIN:DAYLIGHT
TZOFFSETFROM:+0200
TZOFFSETTO:+0300
TZNAME:EEST
DTSTART:20260329T010000
END:DAYLIGHT
BEGIN:STANDARD
TZOFFSETFROM:+0300
TZOFFSETTO:+0200
TZNAME:EET
DTSTART:20261025T010000
END:STANDARD
END:VTIMEZONE
BEGIN:VEVENT
DTSTART;TZID=Europe/Helsinki:20260227T080000
DTEND;TZID=Europe/Helsinki:20260419T170000
DTSTAMP:20260421T135025
CREATED:20260208T131325Z
LAST-MODIFIED:20260208T131325Z
UID:114519-1772179200-1776618000@klassikauto.pl
SUMMARY:Lancia 120 years - innovation through italian design
DESCRIPTION:
URL:https://klassikauto.pl/impreza/lancia-120-years-innovation-through-italian-design/
LOCATION:Muzeum Autoworld\, Bruksela\, Belgia
CATEGORIES:Wystawa
END:VEVENT
BEGIN:VEVENT
DTSTART;VALUE=DATE:20260326
DTEND;VALUE=DATE:20260330
DTSTAMP:20260421T135025
CREATED:20260208T111932Z
LAST-MODIFIED:20260208T111932Z
UID:114471-1774483200-1774828799@klassikauto.pl
SUMMARY:20. Coppa d'Europa 2026
DESCRIPTION:
URL:https://klassikauto.pl/impreza/20-coppa-deuropa-2026/
LOCATION:Maastricht
CATEGORIES:Rajd
END:VEVENT
BEGIN:VEVENT
DTSTART;VALUE=DATE:20260327
DTEND;VALUE=DATE:20260330
DTSTAMP:20260421T135025
CREATED:20260207T170840Z
LAST-MODIFIED:20260207T170840Z
UID:114337-1774569600-1774828799@klassikauto.pl
SUMMARY:Warsaw Motorcycle Show 2026
DESCRIPTION:
URL:https://klassikauto.pl/impreza/warsaw-motorcycle-show-2026/
LOCATION:Warszawa
CATEGORIES:Targi
END:VEVENT
BEGIN:VEVENT
DTSTART;VALUE=DATE:20260328
DTEND;VALUE=DATE:20260329
DTSTAMP:20260421T135025
CREATED:20260208T102049Z
LAST-MODIFIED:20260208T102049Z
UID:114423-1774656000-1774742399@klassikauto.pl
SUMMARY:Auto moto velo burza v Hobšovicích
DESCRIPTION:
URL:https://klassikauto.pl/impreza/auto-moto-velo-burza-v-hobsovicich-9/
LOCATION:Hobšovice\, Czechy
CATEGORIES:Giełda
END:VEVENT
BEGIN:VEVENT
DTSTART;VALUE=DATE:20260328
DTEND;VALUE=DATE:20260329
DTSTAMP:20260421T135025
CREATED:20260308T074854Z
LAST-MODIFIED:20260308T074854Z
UID:115165-1774656000-1774742399@klassikauto.pl
SUMMARY:Puchar Youngtimer Party vol.1 2026
DESCRIPTION:
URL:https://klassikauto.pl/impreza/puchar-youngtimer-party-vol-1-2026/
LOCATION:Poznań
CATEGORIES:Zlot
END:VEVENT
BEGIN:VEVENT
DTSTART;TZID=Europe/Helsinki:20260328T080000
DTEND;TZID=Europe/Helsinki:20260328T160000
DTSTAMP:20260421T135025
CREATED:20260308T075246Z
LAST-MODIFIED:20260308T075246Z
UID:115167-1774684800-1774713600@klassikauto.pl
SUMMARY:Jarni Retro Garaż – aukcja i giełda historycznych pojazdów
DESCRIPTION:
URL:https://klassikauto.pl/impreza/jarni-retro-garaz-aukcja-i-gielda-historycznych-pojazdow/
LOCATION:Lysa nad Labem\, Czechy
CATEGORIES:Aukcja,Giełda
END:VEVENT
BEGIN:VEVENT
DTSTART;TZID=Europe/Helsinki:20260328T103000
DTEND;TZID=Europe/Helsinki:20260328T140000
DTSTAMP:20260421T135025
CREATED:20260308T074726Z
LAST-MODIFIED:20260308T074726Z
UID:115163-1774693800-1774706400@klassikauto.pl
SUMMARY:Parada klasyków po nitce Toru Poznań – start sezonu Youngtimer Party
DESCRIPTION:
URL:https://klassikauto.pl/impreza/parada-klasykow-po-nitce-toru-poznan-start-sezonu-youngtimer-party/
LOCATION:Poznań
CATEGORIES:Zlot
END:VEVENT
BEGIN:VEVENT
DTSTART;TZID=Europe/Helsinki:20260328T110000
DTEND;TZID=Europe/Helsinki:20260328T150000
DTSTAMP:20260421T135025
CREATED:20260322T142849Z
LAST-MODIFIED:20260322T142849Z
UID:115515-1774695600-1774710000@klassikauto.pl
SUMMARY:Rozpoczęcie Sezonu Samochodowego
DESCRIPTION:
URL:https://klassikauto.pl/impreza/rozpoczecie-sezonu-samochodowego/
LOCATION:Rogoźno
CATEGORIES:Zlot
END:VEVENT
BEGIN:VEVENT
DTSTART;TZID=Europe/Helsinki:20260328T113000
DTEND;TZID=Europe/Helsinki:20260328T170000
DTSTAMP:20260421T135025
CREATED:20260208T123724Z
LAST-MODIFIED:20260208T123724Z
UID:114499-1774697400-1774717200@klassikauto.pl
SUMMARY:Classic cars and motorcycles auction
DESCRIPTION:
URL:https://klassikauto.pl/impreza/classic-cars-and-motorcycles-auction/
LOCATION:Goole\, Wielka Brytania
CATEGORIES:Aukcja
END:VEVENT
BEGIN:VEVENT
DTSTART;VALUE=DATE:20260329
DTEND;VALUE=DATE:20260330
DTSTAMP:20260421T135025
CREATED:20260208T115153Z
LAST-MODIFIED:20260208T115153Z
UID:114489-1774742400-1774828799@klassikauto.pl
SUMMARY:AutoMadness Assen
DESCRIPTION:
URL:https://klassikauto.pl/impreza/automadness-assen-3/
LOCATION:Assen\, Holandia
CATEGORIES:Zlot
END:VEVENT
BEGIN:VEVENT
DTSTART;TZID=Europe/Helsinki:20260329T090000
DTEND;TZID=Europe/Helsinki:20260329T150000
DTSTAMP:20260421T135025
CREATED:20251215T190634Z
LAST-MODIFIED:20251215T190634Z
UID:113680-1774774800-1774796400@klassikauto.pl
SUMMARY:Początek sezonu C. S. Klasyków 2026
DESCRIPTION:
URL:https://klassikauto.pl/impreza/poczatek-sezonu-c-s-klasykow-2026/
LOCATION:Mińsk Mazowiecki
CATEGORIES:Zlot
END:VEVENT
BEGIN:VEVENT
DTSTART;TZID=Europe/Helsinki:20260329T120000
DTEND;TZID=Europe/Helsinki:20260329T150000
DTSTAMP:20260421T135025
CREATED:20260322T140216Z
LAST-MODIFIED:20260322T140216Z
UID:115506-1774785600-1774796400@klassikauto.pl
SUMMARY:Klasyczne Rozpoczęcie Sezonu – Spotkanie Pojazdów Zabytkowych
DESCRIPTION:Polana Topacz
URL:https://klassikauto.pl/impreza/klasyczne-rozpoczecie-sezonu-spotkanie-pojazdow-zabytkowych/
LOCATION:Ślęza
CATEGORIES:Zlot
END:VEVENT
BEGIN:VEVENT
DTSTART;TZID=Europe/Helsinki:20260329T120000
DTEND;TZID=Europe/Helsinki:20260329T160000
DTSTAMP:20260421T135025
CREATED:20260207T183016Z
LAST-MODIFIED:20260207T183016Z
UID:114372-1774785600-1774800000@klassikauto.pl
SUMMARY:Rozpoczęcie Sezonu Klasycznie 2026
DESCRIPTION:
URL:https://klassikauto.pl/impreza/rozpoczecie-sezonu-klasycznie-2026/
LOCATION:Kosakowo
CATEGORIES:Zlot
END:VEVENT
BEGIN:VEVENT
DTSTART;TZID=Europe/Helsinki:20260329T130000
DTEND;TZID=Europe/Helsinki:20260329T170000
DTSTAMP:20260421T135025
CREATED:20260322T131753Z
LAST-MODIFIED:20260322T131753Z
UID:115491-1774789200-1774803600@klassikauto.pl
SUMMARY:Rozpoczęcie Sezonu 2026 z Gorzowskie Klasyki
DESCRIPTION:
URL:https://klassikauto.pl/impreza/rozpoczecie-sezonu-2026-z-gorzowskie-klasyki/
LOCATION:Gorzów Wielkopolski
CATEGORIES:Zlot
END:VEVENT
BEGIN:VEVENT
DTSTART;VALUE=DATE:20260403
DTEND;VALUE=DATE:20260407
DTSTAMP:20260421T135025
CREATED:20260207T173850Z
LAST-MODIFIED:20260207T173850Z
UID:114360-1775174400-1775519999@klassikauto.pl
SUMMARY:Kujawskie Śniadanie Wielkanocne – zlot caravaningowy
DESCRIPTION:
URL:https://klassikauto.pl/impreza/kujawskie-sniadanie-wielkanocne-zlot-caravaningowy/
LOCATION:Piotrków Kujawski
CATEGORIES:Zlot
END:VEVENT
BEGIN:VEVENT
DTSTART;TZID=Europe/Helsinki:20260403T113000
DTEND;TZID=Europe/Helsinki:20260403T113000
DTSTAMP:20260421T135025
CREATED:20260208T101247Z
LAST-MODIFIED:20260208T101247Z
UID:114415-1775215800-1775215800@klassikauto.pl
SUMMARY:Season Opener der US-Cars-Sauerland
DESCRIPTION:
URL:https://klassikauto.pl/impreza/season-opener-der-us-cars-sauerland/
LOCATION:Menden\, Niemcy
CATEGORIES:Zlot
END:VEVENT
BEGIN:VEVENT
DTSTART;VALUE=DATE:20260404
DTEND;VALUE=DATE:20260405
DTSTAMP:20260421T135025
CREATED:20251214T194045Z
LAST-MODIFIED:20260326T173959Z
UID:113624-1775260800-1775347199@klassikauto.pl
SUMMARY:GR-Tag - Toyota Collection
DESCRIPTION:
URL:https://klassikauto.pl/impreza/gr-tag-toyota-collection/
LOCATION:Kolonia\, Niemcy
CATEGORIES:Wystawa,Zlot
END:VEVENT
BEGIN:VEVENT
DTSTART;VALUE=DATE:20260404
DTEND;VALUE=DATE:20260405
DTSTAMP:20260421T135025
CREATED:20260208T102247Z
LAST-MODIFIED:20260208T102247Z
UID:114425-1775260800-1775347199@klassikauto.pl
SUMMARY:Auto- moto veterán burza Mělník
DESCRIPTION:
URL:https://klassikauto.pl/impreza/auto-moto-veteran-burza-melnik/
LOCATION:Melnik\, Czechy
CATEGORIES:Giełda
END:VEVENT
BEGIN:VEVENT
DTSTART;TZID=Europe/Helsinki:20260404T110000
DTEND;TZID=Europe/Helsinki:20260404T160000
DTSTAMP:20260421T135025
CREATED:20260308T080516Z
LAST-MODIFIED:20260308T080516Z
UID:115173-1775300400-1775318400@klassikauto.pl
SUMMARY:Coffee and Cars Wielkanoc 2026
DESCRIPTION:
URL:https://klassikauto.pl/impreza/coffee-and-cars-wielkanoc-2026/
LOCATION:Warmątowice Sienkiewiczowskie
CATEGORIES:Zlot
END:VEVENT
BEGIN:VEVENT
DTSTART;TZID=Europe/Helsinki:20260404T113000
DTEND;TZID=Europe/Helsinki:20260404T113000
DTSTAMP:20260421T135025
CREATED:20260329T105046Z
LAST-MODIFIED:20260329T105046Z
UID:115784-1775302200-1775302200@klassikauto.pl
SUMMARY:Święconka na Moto 2026
DESCRIPTION:
URL:https://klassikauto.pl/impreza/swieconka-na-moto-2026/
LOCATION:Kraków
CATEGORIES:Zlot
END:VEVENT
BEGIN:VEVENT
DTSTART;TZID=Europe/Helsinki:20260405T100000
DTEND;TZID=Europe/Helsinki:20260405T170000
DTSTAMP:20260421T135025
CREATED:20260325T185910Z
LAST-MODIFIED:20260325T185910Z
UID:115631-1775383200-1775408400@klassikauto.pl
SUMMARY:24. Benz Bande Treffen
DESCRIPTION:
URL:https://klassikauto.pl/impreza/24-benz-bande-treffen/
LOCATION:Krefeld\, Niemcy
CATEGORIES:Zlot
END:VEVENT
BEGIN:VEVENT
DTSTART;TZID=Europe/Helsinki:20260406T090000
DTEND;TZID=Europe/Helsinki:20260406T090000
DTSTAMP:20260421T135025
CREATED:20260308T084908Z
LAST-MODIFIED:20260308T084908Z
UID:115195-1775466000-1775466000@klassikauto.pl
SUMMARY:Rajd Wiosenny – Częstochowskie Rozpoczęcie Sezonu 2026
DESCRIPTION:
URL:https://klassikauto.pl/impreza/rajd-wiosenny-czestochowskie-rozpoczecie-sezonu-2026/
LOCATION:Częstochowa
CATEGORIES:Rajd
END:VEVENT
BEGIN:VEVENT
DTSTART;TZID=Europe/Helsinki:20260406T130000
DTEND;TZID=Europe/Helsinki:20260406T190000
DTSTAMP:20260421T135025
CREATED:20260308T082018Z
LAST-MODIFIED:20260308T082018Z
UID:115183-1775480400-1775502000@klassikauto.pl
SUMMARY:II Zjazd Grodkowski
DESCRIPTION:
URL:https://klassikauto.pl/impreza/ii-zjazd-grodkowski/
LOCATION:Grodków
CATEGORIES:Zlot
END:VEVENT
BEGIN:VEVENT
DTSTART;VALUE=DATE:20260408
DTEND;VALUE=DATE:20260413
DTSTAMP:20260421T135025
CREATED:20260207T183253Z
LAST-MODIFIED:20260207T183253Z
UID:114374-1775606400-1776038399@klassikauto.pl
SUMMARY:Retro Classics Essen
DESCRIPTION:
URL:https://klassikauto.pl/impreza/retro-classics-essen/
LOCATION:Essen\, Germany
CATEGORIES:Targi
END:VEVENT
BEGIN:VEVENT
DTSTART;VALUE=DATE:20260408
DTEND;VALUE=DATE:20260413
DTSTAMP:20260421T135025
CREATED:20260208T103234Z
LAST-MODIFIED:20260208T103234Z
UID:114434-1775606400-1776038399@klassikauto.pl
SUMMARY:VW Polo IG Deutschland e. V. auf de Retro Classics Essen
DESCRIPTION:
URL:https://klassikauto.pl/impreza/vw-polo-ig-deutschland-e-v-auf-de-retro-classics-essen/
LOCATION:Essen\, Niemcy
CATEGORIES:Zlot
END:VEVENT
BEGIN:VEVENT
DTSTART;VALUE=DATE:20260409
DTEND;VALUE=DATE:20260413
DTSTAMP:20260421T135025
CREATED:20260208T125544Z
LAST-MODIFIED:20260208T125544Z
UID:114509-1775692800-1776038399@klassikauto.pl
SUMMARY:1000 Miglia Experience Italy 2026
DESCRIPTION:
URL:https://klassikauto.pl/impreza/1000-miglia-experience-italy-2026/
LOCATION:Włochy
CATEGORIES:Rajd
END:VEVENT
BEGIN:VEVENT
DTSTART;TZID=Europe/Helsinki:20260410T080000
DTEND;TZID=Europe/Helsinki:20260412T180000
DTSTAMP:20260421T135025
CREATED:20260329T105435Z
LAST-MODIFIED:20260329T105435Z
UID:115788-1775808000-1776016800@klassikauto.pl
SUMMARY:ORLEN OIL 10. Rajd Memoriał Janusza Kuliga i Mariana Bublewicza 2026
DESCRIPTION:
URL:https://klassikauto.pl/impreza/orlen-oil-10-rajd-memorial-janusza-kuliga-i-mariana-bublewicza-2026/
LOCATION:Wieliczka
CATEGORIES:Rajd
END:VEVENT
BEGIN:VEVENT
DTSTART;VALUE=DATE:20260411
DTEND;VALUE=DATE:20260412
DTSTAMP:20260421T135025
CREATED:20260307T085831Z
LAST-MODIFIED:20260307T085831Z
UID:115133-1775865600-1775951999@klassikauto.pl
SUMMARY:Karlovarská burza\,
DESCRIPTION:
URL:https://klassikauto.pl/impreza/karlovarska-burza/
LOCATION:Karlove Vary\, Czechy
CATEGORIES:Giełda
END:VEVENT
BEGIN:VEVENT
DTSTART;VALUE=DATE:20260411
DTEND;VALUE=DATE:20260412
DTSTAMP:20260421T135025
CREATED:20260308T121016Z
LAST-MODIFIED:20260308T121016Z
UID:115293-1775865600-1775951999@klassikauto.pl
SUMMARY:Via Classica 2026 – rajd dla posiadaczy samochodów klasycznych
DESCRIPTION:I Runda
URL:https://klassikauto.pl/impreza/via-classica-2026-rajd-dla-posiadaczy-samochodow-klasycznych/
LOCATION:Szydłowiec
CATEGORIES:Rajd
END:VEVENT
BEGIN:VEVENT
DTSTART;VALUE=DATE:20260411
DTEND;VALUE=DATE:20260413
DTSTAMP:20260421T135025
CREATED:20251227T073425Z
LAST-MODIFIED:20251227T073425Z
UID:113825-1775865600-1776038399@klassikauto.pl
SUMMARY:ACA Classic Auction
DESCRIPTION:
URL:https://klassikauto.pl/impreza/aca-classic-auction-7/
LOCATION:King’s Lynn\, Wielka Brytania
CATEGORIES:Aukcja
END:VEVENT
END:VCALENDAR
<!-- RunCloud Hub 2026-04-21 12:50:25 -->