BEGIN:VCALENDAR
VERSION:2.0
PRODID:-//KlassikAuto.pl - ECPv6.7.0//NONSGML v1.0//EN
CALSCALE:GREGORIAN
METHOD:PUBLISH
X-WR-CALNAME:KlassikAuto.pl
X-ORIGINAL-URL:https://klassikauto.pl
X-WR-CALDESC:Wydarzenia dla KlassikAuto.pl
REFRESH-INTERVAL;VALUE=DURATION:PT1H
X-Robots-Tag:noindex
X-PUBLISHED-TTL:PT1H
BEGIN:VTIMEZONE
TZID:Europe/Helsinki
BEGIN:DAYLIGHT
TZOFFSETFROM:+0200
TZOFFSETTO:+0300
TZNAME:EEST
DTSTART:20250330T010000
END:DAYLIGHT
BEGIN:STANDARD
TZOFFSETFROM:+0300
TZOFFSETTO:+0200
TZNAME:EET
DTSTART:20251026T010000
END:STANDARD
END:VTIMEZONE
BEGIN:VEVENT
DTSTART;VALUE=DATE:20250905
DTEND;VALUE=DATE:20251215
DTSTAMP:20260422T013213
CREATED:20250426T190329Z
LAST-MODIFIED:20250830T143849Z
UID:109962-1757030400-1765756799@klassikauto.pl
SUMMARY:German tuners from the '80s and the '90s
DESCRIPTION:
URL:https://klassikauto.pl/impreza/german-tuners-from-the-80s-and-the-90s/
LOCATION:Museum Autoworld\, Bruksela\, Belgia
CATEGORIES:Wystawa
END:VEVENT
BEGIN:VEVENT
DTSTART;VALUE=DATE:20250925
DTEND;VALUE=DATE:20250929
DTSTAMP:20260422T013213
CREATED:20250830T135355Z
LAST-MODIFIED:20250830T135355Z
UID:112298-1758758400-1759103999@klassikauto.pl
SUMMARY:KRAK LEGEND\, Międzynarodowy Rajd Pojazdów Zabytkowych
DESCRIPTION:
URL:https://klassikauto.pl/impreza/krak-legend-miedzynarodowy-rajd-pojazdow-zabytkowych/
LOCATION:Wieliczka
CATEGORIES:Rajd
END:VEVENT
BEGIN:VEVENT
DTSTART;VALUE=DATE:20250926
DTEND;VALUE=DATE:20250929
DTSTAMP:20260422T013213
CREATED:20241228T073041Z
LAST-MODIFIED:20241228T073041Z
UID:107410-1758844800-1759103999@klassikauto.pl
SUMMARY:IV Międzynarodowy Rajd Pojazdów Zabytkowych Księstwa Świdnicko-Jaworskiego\,
DESCRIPTION:
URL:https://klassikauto.pl/impreza/iv-miedzynarodowy-rajd-pojazdow-zabytkowych-ksiestwa-swidnicko-jaworskiego/
LOCATION:Świdnica
CATEGORIES:Rajd
END:VEVENT
BEGIN:VEVENT
DTSTART;TZID=Europe/Helsinki:20250926T120000
DTEND;TZID=Europe/Helsinki:20250927T190000
DTSTAMP:20260422T013213
CREATED:20250830T064823Z
LAST-MODIFIED:20250830T064823Z
UID:112120-1758888000-1758999600@klassikauto.pl
SUMMARY:9. Rajdowy Ustroń
DESCRIPTION:
URL:https://klassikauto.pl/impreza/9-rajdowy-ustron/
LOCATION:Ustroń
CATEGORIES:Rajd
END:VEVENT
BEGIN:VEVENT
DTSTART;TZID=Europe/Helsinki:20250926T170000
DTEND;TZID=Europe/Helsinki:20250928T110000
DTSTAMP:20260422T013213
CREATED:20250830T141021Z
LAST-MODIFIED:20250830T141021Z
UID:112317-1758906000-1759057200@klassikauto.pl
SUMMARY:21. Vinobrani z Mercedesy 2025
DESCRIPTION:
URL:https://klassikauto.pl/impreza/21-vinobrani-z-mercedesy-2025/
LOCATION:Melnik\, Czechy
CATEGORIES:Zlot
END:VEVENT
BEGIN:VEVENT
DTSTART;VALUE=DATE:20250927
DTEND;VALUE=DATE:20250928
DTSTAMP:20260422T013213
CREATED:20250830T141207Z
LAST-MODIFIED:20250830T141207Z
UID:112319-1758931200-1759017599@klassikauto.pl
SUMMARY:Auto moto velo burza
DESCRIPTION:
URL:https://klassikauto.pl/impreza/auto-moto-velo-burza-2/
LOCATION:Hobšovice\, Czechy
CATEGORIES:Aukcja
END:VEVENT
BEGIN:VEVENT
DTSTART;TZID=Europe/Helsinki:20250927T070000
DTEND;TZID=Europe/Helsinki:20250927T170000
DTSTAMP:20260422T013213
CREATED:20250204T180449Z
LAST-MODIFIED:20250204T180449Z
UID:108264-1758956400-1758992400@klassikauto.pl
SUMMARY:BGM Wyścigi Górskie 2025 - runda 6
DESCRIPTION:
URL:https://klassikauto.pl/impreza/bgm-wyscigi-gorskie-2025-runda-6/
LOCATION:Spalona
CATEGORIES:Rajd
END:VEVENT
BEGIN:VEVENT
DTSTART;TZID=Europe/Helsinki:20250927T093000
DTEND;TZID=Europe/Helsinki:20250927T093000
DTSTAMP:20260422T013213
CREATED:20250830T070133Z
LAST-MODIFIED:20250830T145941Z
UID:112134-1758965400-1758965400@klassikauto.pl
SUMMARY:Sraz znackovych klubu Sazava
DESCRIPTION:
URL:https://klassikauto.pl/impreza/saz-znackovych-klubu-sazava/
LOCATION:Sazava\, Czechy
CATEGORIES:Zlot
END:VEVENT
BEGIN:VEVENT
DTSTART;TZID=Europe/Helsinki:20250927T093000
DTEND;TZID=Europe/Helsinki:20250927T170000
DTSTAMP:20260422T013213
CREATED:20250830T103628Z
LAST-MODIFIED:20250830T103628Z
UID:112175-1758965400-1758992400@klassikauto.pl
SUMMARY:5. Rajd Gruchota
DESCRIPTION:
URL:https://klassikauto.pl/impreza/5-rajd-gruchota/
LOCATION:Warszawa
CATEGORIES:Rajd
END:VEVENT
BEGIN:VEVENT
DTSTART;TZID=Europe/Helsinki:20250927T140000
DTEND;TZID=Europe/Helsinki:20250927T140000
DTSTAMP:20260422T013213
CREATED:20250830T142029Z
LAST-MODIFIED:20250830T142029Z
UID:112325-1758981600-1758981600@klassikauto.pl
SUMMARY:Auto Show End of Summer
DESCRIPTION:
URL:https://klassikauto.pl/impreza/auto-show-end-of-summer/
LOCATION:Kruszwica
CATEGORIES:Zlot
END:VEVENT
BEGIN:VEVENT
DTSTART;TZID=Europe/Helsinki:20250927T150000
DTEND;TZID=Europe/Helsinki:20250927T150000
DTSTAMP:20260422T013213
CREATED:20250830T134806Z
LAST-MODIFIED:20250830T134806Z
UID:112291-1758985200-1758985200@klassikauto.pl
SUMMARY:Klasyczne zakończenie sezonu 2025\, Klasyczne Zabrze&ZSMS
DESCRIPTION:
URL:https://klassikauto.pl/impreza/klasyczne-zakonczenie-sezonu-2025-klasyczne-zabrzezsms/
LOCATION:Zabrze
CATEGORIES:Zlot
END:VEVENT
BEGIN:VEVENT
DTSTART;TZID=Europe/Helsinki:20250927T150000
DTEND;TZID=Europe/Helsinki:20250927T230000
DTSTAMP:20260422T013213
CREATED:20241229T100623Z
LAST-MODIFIED:20241229T100623Z
UID:107593-1758985200-1759014000@klassikauto.pl
SUMMARY:Zakończenie Sezonu 2025 Łomianki
DESCRIPTION:
URL:https://klassikauto.pl/impreza/zakonczenie-sezonu-2025-lomianki/
LOCATION:Łomianki
CATEGORIES:Zlot
END:VEVENT
BEGIN:VEVENT
DTSTART;TZID=Europe/Helsinki:20250928T080000
DTEND;TZID=Europe/Helsinki:20250928T160000
DTSTAMP:20260422T013213
CREATED:20250830T112114Z
LAST-MODIFIED:20250830T112114Z
UID:112216-1759046400-1759075200@klassikauto.pl
SUMMARY:Zakończenie Sezonu Classic Cars Legionowo
DESCRIPTION:
URL:https://klassikauto.pl/impreza/zakonczenie-sezonu-classic-cars-legionowo-2/
LOCATION:Skrzeszew
CATEGORIES:Zlot
END:VEVENT
BEGIN:VEVENT
DTSTART;TZID=Europe/Helsinki:20250928T100000
DTEND;TZID=Europe/Helsinki:20250928T100000
DTSTAMP:20260422T013213
CREATED:20250426T145647Z
LAST-MODIFIED:20250426T145647Z
UID:109774-1759053600-1759053600@klassikauto.pl
SUMMARY:Klassikertreffen auf Rudi´s Wiese
DESCRIPTION:
URL:https://klassikauto.pl/impreza/klassikertreffen-auf-rudis-wiese-5/
LOCATION:Marl\, Niemcy
CATEGORIES:Zlot
END:VEVENT
BEGIN:VEVENT
DTSTART;TZID=Europe/Helsinki:20250928T110000
DTEND;TZID=Europe/Helsinki:20250928T110000
DTSTAMP:20260422T013213
CREATED:20250426T101539Z
LAST-MODIFIED:20250426T101539Z
UID:109740-1759057200-1759057200@klassikauto.pl
SUMMARY:Oldtimer anne Zeche
DESCRIPTION:
URL:https://klassikauto.pl/impreza/oldtimer-anne-zeche/
LOCATION:Dorsten\, Niemcy
CATEGORIES:Zlot
END:VEVENT
BEGIN:VEVENT
DTSTART;TZID=Europe/Helsinki:20250928T130000
DTEND;TZID=Europe/Helsinki:20250928T130000
DTSTAMP:20260422T013213
CREATED:20250830T140229Z
LAST-MODIFIED:20250830T140229Z
UID:112307-1759064400-1759064400@klassikauto.pl
SUMMARY:IV Gorzyckie Retrotłoki – zlot zabytkowych samochodów i motocykli
DESCRIPTION:
URL:https://klassikauto.pl/impreza/iv-gorzyckie-retrotloki-zlot-zabytkowych-samochodow-i-motocykli/
LOCATION:Górzyce
CATEGORIES:Zlot
END:VEVENT
BEGIN:VEVENT
DTSTART;VALUE=DATE:20251002
DTEND;VALUE=DATE:20251006
DTSTAMP:20260422T013213
CREATED:20250426T085148Z
LAST-MODIFIED:20250426T085148Z
UID:109675-1759363200-1759708799@klassikauto.pl
SUMMARY:Caravans Salon Poland 2025
DESCRIPTION:
URL:https://klassikauto.pl/impreza/caravans-salon-poland-2025/
LOCATION:Poznań
CATEGORIES:Targi
END:VEVENT
BEGIN:VEVENT
DTSTART;TZID=Europe/Helsinki:20251003T100000
DTEND;TZID=Europe/Helsinki:20251003T170000
DTSTAMP:20260422T013213
CREATED:20250426T142804Z
LAST-MODIFIED:20250426T142804Z
UID:109759-1759485600-1759510800@klassikauto.pl
SUMMARY:19. NOSW Oldtimertreffen auf’m Berg
DESCRIPTION:
URL:https://klassikauto.pl/impreza/19-nosw-oldtimertreffen-aufm-berg/
LOCATION:Reken\, Niemcy
CATEGORIES:Zlot
END:VEVENT
BEGIN:VEVENT
DTSTART;VALUE=DATE:20251004
DTEND;VALUE=DATE:20251012
DTSTAMP:20260422T013213
CREATED:20241226T103743Z
LAST-MODIFIED:20241226T103743Z
UID:107387-1759536000-1760227199@klassikauto.pl
SUMMARY:Jupiters Flash
DESCRIPTION:Start: Timmelsjoch\, Austria \nMeta: Palermo\, Włochy
URL:https://klassikauto.pl/impreza/jupiters-flash/
LOCATION:Włochy
CATEGORIES:Rajd
END:VEVENT
BEGIN:VEVENT
DTSTART;TZID=Europe/Helsinki:20251004T080000
DTEND;TZID=Europe/Helsinki:20251005T180000
DTSTAMP:20260422T013213
CREATED:20250204T181737Z
LAST-MODIFIED:20250204T181737Z
UID:108284-1759564800-1759687200@klassikauto.pl
SUMMARY:7. Rally Radków 2025
DESCRIPTION:
URL:https://klassikauto.pl/impreza/7-rally-radkow-2025/
LOCATION:Radków
CATEGORIES:Rajd
END:VEVENT
BEGIN:VEVENT
DTSTART;TZID=Europe/Helsinki:20251004T090000
DTEND;TZID=Europe/Helsinki:20251004T220000
DTSTAMP:20260422T013213
CREATED:20250830T070314Z
LAST-MODIFIED:20250830T070314Z
UID:112137-1759568400-1759615200@klassikauto.pl
SUMMARY:Garde & Rapid sraz 2025
DESCRIPTION:
URL:https://klassikauto.pl/impreza/garde-rapid-sraz-2025/
LOCATION:Podebrady\, Czechy
CATEGORIES:Zlot
END:VEVENT
BEGIN:VEVENT
DTSTART;TZID=Europe/Helsinki:20251004T100000
DTEND;TZID=Europe/Helsinki:20251004T140000
DTSTAMP:20260422T013213
CREATED:20241222T134556Z
LAST-MODIFIED:20241222T134556Z
UID:107201-1759572000-1759586400@klassikauto.pl
SUMMARY:Klein & Kompakt / Sera Meet
DESCRIPTION:
URL:https://klassikauto.pl/impreza/klein-kompakt-sera-meet/
LOCATION:Kolonia\, Niemcy
CATEGORIES:Wystawa
END:VEVENT
BEGIN:VEVENT
DTSTART;TZID=Europe/Helsinki:20251004T140000
DTEND;TZID=Europe/Helsinki:20251004T140000
DTSTAMP:20260422T013213
CREATED:20250830T073720Z
LAST-MODIFIED:20250830T073720Z
UID:112153-1759586400-1759586400@klassikauto.pl
SUMMARY:Motoryzacyjny Piknik Rodzinny zakończenie sezonu AutoFan Świętokrzyskie
DESCRIPTION:
URL:https://klassikauto.pl/impreza/motoryzacyjny-piknik-rodzinny-zakonczenie-sezonu-autofan-swietokrzyskie/
LOCATION:Kielce
CATEGORIES:Zlot
END:VEVENT
BEGIN:VEVENT
DTSTART;TZID=Europe/Helsinki:20251005T100000
DTEND;TZID=Europe/Helsinki:20251005T150000
DTSTAMP:20260422T013213
CREATED:20250406T085313Z
LAST-MODIFIED:20250406T085313Z
UID:109544-1759658400-1759676400@klassikauto.pl
SUMMARY:Zakończenie sezonu C.S. Klasyków 2025
DESCRIPTION:
URL:https://klassikauto.pl/impreza/zakonczenie-sezonu-c-s-klasykow-2025/
LOCATION:Mińsk Mazowiecki
CATEGORIES:Zlot
END:VEVENT
BEGIN:VEVENT
DTSTART;TZID=Europe/Helsinki:20251005T100000
DTEND;TZID=Europe/Helsinki:20251005T190000
DTSTAMP:20260422T013213
CREATED:20250830T110334Z
LAST-MODIFIED:20250830T110334Z
UID:112198-1759658400-1759690800@klassikauto.pl
SUMMARY:Zakończenie sezonu 2025 z Klasycznym Szczecinem
DESCRIPTION:
URL:https://klassikauto.pl/impreza/zakonczenie-sezonu-2025-z-klasycznym-szczecinem/
LOCATION:Szczecin
CATEGORIES:Zlot
END:VEVENT
BEGIN:VEVENT
DTSTART;VALUE=DATE:20251010
DTEND;VALUE=DATE:20251013
DTSTAMP:20260422T013213
CREATED:20250426T094517Z
LAST-MODIFIED:20250426T094517Z
UID:109713-1760054400-1760313599@klassikauto.pl
SUMMARY:10. MIB Rallye 2025
DESCRIPTION:
URL:https://klassikauto.pl/impreza/10-mib-rallye-2025/
LOCATION:Niemcy
CATEGORIES:Rajd
END:VEVENT
BEGIN:VEVENT
DTSTART;VALUE=DATE:20251010
DTEND;VALUE=DATE:20251013
DTSTAMP:20260422T013213
CREATED:20250427T073935Z
LAST-MODIFIED:20250427T073935Z
UID:110033-1760054400-1760313599@klassikauto.pl
SUMMARY:Rajd Nyski
DESCRIPTION:
URL:https://klassikauto.pl/impreza/rajd-nyski/
LOCATION:Nysa
CATEGORIES:Rajd
END:VEVENT
BEGIN:VEVENT
DTSTART;TZID=Europe/Helsinki:20251011T090000
DTEND;TZID=Europe/Helsinki:20251011T090000
DTSTAMP:20260422T013213
CREATED:20250224T153052Z
LAST-MODIFIED:20250224T153052Z
UID:108686-1760173200-1760173200@klassikauto.pl
SUMMARY:Runda 4 Puchar Youngtimer Party
DESCRIPTION:
URL:https://klassikauto.pl/impreza/runda-4-puchar-youngtimer-party/
LOCATION:Poznań
CATEGORIES:Rajd
END:VEVENT
BEGIN:VEVENT
DTSTART;TZID=Europe/Helsinki:20251012T090000
DTEND;TZID=Europe/Helsinki:20251012T180000
DTSTAMP:20260422T013213
CREATED:20241228T160644Z
LAST-MODIFIED:20241228T160644Z
UID:107501-1760259600-1760292000@klassikauto.pl
SUMMARY:BimmerWorld – BWM event
DESCRIPTION:
URL:https://klassikauto.pl/impreza/bimmerworld-bwm-event/
LOCATION:Assen\, Holandia
CATEGORIES:Zlot
END:VEVENT
BEGIN:VEVENT
DTSTART;TZID=Europe/Helsinki:20251012T090000
DTEND;TZID=Europe/Helsinki:20251012T180000
DTSTAMP:20260422T013213
CREATED:20241228T160944Z
LAST-MODIFIED:20241228T160944Z
UID:107503-1760259600-1760292000@klassikauto.pl
SUMMARY:Deutsche Autofest
DESCRIPTION:
URL:https://klassikauto.pl/impreza/deutsche-autofest-2/
LOCATION:Assen\, Holandia
CATEGORIES:Zlot
END:VEVENT
END:VCALENDAR
<!-- RunCloud Hub 2026-04-22 00:32:13 -->