BEGIN:VCALENDAR
VERSION:2.0
PRODID:-//KlassikAuto.pl - ECPv6.7.0//NONSGML v1.0//EN
CALSCALE:GREGORIAN
METHOD:PUBLISH
X-WR-CALNAME:KlassikAuto.pl
X-ORIGINAL-URL:https://klassikauto.pl
X-WR-CALDESC:Wydarzenia dla KlassikAuto.pl
REFRESH-INTERVAL;VALUE=DURATION:PT1H
X-Robots-Tag:noindex
X-PUBLISHED-TTL:PT1H
BEGIN:VTIMEZONE
TZID:Europe/Helsinki
BEGIN:DAYLIGHT
TZOFFSETFROM:+0200
TZOFFSETTO:+0300
TZNAME:EEST
DTSTART:20250330T010000
END:DAYLIGHT
BEGIN:STANDARD
TZOFFSETFROM:+0300
TZOFFSETTO:+0200
TZNAME:EET
DTSTART:20251026T010000
END:STANDARD
END:VTIMEZONE
BEGIN:VEVENT
DTSTART;TZID=Europe/Helsinki:20250615T140000
DTEND;TZID=Europe/Helsinki:20250803T140000
DTSTAMP:20260422T073738
CREATED:20250426T185359Z
LAST-MODIFIED:20250426T185359Z
UID:109952-1749996000-1754229600@klassikauto.pl
SUMMARY:I Zlot Klasyków nad jeziorem Mormin
DESCRIPTION:
URL:https://klassikauto.pl/impreza/i-zlot-klasykow-nad-jeziorem-mormin/
LOCATION:Ostroróg
CATEGORIES:Zlot
END:VEVENT
BEGIN:VEVENT
DTSTART;TZID=Europe/Helsinki:20250626T120000
DTEND;TZID=Europe/Helsinki:20250626T120000
DTSTAMP:20260422T073738
CREATED:20250426T085547Z
LAST-MODIFIED:20250426T085547Z
UID:109678-1750939200-1750939200@klassikauto.pl
SUMMARY:Ogólnopolski Zlot Karawaningu „Kozielsko 2025”
DESCRIPTION:
URL:https://klassikauto.pl/impreza/ogolnopolski-zlot-karawaningu-kozielsko-2025/
LOCATION:Kozielsko
CATEGORIES:Zlot
END:VEVENT
BEGIN:VEVENT
DTSTART;VALUE=DATE:20250627
DTEND;VALUE=DATE:20250629
DTSTAMP:20260422T073738
CREATED:20250301T111139Z
LAST-MODIFIED:20250301T111139Z
UID:108897-1750982400-1751155199@klassikauto.pl
SUMMARY:30. International Trucker & Cuntry Festival Interlaken 2025
DESCRIPTION:
URL:https://klassikauto.pl/impreza/30-international-trucker-cuntry-festival-interlaken-2025/
LOCATION:Interlaken\, Szwajcaria
CATEGORIES:Zlot
END:VEVENT
BEGIN:VEVENT
DTSTART;VALUE=DATE:20250627
DTEND;VALUE=DATE:20250630
DTSTAMP:20260422T073738
CREATED:20240728T161408Z
LAST-MODIFIED:20240728T161408Z
UID:104297-1750982400-1751241599@klassikauto.pl
SUMMARY:Summer Patrol by Cabrio Poland
DESCRIPTION:
URL:https://klassikauto.pl/impreza/summer-patrol-by-cabrio-poland/
LOCATION:Międzyzdroje
CATEGORIES:Zlot
END:VEVENT
BEGIN:VEVENT
DTSTART;TZID=Europe/Helsinki:20250627T080000
DTEND;TZID=Europe/Helsinki:20250831T170000
DTSTAMP:20260422T073738
CREATED:20241222T124416Z
LAST-MODIFIED:20241222T124731Z
UID:107161-1751011200-1756659600@klassikauto.pl
SUMMARY:Big in Japan
DESCRIPTION:
URL:https://klassikauto.pl/impreza/big-in-japan/
LOCATION:Museum Autoworld\, Bruksela\, Belgia
CATEGORIES:Wystawa
END:VEVENT
BEGIN:VEVENT
DTSTART;TZID=Europe/Helsinki:20250627T120000
DTEND;TZID=Europe/Helsinki:20250629T120000
DTSTAMP:20260422T073738
CREATED:20250608T111632Z
LAST-MODIFIED:20250608T111632Z
UID:110649-1751025600-1751198400@klassikauto.pl
SUMMARY:PohoFest 2025
DESCRIPTION:15. ročník srazu přátel vozidel Škoda
URL:https://klassikauto.pl/impreza/pohofest-2025/
LOCATION:Přepychy\, Czechy
CATEGORIES:Zlot
END:VEVENT
BEGIN:VEVENT
DTSTART;TZID=Europe/Helsinki:20250627T160000
DTEND;TZID=Europe/Helsinki:20250627T160000
DTSTAMP:20260422T073738
CREATED:20250608T112231Z
LAST-MODIFIED:20250608T112231Z
UID:110654-1751040000-1751040000@klassikauto.pl
SUMMARY:American Dream vol. 5
DESCRIPTION:
URL:https://klassikauto.pl/impreza/american-dream-vol-5/
LOCATION:Český Dub\, Czechy
CATEGORIES:Zlot
END:VEVENT
BEGIN:VEVENT
DTSTART;TZID=Europe/Helsinki:20250627T160000
DTEND;TZID=Europe/Helsinki:20250629T120000
DTSTAMP:20260422T073738
CREATED:20250330T104557Z
LAST-MODIFIED:20250330T104557Z
UID:109349-1751040000-1751198400@klassikauto.pl
SUMMARY:Fajer u Puklorzy #2
DESCRIPTION:
URL:https://klassikauto.pl/impreza/fajer-u-puklorzy-2/
LOCATION:Lubliniec Kokotek
CATEGORIES:Zlot
END:VEVENT
BEGIN:VEVENT
DTSTART;TZID=Europe/Helsinki:20250627T180000
DTEND;TZID=Europe/Helsinki:20250629T150000
DTSTAMP:20260422T073738
CREATED:20250531T084942Z
LAST-MODIFIED:20250531T084942Z
UID:110423-1751047200-1751209200@klassikauto.pl
SUMMARY:I Zlot Klasyków z PRL-u\, II Zlot Samochodów Mikrus
DESCRIPTION:
URL:https://klassikauto.pl/impreza/i-zlot-klasykow-z-prl-u-ii-zlot-samochodow-mikrus/
LOCATION:Dopiewo
CATEGORIES:Zlot
END:VEVENT
BEGIN:VEVENT
DTSTART;TZID=Europe/Helsinki:20250627T180000
DTEND;TZID=Europe/Helsinki:20250629T150000
DTSTAMP:20260422T073738
CREATED:20250531T112320Z
LAST-MODIFIED:20250531T112320Z
UID:110454-1751047200-1751209200@klassikauto.pl
SUMMARY:3 Bieszczadzkie Spotkanie Miłośników Dawnej Motoryzacji
DESCRIPTION:
URL:https://klassikauto.pl/impreza/3-bieszczadzkie-spotkanie-milosnikow-dawnej-motoryzacji/
LOCATION:Czarna Góra
CATEGORIES:Zlot
END:VEVENT
BEGIN:VEVENT
DTSTART;VALUE=DATE:20250628
DTEND;VALUE=DATE:20250704
DTSTAMP:20260422T073738
CREATED:20241226T104851Z
LAST-MODIFIED:20241226T104851Z
UID:107393-1751068800-1751587199@klassikauto.pl
SUMMARY:Europa Mountain Summit 2025
DESCRIPTION:Start: Salzburg\, Austria
URL:https://klassikauto.pl/impreza/europa-mountain-summit-2025/
LOCATION:Salzburg
CATEGORIES:Rajd
END:VEVENT
BEGIN:VEVENT
DTSTART;TZID=Europe/Helsinki:20250628T070000
DTEND;TZID=Europe/Helsinki:20250628T140000
DTSTAMP:20260422T073738
CREATED:20250426T150855Z
LAST-MODIFIED:20250426T150855Z
UID:109786-1751094000-1751119200@klassikauto.pl
SUMMARY:Veteranfest Slavkov 2025
DESCRIPTION:
URL:https://klassikauto.pl/impreza/veteranfest-slavkov-2025/
LOCATION:Slavkov u Brna\, Czechy
CATEGORIES:Zlot
END:VEVENT
BEGIN:VEVENT
DTSTART;TZID=Europe/Helsinki:20250628T080000
DTEND;TZID=Europe/Helsinki:20250628T080000
DTSTAMP:20260422T073738
CREATED:20250608T112013Z
LAST-MODIFIED:20250608T112013Z
UID:110652-1751097600-1751097600@klassikauto.pl
SUMMARY:XXXV ročník jízdy do vrchu Knovíz-Olšany
DESCRIPTION:
URL:https://klassikauto.pl/impreza/xxxv-rocnik-jizdy-do-vrchu-knoviz-olsany/
LOCATION:Knovíz – Olšany\, Czechy
CATEGORIES:Rajd
END:VEVENT
BEGIN:VEVENT
DTSTART;TZID=Europe/Helsinki:20250628T080000
DTEND;TZID=Europe/Helsinki:20250628T170000
DTSTAMP:20260422T073738
CREATED:20250426T084456Z
LAST-MODIFIED:20250426T084456Z
UID:109669-1751097600-1751130000@klassikauto.pl
SUMMARY:XVI Międzynarodowy Zlot Pojazdów Zabytkowych
DESCRIPTION:
URL:https://klassikauto.pl/impreza/xvi-miedzynarodowy-zlot-pojazdow-zabytkowych/
LOCATION:Zabełków
CATEGORIES:Zlot
END:VEVENT
BEGIN:VEVENT
DTSTART;TZID=Europe/Helsinki:20250628T080000
DTEND;TZID=Europe/Helsinki:20250629T180000
DTSTAMP:20260422T073738
CREATED:20250204T182052Z
LAST-MODIFIED:20250204T182052Z
UID:108289-1751097600-1751220000@klassikauto.pl
SUMMARY:2. Rally Sobótka 2025
DESCRIPTION:
URL:https://klassikauto.pl/impreza/2-rally-sobotka-2025/
LOCATION:Sobótka
CATEGORIES:Rajd
END:VEVENT
BEGIN:VEVENT
DTSTART;TZID=Europe/Helsinki:20250628T090000
DTEND;TZID=Europe/Helsinki:20250628T150000
DTSTAMP:20260422T073738
CREATED:20250531T063118Z
LAST-MODIFIED:20250531T063118Z
UID:110396-1751101200-1751122800@klassikauto.pl
SUMMARY:II Gminny Zlot Zabytków Motoryzacji i Papajów
DESCRIPTION:
URL:https://klassikauto.pl/impreza/ii-gminny-zlot-zabytkow-motoryzacji-i-papajow/
LOCATION:Skrzyszów
CATEGORIES:Zlot
END:VEVENT
BEGIN:VEVENT
DTSTART;TZID=Europe/Helsinki:20250628T100000
DTEND;TZID=Europe/Helsinki:20250628T100000
DTSTAMP:20260422T073738
CREATED:20250204T174327Z
LAST-MODIFIED:20250204T174327Z
UID:108248-1751104800-1751104800@klassikauto.pl
SUMMARY:Golf Valley “a journey across generations”
DESCRIPTION:
URL:https://klassikauto.pl/impreza/golf-valley-a-journey-across-generations/
LOCATION:Sułoszowa
CATEGORIES:Zlot
END:VEVENT
BEGIN:VEVENT
DTSTART;TZID=Europe/Helsinki:20250628T100000
DTEND;TZID=Europe/Helsinki:20250628T200000
DTSTAMP:20260422T073738
CREATED:20250406T081713Z
LAST-MODIFIED:20250406T081713Z
UID:109530-1751104800-1751140800@klassikauto.pl
SUMMARY:8 Zlot Pojazdów Zabytkowych i Motocykli ODJAZD Ząbki-Marki 2025
DESCRIPTION:
URL:https://klassikauto.pl/impreza/8-zlot-pojazdow-zabytkowych-i-motocykli-odjazd-zabki-marki-2025/
LOCATION:Białołęka
CATEGORIES:Zlot
END:VEVENT
BEGIN:VEVENT
DTSTART;TZID=Europe/Helsinki:20250628T100000
DTEND;TZID=Europe/Helsinki:20250629T170000
DTSTAMP:20260422T073738
CREATED:20250608T074802Z
LAST-MODIFIED:20250608T074802Z
UID:110570-1751104800-1751216400@klassikauto.pl
SUMMARY:Czerwcowy Moto Weteran Bazar 2025
DESCRIPTION:
URL:https://klassikauto.pl/impreza/czerwcowy-moto-weteran-bazar-2025/
LOCATION:Łódź
CATEGORIES:Aukcja,Giełda
END:VEVENT
BEGIN:VEVENT
DTSTART;TZID=Europe/Helsinki:20250628T100000
DTEND;TZID=Europe/Helsinki:20250629T180000
DTSTAMP:20260422T073738
CREATED:20250301T134051Z
LAST-MODIFIED:20250301T134051Z
UID:108913-1751104800-1751220000@klassikauto.pl
SUMMARY:The Cars are The Stars 2025
DESCRIPTION:
URL:https://klassikauto.pl/impreza/the-cars-are-the-stars-2025/
LOCATION:Germersheim\, Niemcy
CATEGORIES:Zlot
END:VEVENT
BEGIN:VEVENT
DTSTART;TZID=Europe/Helsinki:20250628T100000
DTEND;TZID=Europe/Helsinki:20250629T200000
DTSTAMP:20260422T073738
CREATED:20250608T074339Z
LAST-MODIFIED:20250608T074339Z
UID:110565-1751104800-1751227200@klassikauto.pl
SUMMARY:Wakacyjny Zlot – Ptak Outlet
DESCRIPTION:
URL:https://klassikauto.pl/impreza/wakacyjny-zlot-ptak-outlet/
LOCATION:Rzgów
CATEGORIES:Zlot
END:VEVENT
BEGIN:VEVENT
DTSTART;TZID=Europe/Helsinki:20250628T110000
DTEND;TZID=Europe/Helsinki:20250628T110000
DTSTAMP:20260422T073738
CREATED:20250223T152425Z
LAST-MODIFIED:20250223T152425Z
UID:108629-1751108400-1751108400@klassikauto.pl
SUMMARY:80-lecie Ochotniczej Straży Pożarnej Dobromierz - VII Dzień Otwarty
DESCRIPTION:
URL:https://klassikauto.pl/impreza/80-lecie-ochotniczej-strazy-pozarnej-dobromierz-vii-dzien-otwarty/
LOCATION:Dobromierz
CATEGORIES:Zlot
END:VEVENT
BEGIN:VEVENT
DTSTART;TZID=Europe/Helsinki:20250628T110000
DTEND;TZID=Europe/Helsinki:20250628T140000
DTSTAMP:20260422T073738
CREATED:20250531T114207Z
LAST-MODIFIED:20250531T114207Z
UID:110468-1751108400-1751119200@klassikauto.pl
SUMMARY:II Zlot Dużego Fiata i Klasyków PRL\, 34 lata od zakończenia produkcji Fiata 125p
DESCRIPTION:
URL:https://klassikauto.pl/impreza/ii-zlot-duzego-fiata-i-klasykow-prl-34-lata-od-zakonczenia-produkcji-fiata-125p/
LOCATION:Warszawa
CATEGORIES:Zlot
END:VEVENT
BEGIN:VEVENT
DTSTART;TZID=Europe/Helsinki:20250628T110000
DTEND;TZID=Europe/Helsinki:20250628T190000
DTSTAMP:20260422T073738
CREATED:20250531T115656Z
LAST-MODIFIED:20250531T115656Z
UID:110478-1751108400-1751137200@klassikauto.pl
SUMMARY:Auto Moto Show Stężyca 2025
DESCRIPTION:
URL:https://klassikauto.pl/impreza/auto-moto-show-stezyca-2025/
LOCATION:Stężyca
CATEGORIES:Zlot
END:VEVENT
BEGIN:VEVENT
DTSTART;TZID=Europe/Helsinki:20250628T120000
DTEND;TZID=Europe/Helsinki:20250628T120000
DTSTAMP:20260422T073738
CREATED:20250401T173152Z
LAST-MODIFIED:20250401T173152Z
UID:109449-1751112000-1751112000@klassikauto.pl
SUMMARY:III Rogoziński Zlot Motoryzacyjny
DESCRIPTION:
URL:https://klassikauto.pl/impreza/iii-rogozinski-zlot-motoryzacyjny/
LOCATION:Rogoźno
CATEGORIES:Zlot
END:VEVENT
BEGIN:VEVENT
DTSTART;TZID=Europe/Helsinki:20250628T120000
DTEND;TZID=Europe/Helsinki:20250628T180000
DTSTAMP:20260422T073738
CREATED:20250204T185400Z
LAST-MODIFIED:20250204T185400Z
UID:108313-1751112000-1751133600@klassikauto.pl
SUMMARY:Club de Ultrace 2025 – Running from nothing
DESCRIPTION:
URL:https://klassikauto.pl/impreza/club-de-ultrace-2025-running-from-nothing/
LOCATION:Wrocław\, Wrocław\, Poland
CATEGORIES:Zlot
END:VEVENT
BEGIN:VEVENT
DTSTART;TZID=Europe/Helsinki:20250629T080000
DTEND;TZID=Europe/Helsinki:20250629T080000
DTSTAMP:20260422T073738
CREATED:20250529T180458Z
LAST-MODIFIED:20250529T180458Z
UID:110374-1751184000-1751184000@klassikauto.pl
SUMMARY:IV Ogólnopolski Rajd Cinquecento 2025
DESCRIPTION:
URL:https://klassikauto.pl/impreza/iv-ogolnopolski-rajd-cinquecento-2025/
LOCATION:Mysłowice
CATEGORIES:Rajd
END:VEVENT
BEGIN:VEVENT
DTSTART;TZID=Europe/Helsinki:20250629T090000
DTEND;TZID=Europe/Helsinki:20250629T090000
DTSTAMP:20260422T073738
CREATED:20250608T112528Z
LAST-MODIFIED:20250608T112528Z
UID:110656-1751187600-1751187600@klassikauto.pl
SUMMARY:XVI Zlot Pojazdów Zabytkowych Mrowisko 2025
DESCRIPTION:
URL:https://klassikauto.pl/impreza/xvi-zlot-pojazdow-zabytkowych-mrowisko-2025/
LOCATION:Siedlce
CATEGORIES:Zlot
END:VEVENT
BEGIN:VEVENT
DTSTART;TZID=Europe/Helsinki:20250629T090000
DTEND;TZID=Europe/Helsinki:20250629T170000
DTSTAMP:20260422T073738
CREATED:20250301T105924Z
LAST-MODIFIED:20250301T105924Z
UID:108887-1751187600-1751216400@klassikauto.pl
SUMMARY:US-CAR Meeting Sulgen SULGEN 2025
DESCRIPTION:
URL:https://klassikauto.pl/impreza/us-car-meeting-sulgen-sulgen-2025/
LOCATION:Sulgen\, Szwajcaria
CATEGORIES:Zlot
END:VEVENT
BEGIN:VEVENT
DTSTART;TZID=Europe/Helsinki:20250629T090000
DTEND;TZID=Europe/Helsinki:20250629T180000
DTSTAMP:20260422T073738
CREATED:20241228T072758Z
LAST-MODIFIED:20241228T072758Z
UID:107407-1751187600-1751220000@klassikauto.pl
SUMMARY:III Rajd pojazdów zabytkowych Krainy Wygasłych Wulkanów
DESCRIPTION:
URL:https://klassikauto.pl/impreza/iii-rajd-pojazdow-zabytkowych-krainy-wygaslych-wulkanow/
LOCATION:Świerzawa
CATEGORIES:Rajd
END:VEVENT
END:VCALENDAR
<!-- RunCloud Hub 2026-04-22 06:37:38 -->