BEGIN:VCALENDAR
VERSION:2.0
PRODID:-//KlassikAuto.pl - ECPv6.7.0//NONSGML v1.0//EN
CALSCALE:GREGORIAN
METHOD:PUBLISH
X-WR-CALNAME:KlassikAuto.pl
X-ORIGINAL-URL:https://klassikauto.pl
X-WR-CALDESC:Wydarzenia dla KlassikAuto.pl
REFRESH-INTERVAL;VALUE=DURATION:PT1H
X-Robots-Tag:noindex
X-PUBLISHED-TTL:PT1H
BEGIN:VTIMEZONE
TZID:Europe/Helsinki
BEGIN:DAYLIGHT
TZOFFSETFROM:+0200
TZOFFSETTO:+0300
TZNAME:EEST
DTSTART:20250330T010000
END:DAYLIGHT
BEGIN:STANDARD
TZOFFSETFROM:+0300
TZOFFSETTO:+0200
TZNAME:EET
DTSTART:20251026T010000
END:STANDARD
END:VTIMEZONE
BEGIN:VEVENT
DTSTART;TZID=Europe/Helsinki:20250413T140000
DTEND;TZID=Europe/Helsinki:20250427T140000
DTSTAMP:20260422T115942
CREATED:20250330T114955Z
LAST-MODIFIED:20250330T114955Z
UID:109384-1744552800-1745762400@klassikauto.pl
SUMMARY:Otwarcie Sezonu Motoryzacyjnego 2025
DESCRIPTION:
URL:https://klassikauto.pl/impreza/otwarcie-sezonu-motoryzacyjnego-2025/
LOCATION:Ostrowiec Świętokrzyski
CATEGORIES:Zlot
END:VEVENT
BEGIN:VEVENT
DTSTART;TZID=Europe/Helsinki:20250424T100000
DTEND;TZID=Europe/Helsinki:20250427T180000
DTSTAMP:20260422T115942
CREATED:20240812T161456Z
LAST-MODIFIED:20240812T161456Z
UID:104620-1745488800-1745776800@klassikauto.pl
SUMMARY:Poznań Motor Show 2025
DESCRIPTION:
URL:https://klassikauto.pl/impreza/poznan-motor-show-2025/
LOCATION:Poznań
CATEGORIES:Targi
END:VEVENT
BEGIN:VEVENT
DTSTART;VALUE=DATE:20250425
DTEND;VALUE=DATE:20250428
DTSTAMP:20260422T115942
CREATED:20250301T145806Z
LAST-MODIFIED:20250301T145806Z
UID:108945-1745539200-1745798399@klassikauto.pl
SUMMARY:53. Rajd Świdnicki
DESCRIPTION:1 runda RSMP\, 1 runda HRSMP
URL:https://klassikauto.pl/impreza/53-rajd-swidnicki/
LOCATION:Świdnica
CATEGORIES:Rajd
END:VEVENT
BEGIN:VEVENT
DTSTART;TZID=Europe/Helsinki:20250425T080000
DTEND;TZID=Europe/Helsinki:20250622T170000
DTSTAMP:20260422T115942
CREATED:20241222T124228Z
LAST-MODIFIED:20241222T124228Z
UID:107158-1745568000-1750611600@klassikauto.pl
SUMMARY:Citroën DS – An Icon Turns 70
DESCRIPTION:
URL:https://klassikauto.pl/impreza/citroen-ds-an-icon-turns-70/
LOCATION:Museum Autoworld\, Bruksela\, Belgia
CATEGORIES:Wystawa
END:VEVENT
BEGIN:VEVENT
DTSTART;TZID=Europe/Helsinki:20250425T100000
DTEND;TZID=Europe/Helsinki:20250427T150000
DTSTAMP:20260422T115942
CREATED:20250406T093248Z
LAST-MODIFIED:20250406T093248Z
UID:109581-1745575200-1745766000@klassikauto.pl
SUMMARY:Camper & Travel – Targi Caravaningu i Turystyki Aktywnej
DESCRIPTION:
URL:https://klassikauto.pl/impreza/camper-travel-targi-caravaningu-i-turystyki-aktywnej/
LOCATION:Kielce
CATEGORIES:Targi
END:VEVENT
BEGIN:VEVENT
DTSTART;TZID=Europe/Helsinki:20250425T100000
DTEND;TZID=Europe/Helsinki:20250427T170000
DTSTAMP:20260422T115942
CREATED:20250301T100846Z
LAST-MODIFIED:20250301T100846Z
UID:108855-1745575200-1745773200@klassikauto.pl
SUMMARY:Veterama Hockenheim Ring
DESCRIPTION:
URL:https://klassikauto.pl/impreza/veterama-hockenheim-ring/
LOCATION:Hockenheim\, Germany
CATEGORIES:Rajd
END:VEVENT
BEGIN:VEVENT
DTSTART;TZID=Europe/Helsinki:20250425T110000
DTEND;TZID=Europe/Helsinki:20250427T150000
DTSTAMP:20260422T115942
CREATED:20250406T093025Z
LAST-MODIFIED:20250406T093025Z
UID:109578-1745578800-1745766000@klassikauto.pl
SUMMARY:XIX Wiosenny Zlot CamperMajstrów
DESCRIPTION:
URL:https://klassikauto.pl/impreza/xix-wiosenny-zlot-campermajstrow/
LOCATION:Dłużek
CATEGORIES:Zlot
END:VEVENT
BEGIN:VEVENT
DTSTART;VALUE=DATE:20250426
DTEND;VALUE=DATE:20250428
DTSTAMP:20260422T115942
CREATED:20250401T175712Z
LAST-MODIFIED:20250401T175712Z
UID:109459-1745625600-1745798399@klassikauto.pl
SUMMARY:Ferdinandova jízda. 6. ročník
DESCRIPTION:
URL:https://klassikauto.pl/impreza/ferdinandova-jizda-6-rocnik/
LOCATION:Okrouhlice\, Czechy
CATEGORIES:Rajd
END:VEVENT
BEGIN:VEVENT
DTSTART;TZID=Europe/Helsinki:20250426T100000
DTEND;TZID=Europe/Helsinki:20250427T170000
DTSTAMP:20260422T115942
CREATED:20250330T102823Z
LAST-MODIFIED:20250330T102823Z
UID:109338-1745661600-1745773200@klassikauto.pl
SUMMARY:Automobilové klenoty – 5. rocznik
DESCRIPTION:
URL:https://klassikauto.pl/impreza/automobilove-klenoty-5-rocznik/
LOCATION:Praga\, Czechy
CATEGORIES:Targi
END:VEVENT
BEGIN:VEVENT
DTSTART;TZID=Europe/Helsinki:20250426T100000
DTEND;TZID=Europe/Helsinki:20250427T180000
DTSTAMP:20260422T115942
CREATED:20241225T100739Z
LAST-MODIFIED:20241225T100739Z
UID:107318-1745661600-1745776800@klassikauto.pl
SUMMARY:MYLE Festival Zürich
DESCRIPTION:
URL:https://klassikauto.pl/impreza/myle-festival-zurich/
LOCATION:Zurich\, Szwajcaria
CATEGORIES:Zlot
END:VEVENT
BEGIN:VEVENT
DTSTART;VALUE=DATE:20250427
DTEND;VALUE=DATE:20250428
DTSTAMP:20260422T115942
CREATED:20241228T170740Z
LAST-MODIFIED:20241228T170740Z
UID:107533-1745712000-1745798399@klassikauto.pl
SUMMARY:Ultimate BMW Meet
DESCRIPTION:
URL:https://klassikauto.pl/impreza/ultimate-bmw-meet-2/
LOCATION:Gaydon\, Wielka Brytania
CATEGORIES:Zlot
END:VEVENT
BEGIN:VEVENT
DTSTART;TZID=Europe/Helsinki:20250427T080000
DTEND;TZID=Europe/Helsinki:20250427T190000
DTSTAMP:20260422T115942
CREATED:20250427T063920Z
LAST-MODIFIED:20250427T063920Z
UID:110000-1745740800-1745780400@klassikauto.pl
SUMMARY:Rozpoczęcie Sezonu 2025 z Klasycznym Szczecinem
DESCRIPTION:
URL:https://klassikauto.pl/impreza/rozpoczecie-sezonu-2025-z-klasycznym-szczecinem/
LOCATION:Szczecin
CATEGORIES:Zlot
END:VEVENT
BEGIN:VEVENT
DTSTART;TZID=Europe/Helsinki:20250427T090000
DTEND;TZID=Europe/Helsinki:20250427T090000
DTSTAMP:20260422T115942
CREATED:20250225T194352Z
LAST-MODIFIED:20250225T194411Z
UID:108780-1745744400-1745744400@klassikauto.pl
SUMMARY:Wiosenny Cruising - Turystyczny rajd pojazdów zabytkowych i yountimerów
DESCRIPTION:
URL:https://klassikauto.pl/impreza/wiosenny-cruising-turystyczny-rajd-pojazdow-zabytkowych-i-yountimerow/
LOCATION:Wrocław\, Wrocław\, Poland
CATEGORIES:Rajd
END:VEVENT
BEGIN:VEVENT
DTSTART;TZID=Europe/Helsinki:20250427T090000
DTEND;TZID=Europe/Helsinki:20250427T160000
DTSTAMP:20260422T115942
CREATED:20250426T171439Z
LAST-MODIFIED:20250426T171439Z
UID:109890-1745744400-1745769600@klassikauto.pl
SUMMARY:Wiosenne Spotkanie Audi Klub Polska
DESCRIPTION:
URL:https://klassikauto.pl/impreza/wiosenne-spotkanie-audi-klub-polska/
LOCATION:Poznań
CATEGORIES:Zlot
END:VEVENT
BEGIN:VEVENT
DTSTART;TZID=Europe/Helsinki:20250427T100000
DTEND;TZID=Europe/Helsinki:20250427T100000
DTSTAMP:20260422T115942
CREATED:20250204T192129Z
LAST-MODIFIED:20250204T192129Z
UID:108335-1745748000-1745748000@klassikauto.pl
SUMMARY:Piknik z Klasykami 2025
DESCRIPTION:
URL:https://klassikauto.pl/impreza/piknik-z-klasykami-2025/
LOCATION:Skierniewice
CATEGORIES:Zlot
END:VEVENT
BEGIN:VEVENT
DTSTART;TZID=Europe/Helsinki:20250427T100000
DTEND;TZID=Europe/Helsinki:20250427T100000
DTSTAMP:20260422T115942
CREATED:20250426T145948Z
LAST-MODIFIED:20250426T145948Z
UID:109778-1745748000-1745748000@klassikauto.pl
SUMMARY:Klassikertreffen auf Rudi´s Wiese & Opel Manta\, Opel Ascona Treffen
DESCRIPTION:
URL:https://klassikauto.pl/impreza/klassikertreffen-auf-rudis-wiese-opel-manta-opel-ascona-treffen/
LOCATION:Marl\, Niemcy
CATEGORIES:Zlot
END:VEVENT
BEGIN:VEVENT
DTSTART;TZID=Europe/Helsinki:20250427T100000
DTEND;TZID=Europe/Helsinki:20250427T150000
DTSTAMP:20260422T115942
CREATED:20250330T113909Z
LAST-MODIFIED:20250330T113909Z
UID:109376-1745748000-1745766000@klassikauto.pl
SUMMARY:VIII Retro Zlot na pchlim targu w Kętach
DESCRIPTION:
URL:https://klassikauto.pl/impreza/viii-retro-zlot-na-pchlim-targu-w-ketach/
LOCATION:Kęty
CATEGORIES:Zlot
END:VEVENT
BEGIN:VEVENT
DTSTART;TZID=Europe/Helsinki:20250427T100000
DTEND;TZID=Europe/Helsinki:20250427T160000
DTSTAMP:20260422T115942
CREATED:20241225T101141Z
LAST-MODIFIED:20241225T101141Z
UID:107322-1745748000-1745769600@klassikauto.pl
SUMMARY:Motortreff Saisonauftakt
DESCRIPTION:
URL:https://klassikauto.pl/impreza/motortreff-saisonauftakt/
LOCATION:Monachium\, Niemcy
CATEGORIES:Zlot
END:VEVENT
BEGIN:VEVENT
DTSTART;TZID=Europe/Helsinki:20250427T100000
DTEND;TZID=Europe/Helsinki:20250427T160000
DTSTAMP:20260422T115942
CREATED:20250406T082926Z
LAST-MODIFIED:20250406T082926Z
UID:109540-1745748000-1745769600@klassikauto.pl
SUMMARY:Otwarcie Sezonu LKN 2025 Łuków
DESCRIPTION:
URL:https://klassikauto.pl/impreza/otwarcie-sezonu-lkn-2025-lukow/
LOCATION:Łuków
CATEGORIES:Zlot
END:VEVENT
BEGIN:VEVENT
DTSTART;TZID=Europe/Helsinki:20250427T100000
DTEND;TZID=Europe/Helsinki:20250427T180000
DTSTAMP:20260422T115942
CREATED:20241229T123918Z
LAST-MODIFIED:20241229T123918Z
UID:107679-1745748000-1745776800@klassikauto.pl
SUMMARY:Rozpoczęcie Sezonu Motoryzacyjnego - Moto Festival
DESCRIPTION:
URL:https://klassikauto.pl/impreza/rozpoczecie-sezonu-motoryzacyjnego-moto-festival-2/
LOCATION:Olsztyn
CATEGORIES:Zlot
END:VEVENT
BEGIN:VEVENT
DTSTART;TZID=Europe/Helsinki:20250427T110000
DTEND;TZID=Europe/Helsinki:20250427T140000
DTSTAMP:20260422T115942
CREATED:20250401T170942Z
LAST-MODIFIED:20250401T170942Z
UID:109426-1745751600-1745762400@klassikauto.pl
SUMMARY:Radomskie Klasyki przed Elektrownią
DESCRIPTION:
URL:https://klassikauto.pl/impreza/radomskie-klasyki-przed-elektrownia/
LOCATION:Radom
CATEGORIES:Zlot
END:VEVENT
BEGIN:VEVENT
DTSTART;TZID=Europe/Helsinki:20250427T110000
DTEND;TZID=Europe/Helsinki:20250427T150000
DTSTAMP:20260422T115942
CREATED:20241225T101019Z
LAST-MODIFIED:20241225T101019Z
UID:107320-1745751600-1745766000@klassikauto.pl
SUMMARY:Oldtimertreff OPENING
DESCRIPTION:
URL:https://klassikauto.pl/impreza/oldtimertreff-opening/
LOCATION:Herten\, Niemcy
CATEGORIES:Zlot
END:VEVENT
BEGIN:VEVENT
DTSTART;TZID=Europe/Helsinki:20250427T110000
DTEND;TZID=Europe/Helsinki:20250427T163000
DTSTAMP:20260422T115942
CREATED:20250301T093037Z
LAST-MODIFIED:20250301T093037Z
UID:108829-1745751600-1745771400@klassikauto.pl
SUMMARY:Rozpoczęcie sezonu motocyklowego 2025 z Moto Żywiec
DESCRIPTION:
URL:https://klassikauto.pl/impreza/rozpoczecie-sezonu-motocyklowego-2025-z-moto-zywiec/
LOCATION:Żywiec
CATEGORIES:Zlot
END:VEVENT
BEGIN:VEVENT
DTSTART;TZID=Europe/Helsinki:20250427T120000
DTEND;TZID=Europe/Helsinki:20250427T120000
DTSTAMP:20260422T115942
CREATED:20250401T175438Z
LAST-MODIFIED:20250401T175438Z
UID:109457-1745755200-1745755200@klassikauto.pl
SUMMARY:VII Zlot Pojazdów Klasycznych w Browarze Turek\, Klasyczny Piknik 2025
DESCRIPTION:
URL:https://klassikauto.pl/impreza/vii-zlot-pojazdow-klasycznych-w-browarze-turek-klasyczny-piknik-2025/
LOCATION:Turek
CATEGORIES:Zlot
END:VEVENT
BEGIN:VEVENT
DTSTART;TZID=Europe/Helsinki:20250427T120000
DTEND;TZID=Europe/Helsinki:20250427T190000
DTSTAMP:20260422T115942
CREATED:20250223T145022Z
LAST-MODIFIED:20250223T145022Z
UID:108609-1745755200-1745780400@klassikauto.pl
SUMMARY:MCB Charity Show 2k25
DESCRIPTION:
URL:https://klassikauto.pl/impreza/mcb-charity-show-2k25/
LOCATION:Opatów
CATEGORIES:Zlot
END:VEVENT
BEGIN:VEVENT
DTSTART;TZID=Europe/Helsinki:20250427T130000
DTEND;TZID=Europe/Helsinki:20250427T130000
DTSTAMP:20260422T115942
CREATED:20250223T144204Z
LAST-MODIFIED:20250223T144204Z
UID:108598-1745758800-1745758800@klassikauto.pl
SUMMARY:Klasyki na Brzozowskim Rynku
DESCRIPTION:
URL:https://klassikauto.pl/impreza/klasyki-na-brzozowskim-rynku/
LOCATION:Brzozów
CATEGORIES:Zlot
END:VEVENT
BEGIN:VEVENT
DTSTART;TZID=Europe/Helsinki:20250427T130000
DTEND;TZID=Europe/Helsinki:20250427T130000
DTSTAMP:20260422T115942
CREATED:20250401T170641Z
LAST-MODIFIED:20250401T170641Z
UID:109424-1745758800-1745758800@klassikauto.pl
SUMMARY:Lunch z Mercedesem - zlot fanów marki Mercedes-Benz
DESCRIPTION:
URL:https://klassikauto.pl/impreza/lunch-z-mercedesem-zlot-fanow-marki-mercedes-benz/
LOCATION:Kraków
CATEGORIES:Zlot
END:VEVENT
BEGIN:VEVENT
DTSTART;TZID=Europe/Helsinki:20250427T130000
DTEND;TZID=Europe/Helsinki:20250427T160000
DTSTAMP:20260422T115942
CREATED:20250401T171303Z
LAST-MODIFIED:20260307T072631Z
UID:109430-1745758800-1745769600@klassikauto.pl
SUMMARY:Rozpoczęcie sezonu pojazdów zabytkowych
DESCRIPTION:
URL:https://klassikauto.pl/impreza/rozpoczecie-sezonu-pojazdow-zabytkowych/
LOCATION:Reńska Wieś
CATEGORIES:Zlot
END:VEVENT
BEGIN:VEVENT
DTSTART;TZID=Europe/Helsinki:20250427T130000
DTEND;TZID=Europe/Helsinki:20250427T170000
DTSTAMP:20260422T115942
CREATED:20250223T142855Z
LAST-MODIFIED:20250223T142855Z
UID:108578-1745758800-1745773200@klassikauto.pl
SUMMARY:KlasykStart 3.0
DESCRIPTION:
URL:https://klassikauto.pl/impreza/klasykstart-3-0/
LOCATION:Wiśniowa
CATEGORIES:Zlot
END:VEVENT
BEGIN:VEVENT
DTSTART;TZID=Europe/Helsinki:20250427T140000
DTEND;TZID=Europe/Helsinki:20250427T140000
DTSTAMP:20260422T115942
CREATED:20250330T113154Z
LAST-MODIFIED:20250330T113154Z
UID:109369-1745762400-1745762400@klassikauto.pl
SUMMARY:Ognisko na rozpoczęcie sezonu
DESCRIPTION:Rezerwat Kwiatówka
URL:https://klassikauto.pl/impreza/ognisko-na-rozpoczecie-sezonu/
LOCATION:Książ Wielki
CATEGORIES:Zlot
END:VEVENT
END:VCALENDAR
<!-- RunCloud Hub 2026-04-22 10:59:42 -->