BEGIN:VCALENDAR
VERSION:2.0
PRODID:-//KlassikAuto.pl - ECPv6.7.0//NONSGML v1.0//EN
CALSCALE:GREGORIAN
METHOD:PUBLISH
X-WR-CALNAME:KlassikAuto.pl
X-ORIGINAL-URL:https://klassikauto.pl
X-WR-CALDESC:Wydarzenia dla KlassikAuto.pl
REFRESH-INTERVAL;VALUE=DURATION:PT1H
X-Robots-Tag:noindex
X-PUBLISHED-TTL:PT1H
BEGIN:VTIMEZONE
TZID:Europe/Helsinki
BEGIN:DAYLIGHT
TZOFFSETFROM:+0200
TZOFFSETTO:+0300
TZNAME:EEST
DTSTART:20250330T010000
END:DAYLIGHT
BEGIN:STANDARD
TZOFFSETFROM:+0300
TZOFFSETTO:+0200
TZNAME:EET
DTSTART:20251026T010000
END:STANDARD
END:VTIMEZONE
BEGIN:VEVENT
DTSTART;TZID=Europe/Helsinki:20250228T080000
DTEND;TZID=Europe/Helsinki:20250420T170000
DTSTAMP:20260422T135428
CREATED:20241222T124048Z
LAST-MODIFIED:20241222T124048Z
UID:107156-1740729600-1745168400@klassikauto.pl
SUMMARY:Rally Legends - From Dust to Glory
DESCRIPTION:
URL:https://klassikauto.pl/impreza/rally-legends-from-dust-to-glory/
LOCATION:Museum Autoworld\, Bruksela\, Belgia
CATEGORIES:Wystawa
END:VEVENT
BEGIN:VEVENT
DTSTART;TZID=Europe/Helsinki:20250312T080000
DTEND;TZID=Europe/Helsinki:20250316T170000
DTSTAMP:20260422T135428
CREATED:20241229T105507Z
LAST-MODIFIED:20241229T105507Z
UID:107623-1741766400-1742144400@klassikauto.pl
SUMMARY:Coppa delle Alpi 2025
DESCRIPTION:
URL:https://klassikauto.pl/impreza/coppa-delle-alpi-2025/
LOCATION:Włochy
CATEGORIES:Rajd
END:VEVENT
BEGIN:VEVENT
DTSTART;TZID=Europe/Helsinki:20250314T140000
DTEND;TZID=Europe/Helsinki:20250314T180000
DTSTAMP:20260422T135428
CREATED:20241229T112258Z
LAST-MODIFIED:20241229T112522Z
UID:107642-1741960800-1741975200@klassikauto.pl
SUMMARY:#2 Antwerp Collection Cars - Classic Salon
DESCRIPTION:
URL:https://klassikauto.pl/impreza/2-antwerp-collection-cars-classic-salon/
LOCATION:Antwerpia\, Belgia
CATEGORIES:Targi
END:VEVENT
BEGIN:VEVENT
DTSTART;VALUE=DATE:20250315
DTEND;VALUE=DATE:20250316
DTSTAMP:20260422T135428
CREATED:20250301T144329Z
LAST-MODIFIED:20250301T144329Z
UID:108938-1741996800-1742083199@klassikauto.pl
SUMMARY:Burza Nupaky
DESCRIPTION:
URL:https://klassikauto.pl/impreza/burza-nupaky/
LOCATION:Nupaky\, Czehcy
CATEGORIES:Aukcja
END:VEVENT
BEGIN:VEVENT
DTSTART;TZID=Europe/Helsinki:20250315T090000
DTEND;TZID=Europe/Helsinki:20250315T090000
DTSTAMP:20260422T135428
CREATED:20250301T142747Z
LAST-MODIFIED:20250301T142747Z
UID:108932-1742029200-1742029200@klassikauto.pl
SUMMARY:WWTECH SUPEROES 2025 III\, runda II
DESCRIPTION:
URL:https://klassikauto.pl/impreza/wwtech-superoes-2025-iii-runda-ii/
LOCATION:Miedziana Góra
CATEGORIES:Rajd
END:VEVENT
BEGIN:VEVENT
DTSTART;TZID=Europe/Helsinki:20250315T100000
DTEND;TZID=Europe/Helsinki:20250316T210000
DTSTAMP:20260422T135428
CREATED:20250301T145428Z
LAST-MODIFIED:20250301T145428Z
UID:108943-1742032800-1742158800@klassikauto.pl
SUMMARY:50. Rajd Monte Karlino - Ogólnopolski Rajd Samochodowy
DESCRIPTION:
URL:https://klassikauto.pl/impreza/50-rajd-monte-karlino-ogolnopolski-rajd-samochodowy/
LOCATION:Karlino
CATEGORIES:Rajd
END:VEVENT
BEGIN:VEVENT
DTSTART;VALUE=DATE:20250316
DTEND;VALUE=DATE:20250317
DTSTAMP:20260422T135428
CREATED:20250301T144450Z
LAST-MODIFIED:20250301T144450Z
UID:108941-1742083200-1742169599@klassikauto.pl
SUMMARY:Auto moto burza Svitavy
DESCRIPTION:
URL:https://klassikauto.pl/impreza/auto-moto-burza-svitavy-4/
LOCATION:Svitavy\, Czechy
CATEGORIES:Aukcja
END:VEVENT
BEGIN:VEVENT
DTSTART;TZID=Europe/Helsinki:20250316T073000
DTEND;TZID=Europe/Helsinki:20250316T173000
DTSTAMP:20260422T135428
CREATED:20250225T192741Z
LAST-MODIFIED:20250225T192741Z
UID:108766-1742110200-1742146200@klassikauto.pl
SUMMARY:I Runda Classicauto Cup 2025\, Silesia Ring
DESCRIPTION:
URL:https://klassikauto.pl/impreza/i-runda-classicauto-cup-2025-silesia-ring/
LOCATION:Kamień Śląski
CATEGORIES:Rajd
END:VEVENT
BEGIN:VEVENT
DTSTART;TZID=Europe/Helsinki:20250316T080000
DTEND;TZID=Europe/Helsinki:20250316T160000
DTSTAMP:20260422T135428
CREATED:20250223T151220Z
LAST-MODIFIED:20250223T151220Z
UID:108615-1742112000-1742140800@klassikauto.pl
SUMMARY:Jelenie Wraki 36 „Nowy Sezon”
DESCRIPTION:
URL:https://klassikauto.pl/impreza/jelenie-wraki-36-nowy-sezon/
LOCATION:Jelenia Góra
CATEGORIES:Zlot
END:VEVENT
BEGIN:VEVENT
DTSTART;TZID=Europe/Helsinki:20250316T100000
DTEND;TZID=Europe/Helsinki:20250316T150000
DTSTAMP:20260422T135428
CREATED:20250223T103614Z
LAST-MODIFIED:20250223T103614Z
UID:108564-1742119200-1742137200@klassikauto.pl
SUMMARY:Youngtimer Giełda
DESCRIPTION:Wielka wyprzedaż garażowa części\, akcesoriów i literatury w NEO Garage
URL:https://klassikauto.pl/impreza/youngtimer-gielda/
LOCATION:Ursus
CATEGORIES:Giełda
END:VEVENT
BEGIN:VEVENT
DTSTART;VALUE=DATE:20250321
DTEND;VALUE=DATE:20250324
DTSTAMP:20260422T135428
CREATED:20250204T180059Z
LAST-MODIFIED:20250204T180059Z
UID:108260-1742515200-1742774399@klassikauto.pl
SUMMARY:Camper & Caravan Show 2025
DESCRIPTION:
URL:https://klassikauto.pl/impreza/camper-caravan-show-2025/
LOCATION:Nadarzyn k/Warszawy
CATEGORIES:Targi
END:VEVENT
BEGIN:VEVENT
DTSTART;VALUE=DATE:20250322
DTEND;VALUE=DATE:20250323
DTSTAMP:20260422T135428
CREATED:20241223T092102Z
LAST-MODIFIED:20241223T092102Z
UID:107258-1742601600-1742687999@klassikauto.pl
SUMMARY:SUPEROES 2025\, IV Runda
DESCRIPTION:
URL:https://klassikauto.pl/impreza/superoes-2025-iv-runda/
LOCATION:Poznań
CATEGORIES:Rajd
END:VEVENT
BEGIN:VEVENT
DTSTART;VALUE=DATE:20250322
DTEND;VALUE=DATE:20250324
DTSTAMP:20260422T135428
CREATED:20241228T075008Z
LAST-MODIFIED:20241228T075025Z
UID:107420-1742601600-1742774399@klassikauto.pl
SUMMARY:Autojumble Luxembourg 2025 – all things classic
DESCRIPTION:
URL:https://klassikauto.pl/impreza/autojumble-luxembourg-2025-all-things-classic-2/
LOCATION:Luksemburg
CATEGORIES:Targi
END:VEVENT
BEGIN:VEVENT
DTSTART;TZID=Europe/Helsinki:20250322T090000
DTEND;TZID=Europe/Helsinki:20250322T090000
DTSTAMP:20260422T135428
CREATED:20250225T200720Z
LAST-MODIFIED:20250225T200720Z
UID:108800-1742634000-1742634000@klassikauto.pl
SUMMARY:Wiosenny Rozruch Retro Grupy
DESCRIPTION:
URL:https://klassikauto.pl/impreza/wiosenny-rozruch-retro-grupy/
LOCATION:Kęty
CATEGORIES:Zlot
END:VEVENT
BEGIN:VEVENT
DTSTART;TZID=Europe/Helsinki:20250322T100000
DTEND;TZID=Europe/Helsinki:20250323T170000
DTSTAMP:20260422T135428
CREATED:20240929T085023Z
LAST-MODIFIED:20240929T085104Z
UID:105551-1742637600-1742749200@klassikauto.pl
SUMMARY:Wrocław Oldtimer Show 2025
DESCRIPTION:Wystawa Motocykli Zabytkowych w Hali Stulecia
URL:https://klassikauto.pl/impreza/wroclaw-oldtimer-show-2025/
LOCATION:Wrocław\, Wrocław\, Poland
CATEGORIES:Wystawa
END:VEVENT
BEGIN:VEVENT
DTSTART;TZID=Europe/Helsinki:20250322T100000
DTEND;TZID=Europe/Helsinki:20250323T170000
DTSTAMP:20260422T135428
CREATED:20240929T085234Z
LAST-MODIFIED:20240929T085234Z
UID:105553-1742637600-1742749200@klassikauto.pl
SUMMARY:Wrocław Motorcycle Show 2025
DESCRIPTION:Targi motocyklowe
URL:https://klassikauto.pl/impreza/wroclaw-motorcycle-show-2025/
LOCATION:Wrocław\, Wrocław\, Poland
CATEGORIES:Targi
END:VEVENT
BEGIN:VEVENT
DTSTART;TZID=Europe/Helsinki:20250322T110000
DTEND;TZID=Europe/Helsinki:20250322T110000
DTSTAMP:20260422T135428
CREATED:20250223T154752Z
LAST-MODIFIED:20250223T154752Z
UID:108658-1742641200-1742641200@klassikauto.pl
SUMMARY:Motomarzanna 2025 z X-moto i Team Xtreme
DESCRIPTION:
URL:https://klassikauto.pl/impreza/motomarzanna-2025-z-x-moto-i-team-xtreme/
LOCATION:Iława
CATEGORIES:Zlot
END:VEVENT
BEGIN:VEVENT
DTSTART;TZID=Europe/Helsinki:20250322T123000
DTEND;TZID=Europe/Helsinki:20250322T123000
DTSTAMP:20260422T135428
CREATED:20250223T152921Z
LAST-MODIFIED:20250223T152921Z
UID:108634-1742646600-1742646600@klassikauto.pl
SUMMARY:Motocyklowa Marzanna 2025 Dębki
DESCRIPTION:
URL:https://klassikauto.pl/impreza/motocyklowa-marzanna-2025-debki/
LOCATION:Krokowa
CATEGORIES:Zlot
END:VEVENT
BEGIN:VEVENT
DTSTART;TZID=Europe/Helsinki:20250322T133000
DTEND;TZID=Europe/Helsinki:20250322T133000
DTSTAMP:20260422T135428
CREATED:20241222T141423Z
LAST-MODIFIED:20241222T141423Z
UID:107218-1742650200-1742650200@klassikauto.pl
SUMMARY:Aukcja\, Klassischer Automobile & Motorräder
DESCRIPTION:
URL:https://klassikauto.pl/impreza/aukcja-klassischer-automobile-motorrader/
LOCATION:Toffen\, Szwajcaria
CATEGORIES:Aukcja
END:VEVENT
BEGIN:VEVENT
DTSTART;VALUE=DATE:20250323
DTEND;VALUE=DATE:20250324
DTSTAMP:20260422T135428
CREATED:20241228T080100Z
LAST-MODIFIED:20241228T080100Z
UID:107429-1742688000-1742774399@klassikauto.pl
SUMMARY:AutoMadness Assen
DESCRIPTION:
URL:https://klassikauto.pl/impreza/automadness-assen-2/
LOCATION:Assen\, Holandia
CATEGORIES:Zlot
END:VEVENT
BEGIN:VEVENT
DTSTART;TZID=Europe/Helsinki:20250323T110000
DTEND;TZID=Europe/Helsinki:20250323T170000
DTSTAMP:20260422T135428
CREATED:20241228T165922Z
LAST-MODIFIED:20241228T165922Z
UID:107529-1742727600-1742749200@klassikauto.pl
SUMMARY:Frühlingserwachen 2025 - Oldtimer und Youngtimertreffen
DESCRIPTION:
URL:https://klassikauto.pl/impreza/fruhlingserwachen-2025-oldtimer-und-youngtimertreffen/
LOCATION:Wuppertal\, Niemcy
CATEGORIES:Zlot
END:VEVENT
BEGIN:VEVENT
DTSTART;TZID=Europe/Helsinki:20250323T110000
DTEND;TZID=Europe/Helsinki:20250323T170000
DTSTAMP:20260422T135428
CREATED:20250301T101523Z
LAST-MODIFIED:20250301T101523Z
UID:108859-1742727600-1742749200@klassikauto.pl
SUMMARY:Motortreff am Flugfeld – Saisonauftakt powered by Allianz
DESCRIPTION:
URL:https://klassikauto.pl/impreza/motortreff-am-flugfeld-saisonauftakt-powered-by-allianz/
LOCATION:Böblingen\, Niemcy
CATEGORIES:Zlot
END:VEVENT
BEGIN:VEVENT
DTSTART;TZID=Europe/Helsinki:20250323T120000
DTEND;TZID=Europe/Helsinki:20250323T120000
DTSTAMP:20260422T135428
CREATED:20250223T153827Z
LAST-MODIFIED:20250223T153827Z
UID:108644-1742731200-1742731200@klassikauto.pl
SUMMARY:Motocyklowe Powitanie Wiosny\, Głodówka 2025
DESCRIPTION:
URL:https://klassikauto.pl/impreza/motocyklowe-powitanie-wiosny-glodowka-2025/
LOCATION:Brzegi
CATEGORIES:Zlot
END:VEVENT
BEGIN:VEVENT
DTSTART;TZID=Europe/Helsinki:20250323T120000
DTEND;TZID=Europe/Helsinki:20250323T150000
DTSTAMP:20260422T135428
CREATED:20250224T163004Z
LAST-MODIFIED:20250224T163004Z
UID:108720-1742731200-1742742000@klassikauto.pl
SUMMARY:Marcowy Spot dla Wszystkich Marek
DESCRIPTION:
URL:https://klassikauto.pl/impreza/marcowy-spot-dla-wszystkich-marek/
LOCATION:Kwidzyń
CATEGORIES:Spot
END:VEVENT
BEGIN:VEVENT
DTSTART;VALUE=DATE:20250328
DTEND;VALUE=DATE:20250331
DTSTAMP:20260422T135428
CREATED:20241228T162141Z
LAST-MODIFIED:20241228T162141Z
UID:107509-1743120000-1743379199@klassikauto.pl
SUMMARY:Warsaw Motorcycle Show – 6 edycja
DESCRIPTION:
URL:https://klassikauto.pl/impreza/warsaw-motorcycle-show-6-edycja/
LOCATION:Warszawa
CATEGORIES:Targi
END:VEVENT
BEGIN:VEVENT
DTSTART;VALUE=DATE:20250328
DTEND;VALUE=DATE:20250331
DTSTAMP:20260422T135428
CREATED:20241228T162736Z
LAST-MODIFIED:20241228T162736Z
UID:107511-1743120000-1743379199@klassikauto.pl
SUMMARY:AMTS Budapest 2025
DESCRIPTION:
URL:https://klassikauto.pl/impreza/amts-budapest-2025/
LOCATION:Budapeszt
CATEGORIES:Targi
END:VEVENT
BEGIN:VEVENT
DTSTART;VALUE=DATE:20250329
DTEND;VALUE=DATE:20250330
DTSTAMP:20260422T135428
CREATED:20241229T102806Z
LAST-MODIFIED:20241229T102806Z
UID:107612-1743206400-1743292799@klassikauto.pl
SUMMARY:Auto moto velo burza v Hobšovicích
DESCRIPTION:
URL:https://klassikauto.pl/impreza/auto-moto-velo-burza-v-hobsovicich-8/
LOCATION:Hobšovice\, Czechy
CATEGORIES:Giełda
END:VEVENT
BEGIN:VEVENT
DTSTART;TZID=Europe/Helsinki:20250329T080000
DTEND;TZID=Europe/Helsinki:20250329T080000
DTSTAMP:20260422T135428
CREATED:20250301T101103Z
LAST-MODIFIED:20250301T101103Z
UID:108857-1743235200-1743235200@klassikauto.pl
SUMMARY:4. US Car Treffen bei den NitrOlympX auf dem Hockenheimring
DESCRIPTION:
URL:https://klassikauto.pl/impreza/4-us-car-treffen-bei-den-nitrolympx-auf-dem-hockenheimring/
LOCATION:Hockenheim\, Germany
CATEGORIES:Zlot
END:VEVENT
BEGIN:VEVENT
DTSTART;TZID=Europe/Helsinki:20250329T090000
DTEND;TZID=Europe/Helsinki:20250329T090000
DTSTAMP:20260422T135428
CREATED:20250224T152649Z
LAST-MODIFIED:20250224T152649Z
UID:108680-1743238800-1743238800@klassikauto.pl
SUMMARY:Runda I Pucharu Youngtimer Party
DESCRIPTION:
URL:https://klassikauto.pl/impreza/runda-i-pucharu-youngtimer-party/
LOCATION:Poznań
CATEGORIES:Rajd
END:VEVENT
BEGIN:VEVENT
DTSTART;TZID=Europe/Helsinki:20250329T120000
DTEND;TZID=Europe/Helsinki:20250329T120000
DTSTAMP:20260422T135428
CREATED:20241229T114128Z
LAST-MODIFIED:20241229T114128Z
UID:107658-1743249600-1743249600@klassikauto.pl
SUMMARY:Classic cars\, motorcycles and automobilia auction
DESCRIPTION:
URL:https://klassikauto.pl/impreza/classic-cars-motorcycles-and-automobilia-auction/
LOCATION:Goole\, Wielka Brytania
CATEGORIES:Aukcja
END:VEVENT
END:VCALENDAR
<!-- RunCloud Hub 2026-04-22 12:54:28 -->